BEGIN:VCALENDAR
VERSION:2.0
PRODID:-//Franklin County Ohio Amateur Radio Emergency Service - ECPv6.15.20//NONSGML v1.0//EN
CALSCALE:GREGORIAN
METHOD:PUBLISH
X-WR-CALNAME:Franklin County Ohio Amateur Radio Emergency Service
X-ORIGINAL-URL:https://franklincountyohioares.org
X-WR-CALDESC:Events for Franklin County Ohio Amateur Radio Emergency Service
REFRESH-INTERVAL;VALUE=DURATION:PT1H
X-Robots-Tag:noindex
X-PUBLISHED-TTL:PT1H
BEGIN:VTIMEZONE
TZID:America/New_York
BEGIN:DAYLIGHT
TZOFFSETFROM:-0500
TZOFFSETTO:-0400
TZNAME:EDT
DTSTART:20230312T070000
END:DAYLIGHT
BEGIN:STANDARD
TZOFFSETFROM:-0400
TZOFFSETTO:-0500
TZNAME:EST
DTSTART:20231105T060000
END:STANDARD
BEGIN:DAYLIGHT
TZOFFSETFROM:-0500
TZOFFSETTO:-0400
TZNAME:EDT
DTSTART:20240310T070000
END:DAYLIGHT
BEGIN:STANDARD
TZOFFSETFROM:-0400
TZOFFSETTO:-0500
TZNAME:EST
DTSTART:20241103T060000
END:STANDARD
BEGIN:DAYLIGHT
TZOFFSETFROM:-0500
TZOFFSETTO:-0400
TZNAME:EDT
DTSTART:20250309T070000
END:DAYLIGHT
BEGIN:STANDARD
TZOFFSETFROM:-0400
TZOFFSETTO:-0500
TZNAME:EST
DTSTART:20251102T060000
END:STANDARD
BEGIN:DAYLIGHT
TZOFFSETFROM:-0500
TZOFFSETTO:-0400
TZNAME:EDT
DTSTART:20260308T070000
END:DAYLIGHT
BEGIN:STANDARD
TZOFFSETFROM:-0400
TZOFFSETTO:-0500
TZNAME:EST
DTSTART:20261101T060000
END:STANDARD
END:VTIMEZONE
BEGIN:VEVENT
DTSTART;VALUE=DATE:20250302
DTEND;VALUE=DATE:20250303
DTSTAMP:20260422T090044
CREATED:20241209T170602Z
LAST-MODIFIED:20241209T170620Z
UID:2764-1740873600-1740959999@franklincountyohioares.org
SUMMARY:Arnold Pump and Run
DESCRIPTION:Volunteer link to be added.
URL:https://franklincountyohioares.org/event/arnold-pump-and-run-5/
LOCATION:Greater Columbus Convention Center\, 400 N High St\, Columbus\, Columbus\, OH\, 43215
CATEGORIES:Events
ORGANIZER;CN="Paul Flautt":MAILTO:kb8cmw@arrl.net
END:VEVENT
BEGIN:VEVENT
DTSTART;VALUE=DATE:20250228
DTEND;VALUE=DATE:20250303
DTSTAMP:20260422T090044
CREATED:20241209T165913Z
LAST-MODIFIED:20241220T014157Z
UID:2758-1740700800-1740959999@franklincountyohioares.org
SUMMARY:Arnold Sports Festival
DESCRIPTION:Volunteer Link
URL:https://franklincountyohioares.org/event/arnold-sports-festival-4/
LOCATION:Greater Columbus Convention Center\, 400 N High St\, Columbus\, Columbus\, OH\, 43215
CATEGORIES:Events
ORGANIZER;CN="Patrick Gibson KD8ION":MAILTO:kd8ion@gmail.com
END:VEVENT
BEGIN:VEVENT
DTSTART;TZID=America/New_York:20250226T200000
DTEND;TZID=America/New_York:20250226T210000
DTSTAMP:20260422T090044
CREATED:20241220T012605Z
LAST-MODIFIED:20241220T013409Z
UID:2782-1740600000-1740603600@franklincountyohioares.org
SUMMARY:Wednesday Weekly Net
DESCRIPTION:Join Franklin County Ohio ARES this Wednesday for an on-air meeting where topics related to ARES are discussed.  The meeting will take place on 147.060+ with a PL of 94.8 Hz. or 444.275+ with a PL 94.8 Hz.
URL:https://franklincountyohioares.org/event/wednesday-weekly-net-355/
CATEGORIES:Weekly Net
END:VEVENT
BEGIN:VEVENT
DTSTART;TZID=America/New_York:20250219T193000
DTEND;TZID=America/New_York:20250219T210000
DTSTAMP:20260422T090044
CREATED:20241220T012605Z
LAST-MODIFIED:20241220T013409Z
UID:2781-1739993400-1739998800@franklincountyohioares.org
SUMMARY:In Person Meeting
DESCRIPTION:If you’re interested in Amateur Radio and want to find out what it is we do\, come to our meeting to find out more. John – N8PVCEmergency Coordinator\, Franklin County Ohio ARES
URL:https://franklincountyohioares.org/event/in-person-meeting-103/
LOCATION:Franklin County EMA\, 5300 Strawberry Farms Blvd\, Columbus\, OH\, 43230-1049\, United States
CATEGORIES:In Person,In Person Meeting
END:VEVENT
BEGIN:VEVENT
DTSTART;TZID=America/New_York:20250212T200000
DTEND;TZID=America/New_York:20250212T210000
DTSTAMP:20260422T090044
CREATED:20241220T012605Z
LAST-MODIFIED:20241220T013409Z
UID:2780-1739390400-1739394000@franklincountyohioares.org
SUMMARY:Wednesday Weekly Net
DESCRIPTION:Join Franklin County Ohio ARES this Wednesday for an on-air meeting where topics related to ARES are discussed.  The meeting will take place on 147.060+ with a PL of 94.8 Hz. or 444.275+ with a PL 94.8 Hz.
URL:https://franklincountyohioares.org/event/wednesday-weekly-net-354/
CATEGORIES:Weekly Net
END:VEVENT
BEGIN:VEVENT
DTSTART;TZID=America/New_York:20250205T200000
DTEND;TZID=America/New_York:20250205T210000
DTSTAMP:20260422T090044
CREATED:20241220T012605Z
LAST-MODIFIED:20241220T013409Z
UID:2779-1738785600-1738789200@franklincountyohioares.org
SUMMARY:Wednesday Weekly Net
DESCRIPTION:Join Franklin County Ohio ARES this Wednesday for an on-air meeting where topics related to ARES are discussed.  The meeting will take place on 147.060+ with a PL of 94.8 Hz. or 444.275+ with a PL 94.8 Hz.
URL:https://franklincountyohioares.org/event/wednesday-weekly-net-353/
CATEGORIES:Weekly Net
END:VEVENT
BEGIN:VEVENT
DTSTART;TZID=America/New_York:20250129T200000
DTEND;TZID=America/New_York:20250129T210000
DTSTAMP:20260422T090044
CREATED:20241220T012602Z
LAST-MODIFIED:20241220T013407Z
UID:2778-1738180800-1738184400@franklincountyohioares.org
SUMMARY:Wednesday Weekly Net
DESCRIPTION:Join Franklin County Ohio ARES this Wednesday for an on-air meeting where topics related to ARES are discussed.  The meeting will take place on 147.060+ with a PL of 94.8 Hz. or 444.275+ with a PL 94.8 Hz.
URL:https://franklincountyohioares.org/event/wednesday-weekly-net-352/
CATEGORIES:Weekly Net
END:VEVENT
BEGIN:VEVENT
DTSTART;TZID=America/New_York:20250122T200000
DTEND;TZID=America/New_York:20250122T210000
DTSTAMP:20260422T090044
CREATED:20241220T012601Z
LAST-MODIFIED:20241220T013407Z
UID:2777-1737576000-1737579600@franklincountyohioares.org
SUMMARY:Wednesday Weekly Net
DESCRIPTION:Join Franklin County Ohio ARES this Wednesday for an on-air meeting where topics related to ARES are discussed.  The meeting will take place on 147.060+ with a PL of 94.8 Hz. or 444.275+ with a PL 94.8 Hz.
URL:https://franklincountyohioares.org/event/wednesday-weekly-net-351/
CATEGORIES:Weekly Net
END:VEVENT
BEGIN:VEVENT
DTSTART;TZID=America/New_York:20250115T193000
DTEND;TZID=America/New_York:20250115T210000
DTSTAMP:20260422T090044
CREATED:20231225T042531Z
LAST-MODIFIED:20241220T013407Z
UID:2503-1736969400-1736974800@franklincountyohioares.org
SUMMARY:In Person Meeting
DESCRIPTION:If you’re interested in Amateur Radio and want to find out what it is we do\, come to our meeting to find out more. John – N8PVCEmergency Coordinator\, Franklin County Ohio ARES
URL:https://franklincountyohioares.org/event/in-person-meeting-91/
LOCATION:Franklin County EMA\, 5300 Strawberry Farms Blvd\, Columbus\, OH\, 43230-1049\, United States
CATEGORIES:In Person,In Person Meeting
END:VEVENT
BEGIN:VEVENT
DTSTART;TZID=America/New_York:20250108T200000
DTEND;TZID=America/New_York:20250108T210000
DTSTAMP:20260422T090044
CREATED:20231225T042531Z
LAST-MODIFIED:20241220T013407Z
UID:2502-1736366400-1736370000@franklincountyohioares.org
SUMMARY:Wednesday Weekly Net
DESCRIPTION:Join Franklin County Ohio ARES this Wednesday for an on-air meeting where topics related to ARES are discussed.  The meeting will take place on 147.060+ with a PL of 94.8 Hz. or 444.275+ with a PL 94.8 Hz.
URL:https://franklincountyohioares.org/event/wednesday-weekly-net-313/
CATEGORIES:Weekly Net
END:VEVENT
BEGIN:VEVENT
DTSTART;TZID=America/New_York:20250101T200000
DTEND;TZID=America/New_York:20250101T210000
DTSTAMP:20260422T090044
CREATED:20231225T042530Z
LAST-MODIFIED:20241220T013407Z
UID:2501-1735761600-1735765200@franklincountyohioares.org
SUMMARY:Wednesday Weekly Net
DESCRIPTION:Join Franklin County Ohio ARES this Wednesday for an on-air meeting where topics related to ARES are discussed.  The meeting will take place on 147.060+ with a PL of 94.8 Hz. or 444.275+ with a PL 94.8 Hz.
URL:https://franklincountyohioares.org/event/wednesday-weekly-net-312/
CATEGORIES:Weekly Net
END:VEVENT
BEGIN:VEVENT
DTSTART;TZID=America/New_York:20241225T200000
DTEND;TZID=America/New_York:20241225T210000
DTSTAMP:20260422T090044
CREATED:20231225T042530Z
LAST-MODIFIED:20231225T042530Z
UID:2500-1735156800-1735160400@franklincountyohioares.org
SUMMARY:Wednesday Weekly Net
DESCRIPTION:Join Franklin County Ohio ARES this Wednesday for an on-air meeting where topics related to ARES are discussed.  The meeting will take place on 147.060+ with a PL of 94.8 Hz. or 444.275+ with a PL 94.8 Hz.
URL:https://franklincountyohioares.org/event/wednesday-weekly-net-311/
CATEGORIES:Weekly Net
END:VEVENT
BEGIN:VEVENT
DTSTART;TZID=America/New_York:20241218T193000
DTEND;TZID=America/New_York:20241218T210000
DTSTAMP:20260422T090044
CREATED:20231225T042530Z
LAST-MODIFIED:20231225T042530Z
UID:2499-1734550200-1734555600@franklincountyohioares.org
SUMMARY:In Person Meeting
DESCRIPTION:If you’re interested in Amateur Radio and want to find out what it is we do\, come to our meeting to find out more. John – N8PVCEmergency Coordinator\, Franklin County Ohio ARES
URL:https://franklincountyohioares.org/event/in-person-meeting-90/
LOCATION:Franklin County EMA\, 5300 Strawberry Farms Blvd\, Columbus\, OH\, 43230-1049\, United States
CATEGORIES:In Person,In Person Meeting
END:VEVENT
BEGIN:VEVENT
DTSTART;TZID=America/New_York:20241211T200000
DTEND;TZID=America/New_York:20241211T210000
DTSTAMP:20260422T090044
CREATED:20231225T042516Z
LAST-MODIFIED:20231225T042516Z
UID:2498-1733947200-1733950800@franklincountyohioares.org
SUMMARY:Wednesday Weekly Net
DESCRIPTION:Join Franklin County Ohio ARES this Wednesday for an on-air meeting where topics related to ARES are discussed.  The meeting will take place on 147.060+ with a PL of 94.8 Hz. or 444.275+ with a PL 94.8 Hz.
URL:https://franklincountyohioares.org/event/wednesday-weekly-net-310/
CATEGORIES:Weekly Net
END:VEVENT
BEGIN:VEVENT
DTSTART;TZID=America/New_York:20241204T200000
DTEND;TZID=America/New_York:20241204T210000
DTSTAMP:20260422T090044
CREATED:20231225T042516Z
LAST-MODIFIED:20231225T042516Z
UID:2497-1733342400-1733346000@franklincountyohioares.org
SUMMARY:Wednesday Weekly Net
DESCRIPTION:Join Franklin County Ohio ARES this Wednesday for an on-air meeting where topics related to ARES are discussed.  The meeting will take place on 147.060+ with a PL of 94.8 Hz. or 444.275+ with a PL 94.8 Hz.
URL:https://franklincountyohioares.org/event/wednesday-weekly-net-309/
CATEGORIES:Weekly Net
END:VEVENT
BEGIN:VEVENT
DTSTART;TZID=America/New_York:20241127T200000
DTEND;TZID=America/New_York:20241127T210000
DTSTAMP:20260422T090044
CREATED:20231225T042516Z
LAST-MODIFIED:20231225T042516Z
UID:2496-1732737600-1732741200@franklincountyohioares.org
SUMMARY:Wednesday Weekly Net
DESCRIPTION:Join Franklin County Ohio ARES this Wednesday for an on-air meeting where topics related to ARES are discussed.  The meeting will take place on 147.060+ with a PL of 94.8 Hz. or 444.275+ with a PL 94.8 Hz.
URL:https://franklincountyohioares.org/event/wednesday-weekly-net-308/
CATEGORIES:Weekly Net
END:VEVENT
BEGIN:VEVENT
DTSTART;TZID=America/New_York:20241120T193000
DTEND;TZID=America/New_York:20241120T210000
DTSTAMP:20260422T090044
CREATED:20231225T042515Z
LAST-MODIFIED:20231225T042515Z
UID:2495-1732131000-1732136400@franklincountyohioares.org
SUMMARY:In Person Meeting
DESCRIPTION:If you’re interested in Amateur Radio and want to find out what it is we do\, come to our meeting to find out more. John – N8PVCEmergency Coordinator\, Franklin County Ohio ARES
URL:https://franklincountyohioares.org/event/in-person-meeting-89/
LOCATION:Franklin County EMA\, 5300 Strawberry Farms Blvd\, Columbus\, OH\, 43230-1049\, United States
CATEGORIES:In Person,In Person Meeting
END:VEVENT
BEGIN:VEVENT
DTSTART;TZID=America/New_York:20241113T200000
DTEND;TZID=America/New_York:20241113T210000
DTSTAMP:20260422T090044
CREATED:20231225T042515Z
LAST-MODIFIED:20231225T042515Z
UID:2494-1731528000-1731531600@franklincountyohioares.org
SUMMARY:Wednesday Weekly Net
DESCRIPTION:Join Franklin County Ohio ARES this Wednesday for an on-air meeting where topics related to ARES are discussed.  The meeting will take place on 147.060+ with a PL of 94.8 Hz. or 444.275+ with a PL 94.8 Hz.
URL:https://franklincountyohioares.org/event/wednesday-weekly-net-307/
CATEGORIES:Weekly Net
END:VEVENT
BEGIN:VEVENT
DTSTART;TZID=America/New_York:20241106T200000
DTEND;TZID=America/New_York:20241106T210000
DTSTAMP:20260422T090044
CREATED:20231225T042501Z
LAST-MODIFIED:20231225T042501Z
UID:2493-1730923200-1730926800@franklincountyohioares.org
SUMMARY:Wednesday Weekly Net
DESCRIPTION:Join Franklin County Ohio ARES this Wednesday for an on-air meeting where topics related to ARES are discussed.  The meeting will take place on 147.060+ with a PL of 94.8 Hz. or 444.275+ with a PL 94.8 Hz.
URL:https://franklincountyohioares.org/event/wednesday-weekly-net-306/
CATEGORIES:Weekly Net
END:VEVENT
BEGIN:VEVENT
DTSTART;TZID=America/New_York:20241030T200000
DTEND;TZID=America/New_York:20241030T210000
DTSTAMP:20260422T090044
CREATED:20231225T042501Z
LAST-MODIFIED:20231225T042501Z
UID:2492-1730318400-1730322000@franklincountyohioares.org
SUMMARY:Wednesday Weekly Net
DESCRIPTION:Join Franklin County Ohio ARES this Wednesday for an on-air meeting where topics related to ARES are discussed.  The meeting will take place on 147.060+ with a PL of 94.8 Hz. or 444.275+ with a PL 94.8 Hz.
URL:https://franklincountyohioares.org/event/wednesday-weekly-net-305/
CATEGORIES:Weekly Net
END:VEVENT
BEGIN:VEVENT
DTSTART;TZID=America/New_York:20241023T200000
DTEND;TZID=America/New_York:20241023T210000
DTSTAMP:20260422T090044
CREATED:20231225T042501Z
LAST-MODIFIED:20231225T042501Z
UID:2491-1729713600-1729717200@franklincountyohioares.org
SUMMARY:Wednesday Weekly Net
DESCRIPTION:Join Franklin County Ohio ARES this Wednesday for an on-air meeting where topics related to ARES are discussed.  The meeting will take place on 147.060+ with a PL of 94.8 Hz. or 444.275+ with a PL 94.8 Hz.
URL:https://franklincountyohioares.org/event/wednesday-weekly-net-304/
CATEGORIES:Weekly Net
END:VEVENT
BEGIN:VEVENT
DTSTART;TZID=America/New_York:20241020T060000
DTEND;TZID=America/New_York:20241020T143000
DTSTAMP:20260422T090044
CREATED:20231220T021846Z
LAST-MODIFIED:20240918T235942Z
UID:2393-1729404000-1729434600@franklincountyohioares.org
SUMMARY:Columbus Marathon
DESCRIPTION:Volunteer Registration
URL:https://franklincountyohioares.org/event/arch-park-mcferson-commons-park/
LOCATION:Arch Park – McFerson Commons Park\, 218 West Street\, Columbus\, OH\, 43215\, United States
CATEGORIES:Events
ORGANIZER;CN="Kal Dworkin - KA8RLC":MAILTO:KA8RLC@columbus.rr.com
END:VEVENT
BEGIN:VEVENT
DTSTART;VALUE=DATE:20241017
DTEND;VALUE=DATE:20241018
DTSTAMP:20260422T090044
CREATED:20240516T110805Z
LAST-MODIFIED:20240516T110805Z
UID:2610-1729123200-1729209599@franklincountyohioares.org
SUMMARY:Great American Shake Out Earth Quake Drill
DESCRIPTION:
URL:https://franklincountyohioares.org/event/great-american-shake-out-earth-quake-drill/
CATEGORIES:Events
END:VEVENT
BEGIN:VEVENT
DTSTART;TZID=America/New_York:20241016T193000
DTEND;TZID=America/New_York:20241016T210000
DTSTAMP:20260422T090044
CREATED:20231225T042501Z
LAST-MODIFIED:20231225T042501Z
UID:2490-1729107000-1729112400@franklincountyohioares.org
SUMMARY:In Person Meeting
DESCRIPTION:If you’re interested in Amateur Radio and want to find out what it is we do\, come to our meeting to find out more. John – N8PVCEmergency Coordinator\, Franklin County Ohio ARES
URL:https://franklincountyohioares.org/event/in-person-meeting-88/
LOCATION:Franklin County EMA\, 5300 Strawberry Farms Blvd\, Columbus\, OH\, 43230-1049\, United States
CATEGORIES:In Person,In Person Meeting
END:VEVENT
BEGIN:VEVENT
DTSTART;VALUE=DATE:20241013
DTEND;VALUE=DATE:20241014
DTSTAMP:20260422T090044
CREATED:20240516T110707Z
LAST-MODIFIED:20240516T110707Z
UID:2608-1728777600-1728863999@franklincountyohioares.org
SUMMARY:Crop Walk
DESCRIPTION:
URL:https://franklincountyohioares.org/event/crop-walk/
LOCATION:Columbus Crop Walk\, 400 W. Whittier St\, Columbus\, OH\, 43215\, United States
CATEGORIES:Events
ORGANIZER;CN="Frank Huffman-K8OVP":MAILTO:K8OVP@arrl.net
END:VEVENT
BEGIN:VEVENT
DTSTART;VALUE=DATE:20241010
DTEND;VALUE=DATE:20241011
DTSTAMP:20260422T090044
CREATED:20240516T110454Z
LAST-MODIFIED:20240516T110507Z
UID:2603-1728518400-1728604799@franklincountyohioares.org
SUMMARY:CRAA FSE - Bolton Field
DESCRIPTION:
URL:https://franklincountyohioares.org/event/craa-fse-bolton-field/
LOCATION:Bolton Field\, 2000 Norton Rd\, Columbus\, OH\, 43228\, United States
CATEGORIES:Events
ORGANIZER;CN="Kal Dworkin - KA8RLC":MAILTO:KA8RLC@columbus.rr.com
END:VEVENT
BEGIN:VEVENT
DTSTART;TZID=America/New_York:20241009T200000
DTEND;TZID=America/New_York:20241009T210000
DTSTAMP:20260422T090044
CREATED:20231225T042501Z
LAST-MODIFIED:20231225T042501Z
UID:2489-1728504000-1728507600@franklincountyohioares.org
SUMMARY:Wednesday Weekly Net
DESCRIPTION:Join Franklin County Ohio ARES this Wednesday for an on-air meeting where topics related to ARES are discussed.  The meeting will take place on 147.060+ with a PL of 94.8 Hz. or 444.275+ with a PL 94.8 Hz.
URL:https://franklincountyohioares.org/event/wednesday-weekly-net-303/
CATEGORIES:Weekly Net
END:VEVENT
BEGIN:VEVENT
DTSTART;TZID=America/New_York:20241002T200000
DTEND;TZID=America/New_York:20241002T210000
DTSTAMP:20260422T090044
CREATED:20231225T042446Z
LAST-MODIFIED:20231225T042446Z
UID:2488-1727899200-1727902800@franklincountyohioares.org
SUMMARY:Wednesday Weekly Net
DESCRIPTION:Join Franklin County Ohio ARES this Wednesday for an on-air meeting where topics related to ARES are discussed.  The meeting will take place on 147.060+ with a PL of 94.8 Hz. or 444.275+ with a PL 94.8 Hz.
URL:https://franklincountyohioares.org/event/wednesday-weekly-net-302/
CATEGORIES:Weekly Net
END:VEVENT
BEGIN:VEVENT
DTSTART;TZID=America/New_York:20240925T200000
DTEND;TZID=America/New_York:20240925T210000
DTSTAMP:20260422T090045
CREATED:20231225T042446Z
LAST-MODIFIED:20231225T042446Z
UID:2487-1727294400-1727298000@franklincountyohioares.org
SUMMARY:Wednesday Weekly Net
DESCRIPTION:Join Franklin County Ohio ARES this Wednesday for an on-air meeting where topics related to ARES are discussed.  The meeting will take place on 147.060+ with a PL of 94.8 Hz. or 444.275+ with a PL 94.8 Hz.
URL:https://franklincountyohioares.org/event/wednesday-weekly-net-301/
CATEGORIES:Weekly Net
END:VEVENT
BEGIN:VEVENT
DTSTART;VALUE=DATE:20240922
DTEND;VALUE=DATE:20240923
DTSTAMP:20260422T090045
CREATED:20240814T023014Z
LAST-MODIFIED:20240814T172401Z
UID:2655-1726963200-1727049599@franklincountyohioares.org
SUMMARY:DEER CREEK OHIO FALL CHALLENGE
DESCRIPTION:Call
URL:https://franklincountyohioares.org/event/deer-creek-ohio-fall-challenge/
LOCATION:DEER CREEK STATE PARK\, 20635 State Park Road 20\, Mount Sterling\, OH\, 43143\, United States
CATEGORIES:Events
ORGANIZER;CN="Bradley Howard [KE8SVT]":MAILTO:bradley.howard8@icloud.com
END:VEVENT
END:VCALENDAR