BEGIN:VCALENDAR
VERSION:2.0
PRODID:-//Franklin County Ohio Amateur Radio Emergency Service - ECPv6.15.20//NONSGML v1.0//EN
CALSCALE:GREGORIAN
METHOD:PUBLISH
X-ORIGINAL-URL:https://franklincountyohioares.org
X-WR-CALDESC:Events for Franklin County Ohio Amateur Radio Emergency Service
REFRESH-INTERVAL;VALUE=DURATION:PT1H
X-Robots-Tag:noindex
X-PUBLISHED-TTL:PT1H
BEGIN:VTIMEZONE
TZID:America/New_York
BEGIN:DAYLIGHT
TZOFFSETFROM:-0500
TZOFFSETTO:-0400
TZNAME:EDT
DTSTART:20250309T070000
END:DAYLIGHT
BEGIN:STANDARD
TZOFFSETFROM:-0400
TZOFFSETTO:-0500
TZNAME:EST
DTSTART:20251102T060000
END:STANDARD
BEGIN:DAYLIGHT
TZOFFSETFROM:-0500
TZOFFSETTO:-0400
TZNAME:EDT
DTSTART:20260308T070000
END:DAYLIGHT
BEGIN:STANDARD
TZOFFSETFROM:-0400
TZOFFSETTO:-0500
TZNAME:EST
DTSTART:20261101T060000
END:STANDARD
BEGIN:DAYLIGHT
TZOFFSETFROM:-0500
TZOFFSETTO:-0400
TZNAME:EDT
DTSTART:20270314T070000
END:DAYLIGHT
BEGIN:STANDARD
TZOFFSETFROM:-0400
TZOFFSETTO:-0500
TZNAME:EST
DTSTART:20271107T060000
END:STANDARD
BEGIN:DAYLIGHT
TZOFFSETFROM:-0500
TZOFFSETTO:-0400
TZNAME:EDT
DTSTART:20280312T070000
END:DAYLIGHT
BEGIN:STANDARD
TZOFFSETFROM:-0400
TZOFFSETTO:-0500
TZNAME:EST
DTSTART:20281105T060000
END:STANDARD
END:VTIMEZONE
BEGIN:VEVENT
DTSTART;VALUE=DATE:20260919
DTEND;VALUE=DATE:20260920
DTSTAMP:20260421T172203
CREATED:20260207T154235Z
LAST-MODIFIED:20260207T154235Z
UID:5086-1789776000-1789862399@franklincountyohioares.org
SUMMARY:Ohio Fall Challenge at Deer Creek
DESCRIPTION:No information available.
URL:https://franklincountyohioares.org/event/ohio-fall-challenge-at-deer-creek/
LOCATION:DEER CREEK STATE PARK\, 20635 State Park Road 20\, Mount Sterling\, OH\, 43143\, United States
CATEGORIES:Events
ORGANIZER;CN="Brian Burlet-KE8ANW":MAILTO:ke8anw@yahoo.com
END:VEVENT
BEGIN:VEVENT
DTSTART;TZID=America/New_York:20260923T200000
DTEND;TZID=America/New_York:20260923T210000
DTSTAMP:20260421T172203
CREATED:20251214T124907Z
LAST-MODIFIED:20251214T124907Z
UID:4810-1790193600-1790197200@franklincountyohioares.org
SUMMARY:Wednesday Weekly Net
DESCRIPTION:Join Franklin County Ohio ARES this Wednesday for an on-air meeting where topics related to ARES are discussed.  The meeting will take place on 147.060+ with a PL of 94.8 Hz. or 444.275+ with a PL 94.8 Hz.
URL:https://franklincountyohioares.org/event/wednesday-weekly-net-416/
CATEGORIES:Weekly Net
END:VEVENT
BEGIN:VEVENT
DTSTART;TZID=America/New_York:20260930T200000
DTEND;TZID=America/New_York:20260930T210000
DTSTAMP:20260421T172203
CREATED:20251214T124907Z
LAST-MODIFIED:20251214T124907Z
UID:4811-1790798400-1790802000@franklincountyohioares.org
SUMMARY:Wednesday Weekly Net
DESCRIPTION:Join Franklin County Ohio ARES this Wednesday for an on-air meeting where topics related to ARES are discussed.  The meeting will take place on 147.060+ with a PL of 94.8 Hz. or 444.275+ with a PL 94.8 Hz.
URL:https://franklincountyohioares.org/event/wednesday-weekly-net-417/
CATEGORIES:Weekly Net
END:VEVENT
BEGIN:VEVENT
DTSTART;TZID=America/New_York:20261007T200000
DTEND;TZID=America/New_York:20261007T210000
DTSTAMP:20260421T172203
CREATED:20251214T124908Z
LAST-MODIFIED:20251214T124908Z
UID:4812-1791403200-1791406800@franklincountyohioares.org
SUMMARY:Wednesday Weekly Net
DESCRIPTION:Join Franklin County Ohio ARES this Wednesday for an on-air meeting where topics related to ARES are discussed.  The meeting will take place on 147.060+ with a PL of 94.8 Hz. or 444.275+ with a PL 94.8 Hz.
URL:https://franklincountyohioares.org/event/wednesday-weekly-net-418/
CATEGORIES:Weekly Net
END:VEVENT
BEGIN:VEVENT
DTSTART;TZID=America/New_York:20261014T193000
DTEND;TZID=America/New_York:20261014T210000
DTSTAMP:20260421T172203
CREATED:20251214T124917Z
LAST-MODIFIED:20260207T161301Z
UID:4814-1792006200-1792011600@franklincountyohioares.org
SUMMARY:In Person Meeting
DESCRIPTION:If you’re interested in Amateur Radio and want to find out what it is we do\, come to our meeting to find out more. John – N8PVCEmergency Coordinator\, Franklin County Ohio ARES
URL:https://franklincountyohioares.org/event/in-person-meeting-124/
LOCATION:Franklin County EMA\, 5300 Strawberry Farms Blvd\, Columbus\, OH\, 43230-1049\, United States
CATEGORIES:In Person,In Person Meeting
END:VEVENT
BEGIN:VEVENT
DTSTART;TZID=America/New_York:20261018T080000
DTEND;TZID=America/New_York:20261018T170000
DTSTAMP:20260421T172203
CREATED:20260207T154432Z
LAST-MODIFIED:20260207T154432Z
UID:5088-1792310400-1792342800@franklincountyohioares.org
SUMMARY:Nationwide Children's Hospital Marathon
DESCRIPTION:Marathon | Nationwide Children’s Hospital Columbus Marathon \n  \nVolunteer information will happen closer to the event.
URL:https://franklincountyohioares.org/event/nationwide-childrens-hospital-marathon/
LOCATION:ANTRIM PARK\, 5800 Olentangy River Rd\, Columbus\, OH\, 43085\, United States
CATEGORIES:Events
ORGANIZER;CN="Kal Dworkin - KA8RLC":MAILTO:KA8RLC@columbus.rr.com
END:VEVENT
BEGIN:VEVENT
DTSTART;TZID=America/New_York:20261021T200000
DTEND;TZID=America/New_York:20261021T210000
DTSTAMP:20260421T172203
CREATED:20251214T124917Z
LAST-MODIFIED:20260207T161335Z
UID:4813-1792612800-1792616400@franklincountyohioares.org
SUMMARY:Wednesday Weekly Net
DESCRIPTION:Join Franklin County Ohio ARES this Wednesday for an on-air meeting where topics related to ARES are discussed.  The meeting will take place on 147.060+ with a PL of 94.8 Hz. or 444.275+ with a PL 94.8 Hz.
URL:https://franklincountyohioares.org/event/wednesday-weekly-net-419/
CATEGORIES:Weekly Net
END:VEVENT
BEGIN:VEVENT
DTSTART;TZID=America/New_York:20261028T200000
DTEND;TZID=America/New_York:20261028T210000
DTSTAMP:20260421T172203
CREATED:20251214T124917Z
LAST-MODIFIED:20251214T124917Z
UID:4815-1793217600-1793221200@franklincountyohioares.org
SUMMARY:Wednesday Weekly Net
DESCRIPTION:Join Franklin County Ohio ARES this Wednesday for an on-air meeting where topics related to ARES are discussed.  The meeting will take place on 147.060+ with a PL of 94.8 Hz. or 444.275+ with a PL 94.8 Hz.
URL:https://franklincountyohioares.org/event/wednesday-weekly-net-420/
CATEGORIES:Weekly Net
END:VEVENT
BEGIN:VEVENT
DTSTART;TZID=America/New_York:20261104T200000
DTEND;TZID=America/New_York:20261104T210000
DTSTAMP:20260421T172203
CREATED:20251214T124917Z
LAST-MODIFIED:20251214T124917Z
UID:4816-1793822400-1793826000@franklincountyohioares.org
SUMMARY:Wednesday Weekly Net
DESCRIPTION:Join Franklin County Ohio ARES this Wednesday for an on-air meeting where topics related to ARES are discussed.  The meeting will take place on 147.060+ with a PL of 94.8 Hz. or 444.275+ with a PL 94.8 Hz.
URL:https://franklincountyohioares.org/event/wednesday-weekly-net-421/
CATEGORIES:Weekly Net
END:VEVENT
BEGIN:VEVENT
DTSTART;TZID=America/New_York:20261111T200000
DTEND;TZID=America/New_York:20261111T210000
DTSTAMP:20260421T172203
CREATED:20251214T124918Z
LAST-MODIFIED:20251214T124918Z
UID:4817-1794427200-1794430800@franklincountyohioares.org
SUMMARY:Wednesday Weekly Net
DESCRIPTION:Join Franklin County Ohio ARES this Wednesday for an on-air meeting where topics related to ARES are discussed.  The meeting will take place on 147.060+ with a PL of 94.8 Hz. or 444.275+ with a PL 94.8 Hz.
URL:https://franklincountyohioares.org/event/wednesday-weekly-net-422/
CATEGORIES:Weekly Net
END:VEVENT
BEGIN:VEVENT
DTSTART;TZID=America/New_York:20261118T193000
DTEND;TZID=America/New_York:20261118T210000
DTSTAMP:20260421T172203
CREATED:20251214T124920Z
LAST-MODIFIED:20251214T124920Z
UID:4818-1795030200-1795035600@franklincountyohioares.org
SUMMARY:In Person Meeting
DESCRIPTION:If you’re interested in Amateur Radio and want to find out what it is we do\, come to our meeting to find out more. John – N8PVCEmergency Coordinator\, Franklin County Ohio ARES
URL:https://franklincountyohioares.org/event/in-person-meeting-125/
LOCATION:Franklin County EMA\, 5300 Strawberry Farms Blvd\, Columbus\, OH\, 43230-1049\, United States
CATEGORIES:In Person,In Person Meeting
END:VEVENT
BEGIN:VEVENT
DTSTART;TZID=America/New_York:20261125T200000
DTEND;TZID=America/New_York:20261125T210000
DTSTAMP:20260421T172203
CREATED:20251214T124921Z
LAST-MODIFIED:20251214T124921Z
UID:4819-1795636800-1795640400@franklincountyohioares.org
SUMMARY:Wednesday Weekly Net
DESCRIPTION:Join Franklin County Ohio ARES this Wednesday for an on-air meeting where topics related to ARES are discussed.  The meeting will take place on 147.060+ with a PL of 94.8 Hz. or 444.275+ with a PL 94.8 Hz.
URL:https://franklincountyohioares.org/event/wednesday-weekly-net-423/
CATEGORIES:Weekly Net
END:VEVENT
BEGIN:VEVENT
DTSTART;TZID=America/New_York:20261202T200000
DTEND;TZID=America/New_York:20261202T210000
DTSTAMP:20260421T172203
CREATED:20251214T124921Z
LAST-MODIFIED:20251214T124921Z
UID:4820-1796241600-1796245200@franklincountyohioares.org
SUMMARY:Wednesday Weekly Net
DESCRIPTION:Join Franklin County Ohio ARES this Wednesday for an on-air meeting where topics related to ARES are discussed.  The meeting will take place on 147.060+ with a PL of 94.8 Hz. or 444.275+ with a PL 94.8 Hz.
URL:https://franklincountyohioares.org/event/wednesday-weekly-net-424/
CATEGORIES:Weekly Net
END:VEVENT
BEGIN:VEVENT
DTSTART;TZID=America/New_York:20261209T200000
DTEND;TZID=America/New_York:20261209T210000
DTSTAMP:20260421T172203
CREATED:20251214T124921Z
LAST-MODIFIED:20251214T124921Z
UID:4821-1796846400-1796850000@franklincountyohioares.org
SUMMARY:Wednesday Weekly Net
DESCRIPTION:Join Franklin County Ohio ARES this Wednesday for an on-air meeting where topics related to ARES are discussed.  The meeting will take place on 147.060+ with a PL of 94.8 Hz. or 444.275+ with a PL 94.8 Hz.
URL:https://franklincountyohioares.org/event/wednesday-weekly-net-425/
CATEGORIES:Weekly Net
END:VEVENT
BEGIN:VEVENT
DTSTART;TZID=America/New_York:20261216T193000
DTEND;TZID=America/New_York:20261216T210000
DTSTAMP:20260421T172203
CREATED:20251214T124921Z
LAST-MODIFIED:20251214T124921Z
UID:4822-1797449400-1797454800@franklincountyohioares.org
SUMMARY:In Person Meeting
DESCRIPTION:If you’re interested in Amateur Radio and want to find out what it is we do\, come to our meeting to find out more. John – N8PVCEmergency Coordinator\, Franklin County Ohio ARES
URL:https://franklincountyohioares.org/event/in-person-meeting-126/
LOCATION:Franklin County EMA\, 5300 Strawberry Farms Blvd\, Columbus\, OH\, 43230-1049\, United States
CATEGORIES:In Person,In Person Meeting
END:VEVENT
BEGIN:VEVENT
DTSTART;TZID=America/New_York:20261223T200000
DTEND;TZID=America/New_York:20261223T210000
DTSTAMP:20260421T172203
CREATED:20251214T124930Z
LAST-MODIFIED:20251214T124930Z
UID:4823-1798056000-1798059600@franklincountyohioares.org
SUMMARY:Wednesday Weekly Net
DESCRIPTION:Join Franklin County Ohio ARES this Wednesday for an on-air meeting where topics related to ARES are discussed.  The meeting will take place on 147.060+ with a PL of 94.8 Hz. or 444.275+ with a PL 94.8 Hz.
URL:https://franklincountyohioares.org/event/wednesday-weekly-net-426/
CATEGORIES:Weekly Net
END:VEVENT
BEGIN:VEVENT
DTSTART;TZID=America/New_York:20261230T200000
DTEND;TZID=America/New_York:20261230T210000
DTSTAMP:20260421T172203
CREATED:20251214T124931Z
LAST-MODIFIED:20251214T124931Z
UID:4824-1798660800-1798664400@franklincountyohioares.org
SUMMARY:Wednesday Weekly Net
DESCRIPTION:Join Franklin County Ohio ARES this Wednesday for an on-air meeting where topics related to ARES are discussed.  The meeting will take place on 147.060+ with a PL of 94.8 Hz. or 444.275+ with a PL 94.8 Hz.
URL:https://franklincountyohioares.org/event/wednesday-weekly-net-427/
CATEGORIES:Weekly Net
END:VEVENT
BEGIN:VEVENT
DTSTART;TZID=America/New_York:20270106T200000
DTEND;TZID=America/New_York:20270106T210000
DTSTAMP:20260421T172203
CREATED:20251214T124931Z
LAST-MODIFIED:20251214T124931Z
UID:4825-1799265600-1799269200@franklincountyohioares.org
SUMMARY:Wednesday Weekly Net
DESCRIPTION:Join Franklin County Ohio ARES this Wednesday for an on-air meeting where topics related to ARES are discussed.  The meeting will take place on 147.060+ with a PL of 94.8 Hz. or 444.275+ with a PL 94.8 Hz.
URL:https://franklincountyohioares.org/event/wednesday-weekly-net-428/
CATEGORIES:Weekly Net
END:VEVENT
BEGIN:VEVENT
DTSTART;TZID=America/New_York:20270113T200000
DTEND;TZID=America/New_York:20270113T210000
DTSTAMP:20260421T172203
CREATED:20251214T124931Z
LAST-MODIFIED:20251214T124931Z
UID:4826-1799870400-1799874000@franklincountyohioares.org
SUMMARY:Wednesday Weekly Net
DESCRIPTION:Join Franklin County Ohio ARES this Wednesday for an on-air meeting where topics related to ARES are discussed.  The meeting will take place on 147.060+ with a PL of 94.8 Hz. or 444.275+ with a PL 94.8 Hz.
URL:https://franklincountyohioares.org/event/wednesday-weekly-net-429/
CATEGORIES:Weekly Net
END:VEVENT
BEGIN:VEVENT
DTSTART;TZID=America/New_York:20270120T193000
DTEND;TZID=America/New_York:20270120T210000
DTSTAMP:20260421T172203
CREATED:20251214T124931Z
LAST-MODIFIED:20251214T124931Z
UID:4827-1800473400-1800478800@franklincountyohioares.org
SUMMARY:In Person Meeting
DESCRIPTION:If you’re interested in Amateur Radio and want to find out what it is we do\, come to our meeting to find out more. John – N8PVCEmergency Coordinator\, Franklin County Ohio ARES
URL:https://franklincountyohioares.org/event/in-person-meeting-127/
LOCATION:Franklin County EMA\, 5300 Strawberry Farms Blvd\, Columbus\, OH\, 43230-1049\, United States
CATEGORIES:In Person,In Person Meeting
END:VEVENT
BEGIN:VEVENT
DTSTART;TZID=America/New_York:20270127T200000
DTEND;TZID=America/New_York:20270127T210000
DTSTAMP:20260421T172203
CREATED:20251214T124941Z
LAST-MODIFIED:20251214T124941Z
UID:4828-1801080000-1801083600@franklincountyohioares.org
SUMMARY:Wednesday Weekly Net
DESCRIPTION:Join Franklin County Ohio ARES this Wednesday for an on-air meeting where topics related to ARES are discussed.  The meeting will take place on 147.060+ with a PL of 94.8 Hz. or 444.275+ with a PL 94.8 Hz.
URL:https://franklincountyohioares.org/event/wednesday-weekly-net-430/
CATEGORIES:Weekly Net
END:VEVENT
END:VCALENDAR