BEGIN:VCALENDAR
VERSION:2.0
PRODID:-//Franklin County Ohio Amateur Radio Emergency Service - ECPv6.15.20//NONSGML v1.0//EN
CALSCALE:GREGORIAN
METHOD:PUBLISH
X-WR-CALNAME:Franklin County Ohio Amateur Radio Emergency Service
X-ORIGINAL-URL:https://franklincountyohioares.org
X-WR-CALDESC:Events for Franklin County Ohio Amateur Radio Emergency Service
REFRESH-INTERVAL;VALUE=DURATION:PT1H
X-Robots-Tag:noindex
X-PUBLISHED-TTL:PT1H
BEGIN:VTIMEZONE
TZID:America/New_York
BEGIN:DAYLIGHT
TZOFFSETFROM:-0500
TZOFFSETTO:-0400
TZNAME:EDT
DTSTART:20200308T070000
END:DAYLIGHT
BEGIN:STANDARD
TZOFFSETFROM:-0400
TZOFFSETTO:-0500
TZNAME:EST
DTSTART:20201101T060000
END:STANDARD
BEGIN:DAYLIGHT
TZOFFSETFROM:-0500
TZOFFSETTO:-0400
TZNAME:EDT
DTSTART:20210314T070000
END:DAYLIGHT
BEGIN:STANDARD
TZOFFSETFROM:-0400
TZOFFSETTO:-0500
TZNAME:EST
DTSTART:20211107T060000
END:STANDARD
BEGIN:DAYLIGHT
TZOFFSETFROM:-0500
TZOFFSETTO:-0400
TZNAME:EDT
DTSTART:20220313T070000
END:DAYLIGHT
BEGIN:STANDARD
TZOFFSETFROM:-0400
TZOFFSETTO:-0500
TZNAME:EST
DTSTART:20221106T060000
END:STANDARD
END:VTIMEZONE
BEGIN:VEVENT
DTSTART;VALUE=DATE:20211017
DTEND;VALUE=DATE:20211018
DTSTAMP:20260424T134105
CREATED:20210717T125214Z
LAST-MODIFIED:20210914T215657Z
UID:1677-1634428800-1634515199@franklincountyohioares.org
SUMMARY:Columbus Marathon
DESCRIPTION:To register go to “www.columbusmarathonvolunteer.com/coares”  \n 
URL:https://franklincountyohioares.org/event/columbus-marathon-4/
CATEGORIES:Events
ORGANIZER;CN="Kal Dworkin - KA8RLC":MAILTO:KA8RLC@columbus.rr.com
END:VEVENT
BEGIN:VEVENT
DTSTART;TZID=America/New_York:20211013T193000
DTEND;TZID=America/New_York:20211013T210000
DTSTAMP:20260424T134105
CREATED:20210101T182540Z
LAST-MODIFIED:20210717T123101Z
UID:1495-1634153400-1634158800@franklincountyohioares.org
SUMMARY:In Person Meeting
DESCRIPTION:If you’re interested in Amateur Radio and want to find out what it is we do\, come to our meeting to find out more.  \nJohn – N8PVC \nEmergency Coordinator\, Franklin County Ohio ARES
URL:https://franklincountyohioares.org/event/in-person-meeting-53/
LOCATION:FCEM&HS\, 5300 Strawberry Farms Blvd\, Columbus\, OH\, 43230-1049\, United States
CATEGORIES:In Person,In Person Meeting
END:VEVENT
BEGIN:VEVENT
DTSTART;TZID=America/New_York:20211006T200000
DTEND;TZID=America/New_York:20211006T210000
DTSTAMP:20260424T134105
CREATED:20210101T182526Z
LAST-MODIFIED:20210101T184009Z
UID:1494-1633550400-1633554000@franklincountyohioares.org
SUMMARY:Wednesday Weekly Net
DESCRIPTION:Join Franklin County Ohio ARES this Wednesday for an on-air meeting where topics related to ARES are discussed.  The meeting will take place on 147.060+ with a PL of 94.8 Hz. or 444.275+ with a PL 94.8 Hz.
URL:https://franklincountyohioares.org/event/wednesday-weekly-net-179/
CATEGORIES:Weekly Net
END:VEVENT
BEGIN:VEVENT
DTSTART;TZID=America/New_York:20210929T200000
DTEND;TZID=America/New_York:20210929T210000
DTSTAMP:20260424T134105
CREATED:20210101T182526Z
LAST-MODIFIED:20210101T184029Z
UID:1493-1632945600-1632949200@franklincountyohioares.org
SUMMARY:Wednesday Weekly Net
DESCRIPTION:Join Franklin County Ohio ARES this Wednesday for an on-air meeting where topics related to ARES are discussed.  The meeting will take place on 147.060+ with a PL of 94.8 Hz. or 444.275+ with a PL 94.8 Hz.
URL:https://franklincountyohioares.org/event/wednesday-weekly-net-178/
CATEGORIES:Weekly Net
END:VEVENT
BEGIN:VEVENT
DTSTART;VALUE=DATE:20210926
DTEND;VALUE=DATE:20210927
DTSTAMP:20260424T134105
CREATED:20210717T125106Z
LAST-MODIFIED:20210717T125106Z
UID:1675-1632614400-1632700799@franklincountyohioares.org
SUMMARY:Deer Creek Tri
DESCRIPTION:
URL:https://franklincountyohioares.org/event/deer-creek-tri-2/
CATEGORIES:Events
ORGANIZER;CN="Jae Himes - N8YMT":MAILTO:N8YMT@hotmail.com
END:VEVENT
BEGIN:VEVENT
DTSTART;TZID=America/New_York:20210922T200000
DTEND;TZID=America/New_York:20210922T210000
DTSTAMP:20260424T134105
CREATED:20210101T182526Z
LAST-MODIFIED:20210101T184050Z
UID:1492-1632340800-1632344400@franklincountyohioares.org
SUMMARY:Wednesday Weekly Net
DESCRIPTION:Join Franklin County Ohio ARES this Wednesday for an on-air meeting where topics related to ARES are discussed.  The meeting will take place on 147.060+ with a PL of 94.8 Hz. or 444.275+ with a PL 94.8 Hz.
URL:https://franklincountyohioares.org/event/wednesday-weekly-net-177/
CATEGORIES:Weekly Net
END:VEVENT
BEGIN:VEVENT
DTSTART;TZID=America/New_York:20210915T193000
DTEND;TZID=America/New_York:20210915T210000
DTSTAMP:20260424T134105
CREATED:20210101T182525Z
LAST-MODIFIED:20210717T123146Z
UID:1491-1631734200-1631739600@franklincountyohioares.org
SUMMARY:In Person Meeting
DESCRIPTION:If you’re interested in Amateur Radio and want to find out what it is we do\, come to our meeting to find out more.  \nJohn – N8PVC \nEmergency Coordinator\, Franklin County Ohio ARES
URL:https://franklincountyohioares.org/event/in-person-meeting-52/
LOCATION:FCEM&HS\, 5300 Strawberry Farms Blvd\, Columbus\, OH\, 43230-1049\, United States
CATEGORIES:In Person,In Person Meeting
END:VEVENT
BEGIN:VEVENT
DTSTART;TZID=America/New_York:20210908T200000
DTEND;TZID=America/New_York:20210908T210000
DTSTAMP:20260424T134105
CREATED:20210101T182525Z
LAST-MODIFIED:20210101T184105Z
UID:1490-1631131200-1631134800@franklincountyohioares.org
SUMMARY:Wednesday Weekly Net
DESCRIPTION:Join Franklin County Ohio ARES this Wednesday for an on-air meeting where topics related to ARES are discussed.  The meeting will take place on 147.060+ with a PL of 94.8 Hz. or 444.275+ with a PL 94.8 Hz.
URL:https://franklincountyohioares.org/event/wednesday-weekly-net-176/
CATEGORIES:Weekly Net
END:VEVENT
BEGIN:VEVENT
DTSTART;VALUE=DATE:20210904
DTEND;VALUE=DATE:20210905
DTSTAMP:20260424T134105
CREATED:20210717T125010Z
LAST-MODIFIED:20210717T125010Z
UID:1673-1630713600-1630799999@franklincountyohioares.org
SUMMARY:Grandview Kid’s TRI
DESCRIPTION:
URL:https://franklincountyohioares.org/event/grandview-kids-tri/
CATEGORIES:Events
ORGANIZER;CN="Jae Himes - N8YMT":MAILTO:N8YMT@hotmail.com
END:VEVENT
BEGIN:VEVENT
DTSTART;TZID=America/New_York:20210901T200000
DTEND;TZID=America/New_York:20210901T210000
DTSTAMP:20260424T134105
CREATED:20210101T182410Z
LAST-MODIFIED:20210101T184118Z
UID:1489-1630526400-1630530000@franklincountyohioares.org
SUMMARY:Wednesday Weekly Net
DESCRIPTION:Join Franklin County Ohio ARES this Wednesday for an on-air meeting where topics related to ARES are discussed.  The meeting will take place on 147.060+ with a PL of 94.8 Hz. or 444.275+ with a PL 94.8 Hz.
URL:https://franklincountyohioares.org/event/wednesday-weekly-net-175/
CATEGORIES:Weekly Net
END:VEVENT
BEGIN:VEVENT
DTSTART;VALUE=DATE:20210901
DTEND;VALUE=DATE:20210905
DTSTAMP:20260424T134105
CREATED:20210717T124731Z
LAST-MODIFIED:20210717T124731Z
UID:1669-1630454400-1630799999@franklincountyohioares.org
SUMMARY:Sweet Corn Fest
DESCRIPTION:
URL:https://franklincountyohioares.org/event/sweet-corn-fest/
CATEGORIES:Events
END:VEVENT
BEGIN:VEVENT
DTSTART;TZID=America/New_York:20210825T200000
DTEND;TZID=America/New_York:20210825T210000
DTSTAMP:20260424T134105
CREATED:20210101T182410Z
LAST-MODIFIED:20210101T184136Z
UID:1488-1629921600-1629925200@franklincountyohioares.org
SUMMARY:Wednesday Weekly Net
DESCRIPTION:Join Franklin County Ohio ARES this Wednesday for an on-air meeting where topics related to ARES are discussed.  The meeting will take place on 147.060+ with a PL of 94.8 Hz. or 444.275+ with a PL 94.8 Hz.
URL:https://franklincountyohioares.org/event/wednesday-weekly-net-174/
CATEGORIES:Weekly Net
END:VEVENT
BEGIN:VEVENT
DTSTART;VALUE=DATE:20210822
DTEND;VALUE=DATE:20210823
DTSTAMP:20260424T134105
CREATED:20210717T124526Z
LAST-MODIFIED:20210717T124526Z
UID:1665-1629590400-1629676799@franklincountyohioares.org
SUMMARY:Emerald City	1/2
DESCRIPTION:
URL:https://franklincountyohioares.org/event/emerald-city1-2/
CATEGORIES:Events
ORGANIZER;CN="Patrick Gibson KD8ION":MAILTO:kd8ion@gmail.com
END:VEVENT
BEGIN:VEVENT
DTSTART;TZID=America/New_York:20210818T193000
DTEND;TZID=America/New_York:20210818T210000
DTSTAMP:20260424T134105
CREATED:20210101T182410Z
LAST-MODIFIED:20210717T122446Z
UID:1487-1629315000-1629320400@franklincountyohioares.org
SUMMARY:In Person Meeting
DESCRIPTION:If you’re interested in Amateur Radio and want to find out what it is we do\, come to our meeting to find out more.  \nJohn – N8PVC \nEmergency Coordinator\, Franklin County Ohio ARES
URL:https://franklincountyohioares.org/event/in-person-meeting-51/
LOCATION:FCEM&HS\, 5300 Strawberry Farms Blvd\, Columbus\, OH\, 43230-1049\, United States
CATEGORIES:In Person,In Person Meeting
END:VEVENT
BEGIN:VEVENT
DTSTART;TZID=America/New_York:20210811T200000
DTEND;TZID=America/New_York:20210811T210000
DTSTAMP:20260424T134105
CREATED:20210101T182409Z
LAST-MODIFIED:20210101T184151Z
UID:1486-1628712000-1628715600@franklincountyohioares.org
SUMMARY:Wednesday Weekly Net
DESCRIPTION:Join Franklin County Ohio ARES this Wednesday for an on-air meeting where topics related to ARES are discussed.  The meeting will take place on 147.060+ with a PL of 94.8 Hz. or 444.275+ with a PL 94.8 Hz.
URL:https://franklincountyohioares.org/event/wednesday-weekly-net-173/
CATEGORIES:Weekly Net
END:VEVENT
BEGIN:VEVENT
DTSTART;VALUE=DATE:20210807
DTEND;VALUE=DATE:20210808
DTSTAMP:20260424T134105
CREATED:20210717T124357Z
LAST-MODIFIED:20210717T124357Z
UID:1662-1628294400-1628380799@franklincountyohioares.org
SUMMARY:Columbus Ham Fest
DESCRIPTION:
URL:https://franklincountyohioares.org/event/columbus-ham-fest/
LOCATION:Aladdin Shrine Center\, 1801 Gateway Cir\, Grove City\, OH\, 43123\, United States
CATEGORIES:Events
END:VEVENT
BEGIN:VEVENT
DTSTART;TZID=America/New_York:20210804T200000
DTEND;TZID=America/New_York:20210804T210000
DTSTAMP:20260424T134105
CREATED:20210101T182409Z
LAST-MODIFIED:20210101T184231Z
UID:1485-1628107200-1628110800@franklincountyohioares.org
SUMMARY:Wednesday Weekly Net
DESCRIPTION:Join Franklin County Ohio ARES this Wednesday for an on-air meeting where topics related to ARES are discussed.  The meeting will take place on 147.060+ with a PL of 94.8 Hz. or 444.275+ with a PL 94.8 Hz.
URL:https://franklincountyohioares.org/event/wednesday-weekly-net-172/
CATEGORIES:Weekly Net
END:VEVENT
BEGIN:VEVENT
DTSTART;VALUE=DATE:20210801
DTEND;VALUE=DATE:20210802
DTSTAMP:20260424T134105
CREATED:20210717T123851Z
LAST-MODIFIED:20210717T123851Z
UID:1657-1627776000-1627862399@franklincountyohioares.org
SUMMARY:Deer Creek Tri
DESCRIPTION:
URL:https://franklincountyohioares.org/event/deer-creek-tri/
CATEGORIES:Events
ORGANIZER;CN="Jae Himes - N8YMT":MAILTO:N8YMT@hotmail.com
END:VEVENT
BEGIN:VEVENT
DTSTART;TZID=America/New_York:20210728T200000
DTEND;TZID=America/New_York:20210728T210000
DTSTAMP:20260424T134105
CREATED:20210101T182355Z
LAST-MODIFIED:20210101T184244Z
UID:1484-1627502400-1627506000@franklincountyohioares.org
SUMMARY:Wednesday Weekly Net
DESCRIPTION:Join Franklin County Ohio ARES this Wednesday for an on-air meeting where topics related to ARES are discussed.  The meeting will take place on 147.060+ with a PL of 94.8 Hz. or 444.275+ with a PL 94.8 Hz.
URL:https://franklincountyohioares.org/event/wednesday-weekly-net-171/
CATEGORIES:Weekly Net
END:VEVENT
BEGIN:VEVENT
DTSTART;VALUE=DATE:20210725
DTEND;VALUE=DATE:20210726
DTSTAMP:20260424T134105
CREATED:20210717T123703Z
LAST-MODIFIED:20210717T123703Z
UID:1655-1627171200-1627257599@franklincountyohioares.org
SUMMARY:Antrim Park Tri
DESCRIPTION:
URL:https://franklincountyohioares.org/event/antrim-park-tri/
CATEGORIES:Events
ORGANIZER;CN="Kal Dworkin - KA8RLC":MAILTO:KA8RLC@columbus.rr.com
END:VEVENT
BEGIN:VEVENT
DTSTART;TZID=America/New_York:20210721T193000
DTEND;TZID=America/New_York:20210721T210000
DTSTAMP:20260424T134105
CREATED:20210101T182354Z
LAST-MODIFIED:20210717T122338Z
UID:1483-1626895800-1626901200@franklincountyohioares.org
SUMMARY:In Person Meeting
DESCRIPTION:If you’re interested in Amateur Radio and want to find out what it is we do\, come to our meeting to find out more.  \nJohn – N8PVC \nEmergency Coordinator\, Franklin County Ohio ARES
URL:https://franklincountyohioares.org/event/in-person-meeting-50/
LOCATION:FCEM&HS\, 5300 Strawberry Farms Blvd\, Columbus\, OH\, 43230-1049\, United States
CATEGORIES:In Person,In Person Meeting
END:VEVENT
BEGIN:VEVENT
DTSTART;TZID=America/New_York:20210714T200000
DTEND;TZID=America/New_York:20210714T210000
DTSTAMP:20260424T134105
CREATED:20210101T182354Z
LAST-MODIFIED:20210101T184259Z
UID:1482-1626292800-1626296400@franklincountyohioares.org
SUMMARY:Wednesday Weekly Net
DESCRIPTION:Join Franklin County Ohio ARES this Wednesday for an on-air meeting where topics related to ARES are discussed.  The meeting will take place on 147.060+ with a PL of 94.8 Hz. or 444.275+ with a PL 94.8 Hz.
URL:https://franklincountyohioares.org/event/wednesday-weekly-net-170/
CATEGORIES:Weekly Net
END:VEVENT
BEGIN:VEVENT
DTSTART;TZID=America/New_York:20210707T200000
DTEND;TZID=America/New_York:20210707T210000
DTSTAMP:20260424T134105
CREATED:20210101T182354Z
LAST-MODIFIED:20210101T182354Z
UID:1481-1625688000-1625691600@franklincountyohioares.org
SUMMARY:Wednesday Weekly Net
DESCRIPTION:
URL:https://franklincountyohioares.org/event/wednesday-weekly-net-169/
CATEGORIES:Weekly Net
END:VEVENT
BEGIN:VEVENT
DTSTART;VALUE=DATE:20210703
DTEND;VALUE=DATE:20210704
DTSTAMP:20260424T134105
CREATED:20210318T000902Z
LAST-MODIFIED:20210318T000902Z
UID:1607-1625270400-1625356799@franklincountyohioares.org
SUMMARY:Reynoldsburg 4th of July Parade
DESCRIPTION:
URL:https://franklincountyohioares.org/event/reynoldsburg-4th-of-july-parade-2/
LOCATION:Reynoldsburg Meeting Place\, 6689 E Main St\, Reynoldsburg\, OH\, 43068\, United States
CATEGORIES:Events
ORGANIZER;CN="Kal Dworkin - KA8RLC":MAILTO:KA8RLC@columbus.rr.com
END:VEVENT
BEGIN:VEVENT
DTSTART;TZID=America/New_York:20210630T200000
DTEND;TZID=America/New_York:20210630T210000
DTSTAMP:20260424T134105
CREATED:20210101T182353Z
LAST-MODIFIED:20210101T184314Z
UID:1480-1625083200-1625086800@franklincountyohioares.org
SUMMARY:Wednesday Weekly Net
DESCRIPTION:Join Franklin County Ohio ARES this Wednesday for an on-air meeting where topics related to ARES are discussed.  The meeting will take place on 147.060+ with a PL of 94.8 Hz. or 444.275+ with a PL 94.8 Hz.
URL:https://franklincountyohioares.org/event/wednesday-weekly-net-168/
CATEGORIES:Weekly Net
END:VEVENT
BEGIN:VEVENT
DTSTART;TZID=America/New_York:20210623T200000
DTEND;TZID=America/New_York:20210623T210000
DTSTAMP:20260424T134105
CREATED:20210101T182340Z
LAST-MODIFIED:20210101T184340Z
UID:1479-1624478400-1624482000@franklincountyohioares.org
SUMMARY:Wednesday Weekly Net
DESCRIPTION:Join Franklin County Ohio ARES this Wednesday for an on-air meeting where topics related to ARES are discussed.  The meeting will take place on 147.060+ with a PL of 94.8 Hz. or 444.275+ with a PL 94.8 Hz.
URL:https://franklincountyohioares.org/event/wednesday-weekly-net-167/
CATEGORIES:Weekly Net
END:VEVENT
BEGIN:VEVENT
DTSTART;TZID=America/New_York:20210616T193000
DTEND;TZID=America/New_York:20210616T210000
DTSTAMP:20260424T134105
CREATED:20210101T182339Z
LAST-MODIFIED:20210101T185634Z
UID:1478-1623871800-1623877200@franklincountyohioares.org
SUMMARY:In Person Meeting
DESCRIPTION:Due to COVID Temporarily on Radio-147.06\, 94.8 CTCSSIf you’re interested in Amateur Radio and want to find out what it is we do\, come to our meeting to find out more. John – N8PVCEmergency Coordinator\, Franklin County Ohio ARES
URL:https://franklincountyohioares.org/event/in-person-meeting-49/
CATEGORIES:In Person,In Person Meeting,Weekly Net
END:VEVENT
BEGIN:VEVENT
DTSTART;TZID=America/New_York:20210609T200000
DTEND;TZID=America/New_York:20210609T210000
DTSTAMP:20260424T134105
CREATED:20210101T182339Z
LAST-MODIFIED:20210101T184354Z
UID:1477-1623268800-1623272400@franklincountyohioares.org
SUMMARY:Wednesday Weekly Net
DESCRIPTION:Join Franklin County Ohio ARES this Wednesday for an on-air meeting where topics related to ARES are discussed.  The meeting will take place on 147.060+ with a PL of 94.8 Hz. or 444.275+ with a PL 94.8 Hz.
URL:https://franklincountyohioares.org/event/wednesday-weekly-net-166/
CATEGORIES:Weekly Net
END:VEVENT
BEGIN:VEVENT
DTSTART;TZID=America/New_York:20210602T200000
DTEND;TZID=America/New_York:20210602T210000
DTSTAMP:20260424T134105
CREATED:20210101T182339Z
LAST-MODIFIED:20210101T184417Z
UID:1476-1622664000-1622667600@franklincountyohioares.org
SUMMARY:Wednesday Weekly Net
DESCRIPTION:Join Franklin County Ohio ARES this Wednesday for an on-air meeting where topics related to ARES are discussed.  The meeting will take place on 147.060+ with a PL of 94.8 Hz. or 444.275+ with a PL 94.8 Hz.
URL:https://franklincountyohioares.org/event/wednesday-weekly-net-165/
CATEGORIES:Weekly Net
END:VEVENT
BEGIN:VEVENT
DTSTART;TZID=America/New_York:20210526T200000
DTEND;TZID=America/New_York:20210526T210000
DTSTAMP:20260424T134105
CREATED:20210101T182338Z
LAST-MODIFIED:20210101T184431Z
UID:1475-1622059200-1622062800@franklincountyohioares.org
SUMMARY:Wednesday Weekly Net
DESCRIPTION:Join Franklin County Ohio ARES this Wednesday for an on-air meeting where topics related to ARES are discussed.  The meeting will take place on 147.060+ with a PL of 94.8 Hz. or 444.275+ with a PL 94.8 Hz.
URL:https://franklincountyohioares.org/event/wednesday-weekly-net-164/
CATEGORIES:Weekly Net
END:VEVENT
END:VCALENDAR