BEGIN:VCALENDAR
VERSION:2.0
PRODID:-//Franklin County Ohio Amateur Radio Emergency Service - ECPv6.15.20//NONSGML v1.0//EN
CALSCALE:GREGORIAN
METHOD:PUBLISH
X-WR-CALNAME:Franklin County Ohio Amateur Radio Emergency Service
X-ORIGINAL-URL:https://franklincountyohioares.org
X-WR-CALDESC:Events for Franklin County Ohio Amateur Radio Emergency Service
REFRESH-INTERVAL;VALUE=DURATION:PT1H
X-Robots-Tag:noindex
X-PUBLISHED-TTL:PT1H
BEGIN:VTIMEZONE
TZID:America/New_York
BEGIN:DAYLIGHT
TZOFFSETFROM:-0500
TZOFFSETTO:-0400
TZNAME:EDT
DTSTART:20200308T070000
END:DAYLIGHT
BEGIN:STANDARD
TZOFFSETFROM:-0400
TZOFFSETTO:-0500
TZNAME:EST
DTSTART:20201101T060000
END:STANDARD
BEGIN:DAYLIGHT
TZOFFSETFROM:-0500
TZOFFSETTO:-0400
TZNAME:EDT
DTSTART:20210314T070000
END:DAYLIGHT
BEGIN:STANDARD
TZOFFSETFROM:-0400
TZOFFSETTO:-0500
TZNAME:EST
DTSTART:20211107T060000
END:STANDARD
BEGIN:DAYLIGHT
TZOFFSETFROM:-0500
TZOFFSETTO:-0400
TZNAME:EDT
DTSTART:20220313T070000
END:DAYLIGHT
BEGIN:STANDARD
TZOFFSETFROM:-0400
TZOFFSETTO:-0500
TZNAME:EST
DTSTART:20221106T060000
END:STANDARD
BEGIN:DAYLIGHT
TZOFFSETFROM:-0500
TZOFFSETTO:-0400
TZNAME:EDT
DTSTART:20230312T070000
END:DAYLIGHT
BEGIN:STANDARD
TZOFFSETFROM:-0400
TZOFFSETTO:-0500
TZNAME:EST
DTSTART:20231105T060000
END:STANDARD
END:VTIMEZONE
BEGIN:VEVENT
DTSTART;TZID=America/New_York:20220209T200000
DTEND;TZID=America/New_York:20220209T210000
DTSTAMP:20260424T084109
CREATED:20211227T115411Z
LAST-MODIFIED:20211227T122340Z
UID:1756-1644436800-1644440400@franklincountyohioares.org
SUMMARY:Wednesday Weekly Net
DESCRIPTION:Join Franklin County Ohio ARES this Wednesday for an on-air meeting where topics related to ARES are discussed.   \nThe meeting will take place on 147.060+ with a PL of 94.8 Hz. or 444.275+ with a PL 94.8 Hz.
URL:https://franklincountyohioares.org/event/wednesday-weekly-net-232/
LOCATION:147.06 + 94.8 CTCSS
CATEGORIES:Weekly Net
END:VEVENT
BEGIN:VEVENT
DTSTART;TZID=America/New_York:20220202T200000
DTEND;TZID=America/New_York:20220202T210000
DTSTAMP:20260424T084109
CREATED:20211227T115412Z
LAST-MODIFIED:20211227T122050Z
UID:1755-1643832000-1643835600@franklincountyohioares.org
SUMMARY:Wednesday Weekly Net
DESCRIPTION:Join Franklin County Ohio ARES this Wednesday for an on-air meeting where topics related to ARES are discussed.   \nThe meeting will take place on 147.060+ with a PL of 94.8 Hz. or 444.275+ with a PL 94.8 Hz.
URL:https://franklincountyohioares.org/event/wednesday-weekly-net-233/
LOCATION:147.06 + 94.8 CTCSS
CATEGORIES:Weekly Net
END:VEVENT
BEGIN:VEVENT
DTSTART;TZID=America/New_York:20220126T200000
DTEND;TZID=America/New_York:20220126T210000
DTSTAMP:20260424T084109
CREATED:20210101T182750Z
LAST-MODIFIED:20211227T122110Z
UID:1510-1643227200-1643230800@franklincountyohioares.org
SUMMARY:Wednesday Weekly Net
DESCRIPTION:Join Franklin County Ohio ARES this Wednesday for an on-air meeting where topics related to ARES are discussed.   \nThe meeting will take place on 147.060+ with a PL of 94.8 Hz. or 444.275+ with a PL 94.8 Hz.
URL:https://franklincountyohioares.org/event/wednesday-weekly-net-192/
LOCATION:147.06 + 94.8 CTCSS
CATEGORIES:Weekly Net
END:VEVENT
BEGIN:VEVENT
DTSTART;TZID=America/New_York:20220119T193000
DTEND;TZID=America/New_York:20220119T210000
DTSTAMP:20260424T084109
CREATED:20211227T115412Z
LAST-MODIFIED:20220113T235246Z
UID:1754-1642620600-1642626000@franklincountyohioares.org
SUMMARY:In Person Meeting
DESCRIPTION:Due to COVID numbers it has been decided to move this to the radio. \nJoin Franklin County Ohio ARES this Wednesday for an on-air meeting where topics related to ARES are discussed.   \nThe meeting will take place on 147.060+ with a PL of 94.8 Hz. or 444.275+ with a PL 94.8 Hz. \n  \nJohn – N8PVC \nEmergency Coordinator\, Franklin County Ohio ARES
URL:https://franklincountyohioares.org/event/in-person-meeting-67/
LOCATION:OH
CATEGORIES:Weekly Net
END:VEVENT
BEGIN:VEVENT
DTSTART;TZID=America/New_York:20220112T200000
DTEND;TZID=America/New_York:20220112T210000
DTSTAMP:20260424T084109
CREATED:20210101T182736Z
LAST-MODIFIED:20211227T122128Z
UID:1508-1642017600-1642021200@franklincountyohioares.org
SUMMARY:Wednesday Weekly Net
DESCRIPTION:Join Franklin County Ohio ARES this Wednesday for an on-air meeting where topics related to ARES are discussed.   \nThe meeting will take place on 147.060+ with a PL of 94.8 Hz. or 444.275+ with a PL 94.8 Hz.
URL:https://franklincountyohioares.org/event/wednesday-weekly-net-191/
LOCATION:147.06 + 94.8 CTCSS
CATEGORIES:Weekly Net
END:VEVENT
BEGIN:VEVENT
DTSTART;TZID=America/New_York:20220105T200000
DTEND;TZID=America/New_York:20220105T210000
DTSTAMP:20260424T084109
CREATED:20210101T182735Z
LAST-MODIFIED:20211227T122148Z
UID:1507-1641412800-1641416400@franklincountyohioares.org
SUMMARY:Wednesday Weekly Net
DESCRIPTION:Join Franklin County Ohio ARES this Wednesday for an on-air meeting where topics related to ARES are discussed.   \nThe meeting will take place on 147.060+ with a PL of 94.8 Hz. or 444.275+ with a PL 94.8 Hz.
URL:https://franklincountyohioares.org/event/wednesday-weekly-net-190/
LOCATION:147.06 + 94.8 CTCSS
CATEGORIES:Weekly Net
END:VEVENT
BEGIN:VEVENT
DTSTART;TZID=America/New_York:20211229T200000
DTEND;TZID=America/New_York:20211229T210000
DTSTAMP:20260424T084109
CREATED:20210101T182735Z
LAST-MODIFIED:20210101T183633Z
UID:1506-1640808000-1640811600@franklincountyohioares.org
SUMMARY:Wednesday Weekly Net
DESCRIPTION:Join Franklin County Ohio ARES this Wednesday for an on-air meeting where topics related to ARES are discussed.  The meeting will take place on 147.060+ with a PL of 94.8 Hz. or 444.275+ with a PL 94.8 Hz.
URL:https://franklincountyohioares.org/event/wednesday-weekly-net-189/
LOCATION:OH
CATEGORIES:Weekly Net
END:VEVENT
BEGIN:VEVENT
DTSTART;TZID=America/New_York:20211222T200000
DTEND;TZID=America/New_York:20211222T210000
DTSTAMP:20260424T084109
CREATED:20210101T182735Z
LAST-MODIFIED:20210101T183658Z
UID:1505-1640203200-1640206800@franklincountyohioares.org
SUMMARY:Wednesday Weekly Net
DESCRIPTION:Join Franklin County Ohio ARES this Wednesday for an on-air meeting where topics related to ARES are discussed.  The meeting will take place on 147.060+ with a PL of 94.8 Hz. or 444.275+ with a PL 94.8 Hz.
URL:https://franklincountyohioares.org/event/wednesday-weekly-net-188/
LOCATION:OH
CATEGORIES:Weekly Net
END:VEVENT
BEGIN:VEVENT
DTSTART;TZID=America/New_York:20211215T200000
DTEND;TZID=America/New_York:20211215T210000
DTSTAMP:20260424T084109
CREATED:20210101T182721Z
LAST-MODIFIED:20211214T171139Z
UID:1504-1639598400-1639602000@franklincountyohioares.org
SUMMARY:Wednesday Weekly Net
DESCRIPTION:Join Franklin County Ohio ARES this Wednesday for an on-air meeting where topics related to ARES are discussed.  The meeting will take place on 147.060+ with a PL of 94.8 Hz. or 444.275+ with a PL 94.8 Hz.
URL:https://franklincountyohioares.org/event/wednesday-weekly-net-187/
LOCATION:OH
END:VEVENT
BEGIN:VEVENT
DTSTART;VALUE=DATE:20211215
DTEND;VALUE=DATE:20211216
DTSTAMP:20260424T084109
CREATED:20211130T003424Z
LAST-MODIFIED:20211130T003424Z
UID:1729-1639526400-1639612799@franklincountyohioares.org
SUMMARY:Franklin County ARES Spirit Day
DESCRIPTION:Franklin County ARES Spirit Day Flyer-2 Have Fun and enjoy pizza and raise money for Franklin County ARES.
URL:https://franklincountyohioares.org/event/franklin-county-ares-spirit-day/
LOCATION:OH
CATEGORIES:Events
END:VEVENT
BEGIN:VEVENT
DTSTART;TZID=America/New_York:20211208T200000
DTEND;TZID=America/New_York:20211208T210000
DTSTAMP:20260424T084109
CREATED:20210101T182721Z
LAST-MODIFIED:20210101T183738Z
UID:1503-1638993600-1638997200@franklincountyohioares.org
SUMMARY:Wednesday Weekly Net
DESCRIPTION:Join Franklin County Ohio ARES this Wednesday for an on-air meeting where topics related to ARES are discussed.  The meeting will take place on 147.060+ with a PL of 94.8 Hz. or 444.275+ with a PL 94.8 Hz.
URL:https://franklincountyohioares.org/event/wednesday-weekly-net-186/
LOCATION:OH
CATEGORIES:Weekly Net
END:VEVENT
BEGIN:VEVENT
DTSTART;TZID=America/New_York:20211201T200000
DTEND;TZID=America/New_York:20211201T210000
DTSTAMP:20260424T084109
CREATED:20210101T182720Z
LAST-MODIFIED:20210101T183757Z
UID:1502-1638388800-1638392400@franklincountyohioares.org
SUMMARY:Wednesday Weekly Net
DESCRIPTION:Join Franklin County Ohio ARES this Wednesday for an on-air meeting where topics related to ARES are discussed.  The meeting will take place on 147.060+ with a PL of 94.8 Hz. or 444.275+ with a PL 94.8 Hz.
URL:https://franklincountyohioares.org/event/wednesday-weekly-net-185/
LOCATION:OH
CATEGORIES:Weekly Net
END:VEVENT
BEGIN:VEVENT
DTSTART;TZID=America/New_York:20211124T200000
DTEND;TZID=America/New_York:20211124T210000
DTSTAMP:20260424T084109
CREATED:20210101T182720Z
LAST-MODIFIED:20210101T183813Z
UID:1501-1637784000-1637787600@franklincountyohioares.org
SUMMARY:Wednesday Weekly Net
DESCRIPTION:Join Franklin County Ohio ARES this Wednesday for an on-air meeting where topics related to ARES are discussed.  The meeting will take place on 147.060+ with a PL of 94.8 Hz. or 444.275+ with a PL 94.8 Hz.
URL:https://franklincountyohioares.org/event/wednesday-weekly-net-184/
LOCATION:OH
CATEGORIES:Weekly Net
END:VEVENT
BEGIN:VEVENT
DTSTART;TZID=America/New_York:20211117T193000
DTEND;TZID=America/New_York:20211117T210000
DTSTAMP:20260424T084109
CREATED:20210101T182720Z
LAST-MODIFIED:20210717T123228Z
UID:1500-1637177400-1637182800@franklincountyohioares.org
SUMMARY:In Person Meeting
DESCRIPTION:If you’re interested in Amateur Radio and want to find out what it is we do\, come to our meeting to find out more.  \nJohn – N8PVC \nEmergency Coordinator\, Franklin County Ohio ARES
URL:https://franklincountyohioares.org/event/in-person-meeting-54/
LOCATION:FCEM&HS\, 5300 Strawberry Farms Blvd\, Columbus\, OH\, 43230-1049\, United States
CATEGORIES:In Person,In Person Meeting
END:VEVENT
BEGIN:VEVENT
DTSTART;VALUE=DATE:20211114
DTEND;VALUE=DATE:20211115
DTSTAMP:20260424T084109
CREATED:20210717T125353Z
LAST-MODIFIED:20210717T125353Z
UID:1681-1636848000-1636934399@franklincountyohioares.org
SUMMARY:Genoa Park
DESCRIPTION:
URL:https://franklincountyohioares.org/event/genoa-park/
LOCATION:OH
CATEGORIES:Events
END:VEVENT
BEGIN:VEVENT
DTSTART;TZID=America/New_York:20211110T200000
DTEND;TZID=America/New_York:20211110T210000
DTSTAMP:20260424T084109
CREATED:20210101T182542Z
LAST-MODIFIED:20210101T183838Z
UID:1499-1636574400-1636578000@franklincountyohioares.org
SUMMARY:Wednesday Weekly Net
DESCRIPTION:Join Franklin County Ohio ARES this Wednesday for an on-air meeting where topics related to ARES are discussed.  The meeting will take place on 147.060+ with a PL of 94.8 Hz. or 444.275+ with a PL 94.8 Hz.
URL:https://franklincountyohioares.org/event/wednesday-weekly-net-183/
LOCATION:OH
CATEGORIES:Weekly Net
END:VEVENT
BEGIN:VEVENT
DTSTART;TZID=America/New_York:20211103T200000
DTEND;TZID=America/New_York:20211103T210000
DTSTAMP:20260424T084109
CREATED:20210101T182541Z
LAST-MODIFIED:20210101T183855Z
UID:1498-1635969600-1635973200@franklincountyohioares.org
SUMMARY:Wednesday Weekly Net
DESCRIPTION:Join Franklin County Ohio ARES this Wednesday for an on-air meeting where topics related to ARES are discussed.  The meeting will take place on 147.060+ with a PL of 94.8 Hz. or 444.275+ with a PL 94.8 Hz.
URL:https://franklincountyohioares.org/event/wednesday-weekly-net-182/
LOCATION:OH
CATEGORIES:Weekly Net
END:VEVENT
BEGIN:VEVENT
DTSTART;TZID=America/New_York:20211027T200000
DTEND;TZID=America/New_York:20211027T210000
DTSTAMP:20260424T084109
CREATED:20210101T182541Z
LAST-MODIFIED:20210101T183920Z
UID:1497-1635364800-1635368400@franklincountyohioares.org
SUMMARY:Wednesday Weekly Net
DESCRIPTION:Join Franklin County Ohio ARES this Wednesday for an on-air meeting where topics related to ARES are discussed.  The meeting will take place on 147.060+ with a PL of 94.8 Hz. or 444.275+ with a PL 94.8 Hz.
URL:https://franklincountyohioares.org/event/wednesday-weekly-net-181/
LOCATION:OH
CATEGORIES:Weekly Net
END:VEVENT
BEGIN:VEVENT
DTSTART;VALUE=DATE:20211023
DTEND;VALUE=DATE:20211024
DTSTAMP:20260424T084109
CREATED:20210717T125307Z
LAST-MODIFIED:20210717T125307Z
UID:1679-1634947200-1635033599@franklincountyohioares.org
SUMMARY:Grandview Pumpkin Run
DESCRIPTION:
URL:https://franklincountyohioares.org/event/grandview-pumpkin-run/
LOCATION:OH
CATEGORIES:Events
ORGANIZER;CN="Kal Dworkin - KA8RLC":MAILTO:KA8RLC@columbus.rr.com
END:VEVENT
BEGIN:VEVENT
DTSTART;TZID=America/New_York:20211020T200000
DTEND;TZID=America/New_York:20211020T210000
DTSTAMP:20260424T084109
CREATED:20210101T182541Z
LAST-MODIFIED:20210101T183950Z
UID:1496-1634760000-1634763600@franklincountyohioares.org
SUMMARY:Wednesday Weekly Net
DESCRIPTION:Join Franklin County Ohio ARES this Wednesday for an on-air meeting where topics related to ARES are discussed.  The meeting will take place on 147.060+ with a PL of 94.8 Hz. or 444.275+ with a PL 94.8 Hz.
URL:https://franklincountyohioares.org/event/wednesday-weekly-net-180/
LOCATION:OH
CATEGORIES:Weekly Net
END:VEVENT
BEGIN:VEVENT
DTSTART;VALUE=DATE:20211017
DTEND;VALUE=DATE:20211018
DTSTAMP:20260424T084109
CREATED:20210717T125214Z
LAST-MODIFIED:20210914T215657Z
UID:1677-1634428800-1634515199@franklincountyohioares.org
SUMMARY:Columbus Marathon
DESCRIPTION:To register go to “www.columbusmarathonvolunteer.com/coares”  \n 
URL:https://franklincountyohioares.org/event/columbus-marathon-4/
LOCATION:OH
CATEGORIES:Events
ORGANIZER;CN="Kal Dworkin - KA8RLC":MAILTO:KA8RLC@columbus.rr.com
END:VEVENT
BEGIN:VEVENT
DTSTART;TZID=America/New_York:20211013T193000
DTEND;TZID=America/New_York:20211013T210000
DTSTAMP:20260424T084109
CREATED:20210101T182540Z
LAST-MODIFIED:20210717T123101Z
UID:1495-1634153400-1634158800@franklincountyohioares.org
SUMMARY:In Person Meeting
DESCRIPTION:If you’re interested in Amateur Radio and want to find out what it is we do\, come to our meeting to find out more.  \nJohn – N8PVC \nEmergency Coordinator\, Franklin County Ohio ARES
URL:https://franklincountyohioares.org/event/in-person-meeting-53/
LOCATION:FCEM&HS\, 5300 Strawberry Farms Blvd\, Columbus\, OH\, 43230-1049\, United States
CATEGORIES:In Person,In Person Meeting
END:VEVENT
BEGIN:VEVENT
DTSTART;TZID=America/New_York:20211006T200000
DTEND;TZID=America/New_York:20211006T210000
DTSTAMP:20260424T084109
CREATED:20210101T182526Z
LAST-MODIFIED:20210101T184009Z
UID:1494-1633550400-1633554000@franklincountyohioares.org
SUMMARY:Wednesday Weekly Net
DESCRIPTION:Join Franklin County Ohio ARES this Wednesday for an on-air meeting where topics related to ARES are discussed.  The meeting will take place on 147.060+ with a PL of 94.8 Hz. or 444.275+ with a PL 94.8 Hz.
URL:https://franklincountyohioares.org/event/wednesday-weekly-net-179/
LOCATION:OH
CATEGORIES:Weekly Net
END:VEVENT
BEGIN:VEVENT
DTSTART;TZID=America/New_York:20210929T200000
DTEND;TZID=America/New_York:20210929T210000
DTSTAMP:20260424T084109
CREATED:20210101T182526Z
LAST-MODIFIED:20210101T184029Z
UID:1493-1632945600-1632949200@franklincountyohioares.org
SUMMARY:Wednesday Weekly Net
DESCRIPTION:Join Franklin County Ohio ARES this Wednesday for an on-air meeting where topics related to ARES are discussed.  The meeting will take place on 147.060+ with a PL of 94.8 Hz. or 444.275+ with a PL 94.8 Hz.
URL:https://franklincountyohioares.org/event/wednesday-weekly-net-178/
LOCATION:OH
CATEGORIES:Weekly Net
END:VEVENT
BEGIN:VEVENT
DTSTART;VALUE=DATE:20210926
DTEND;VALUE=DATE:20210927
DTSTAMP:20260424T084109
CREATED:20210717T125106Z
LAST-MODIFIED:20210717T125106Z
UID:1675-1632614400-1632700799@franklincountyohioares.org
SUMMARY:Deer Creek Tri
DESCRIPTION:
URL:https://franklincountyohioares.org/event/deer-creek-tri-2/
LOCATION:OH
CATEGORIES:Events
ORGANIZER;CN="Jae Himes - N8YMT":MAILTO:N8YMT@hotmail.com
END:VEVENT
BEGIN:VEVENT
DTSTART;TZID=America/New_York:20210922T200000
DTEND;TZID=America/New_York:20210922T210000
DTSTAMP:20260424T084109
CREATED:20210101T182526Z
LAST-MODIFIED:20210101T184050Z
UID:1492-1632340800-1632344400@franklincountyohioares.org
SUMMARY:Wednesday Weekly Net
DESCRIPTION:Join Franklin County Ohio ARES this Wednesday for an on-air meeting where topics related to ARES are discussed.  The meeting will take place on 147.060+ with a PL of 94.8 Hz. or 444.275+ with a PL 94.8 Hz.
URL:https://franklincountyohioares.org/event/wednesday-weekly-net-177/
LOCATION:OH
CATEGORIES:Weekly Net
END:VEVENT
BEGIN:VEVENT
DTSTART;TZID=America/New_York:20210915T193000
DTEND;TZID=America/New_York:20210915T210000
DTSTAMP:20260424T084109
CREATED:20210101T182525Z
LAST-MODIFIED:20210717T123146Z
UID:1491-1631734200-1631739600@franklincountyohioares.org
SUMMARY:In Person Meeting
DESCRIPTION:If you’re interested in Amateur Radio and want to find out what it is we do\, come to our meeting to find out more.  \nJohn – N8PVC \nEmergency Coordinator\, Franklin County Ohio ARES
URL:https://franklincountyohioares.org/event/in-person-meeting-52/
LOCATION:FCEM&HS\, 5300 Strawberry Farms Blvd\, Columbus\, OH\, 43230-1049\, United States
CATEGORIES:In Person,In Person Meeting
END:VEVENT
BEGIN:VEVENT
DTSTART;TZID=America/New_York:20210908T200000
DTEND;TZID=America/New_York:20210908T210000
DTSTAMP:20260424T084109
CREATED:20210101T182525Z
LAST-MODIFIED:20210101T184105Z
UID:1490-1631131200-1631134800@franklincountyohioares.org
SUMMARY:Wednesday Weekly Net
DESCRIPTION:Join Franklin County Ohio ARES this Wednesday for an on-air meeting where topics related to ARES are discussed.  The meeting will take place on 147.060+ with a PL of 94.8 Hz. or 444.275+ with a PL 94.8 Hz.
URL:https://franklincountyohioares.org/event/wednesday-weekly-net-176/
LOCATION:OH
CATEGORIES:Weekly Net
END:VEVENT
BEGIN:VEVENT
DTSTART;VALUE=DATE:20210904
DTEND;VALUE=DATE:20210905
DTSTAMP:20260424T084109
CREATED:20210717T125010Z
LAST-MODIFIED:20210717T125010Z
UID:1673-1630713600-1630799999@franklincountyohioares.org
SUMMARY:Grandview Kid’s TRI
DESCRIPTION:
URL:https://franklincountyohioares.org/event/grandview-kids-tri/
LOCATION:OH
CATEGORIES:Events
ORGANIZER;CN="Jae Himes - N8YMT":MAILTO:N8YMT@hotmail.com
END:VEVENT
BEGIN:VEVENT
DTSTART;TZID=America/New_York:20210901T200000
DTEND;TZID=America/New_York:20210901T210000
DTSTAMP:20260424T084109
CREATED:20210101T182410Z
LAST-MODIFIED:20210101T184118Z
UID:1489-1630526400-1630530000@franklincountyohioares.org
SUMMARY:Wednesday Weekly Net
DESCRIPTION:Join Franklin County Ohio ARES this Wednesday for an on-air meeting where topics related to ARES are discussed.  The meeting will take place on 147.060+ with a PL of 94.8 Hz. or 444.275+ with a PL 94.8 Hz.
URL:https://franklincountyohioares.org/event/wednesday-weekly-net-175/
LOCATION:OH
CATEGORIES:Weekly Net
END:VEVENT
END:VCALENDAR