BEGIN:VCALENDAR
VERSION:2.0
PRODID:-//Franklin County Ohio Amateur Radio Emergency Service - ECPv6.15.20//NONSGML v1.0//EN
CALSCALE:GREGORIAN
METHOD:PUBLISH
X-WR-CALNAME:Franklin County Ohio Amateur Radio Emergency Service
X-ORIGINAL-URL:https://franklincountyohioares.org
X-WR-CALDESC:Events for Franklin County Ohio Amateur Radio Emergency Service
REFRESH-INTERVAL;VALUE=DURATION:PT1H
X-Robots-Tag:noindex
X-PUBLISHED-TTL:PT1H
BEGIN:VTIMEZONE
TZID:America/New_York
BEGIN:DAYLIGHT
TZOFFSETFROM:-0500
TZOFFSETTO:-0400
TZNAME:EDT
DTSTART:20210314T070000
END:DAYLIGHT
BEGIN:STANDARD
TZOFFSETFROM:-0400
TZOFFSETTO:-0500
TZNAME:EST
DTSTART:20211107T060000
END:STANDARD
BEGIN:DAYLIGHT
TZOFFSETFROM:-0500
TZOFFSETTO:-0400
TZNAME:EDT
DTSTART:20220313T070000
END:DAYLIGHT
BEGIN:STANDARD
TZOFFSETFROM:-0400
TZOFFSETTO:-0500
TZNAME:EST
DTSTART:20221106T060000
END:STANDARD
BEGIN:DAYLIGHT
TZOFFSETFROM:-0500
TZOFFSETTO:-0400
TZNAME:EDT
DTSTART:20230312T070000
END:DAYLIGHT
BEGIN:STANDARD
TZOFFSETFROM:-0400
TZOFFSETTO:-0500
TZNAME:EST
DTSTART:20231105T060000
END:STANDARD
END:VTIMEZONE
BEGIN:VEVENT
DTSTART;TZID=America/New_York:20220921T193000
DTEND;TZID=America/New_York:20220921T210000
DTSTAMP:20260423T160550
CREATED:20211227T115001Z
LAST-MODIFIED:20220908T002326Z
UID:1787-1663788600-1663794000@franklincountyohioares.org
SUMMARY:In Person Meeting
DESCRIPTION:If you’re interested in Amateur Radio and want to find out what it is we do\, come to our meeting to find out more.  \nJohn – N8PVC \nEmergency Coordinator\, Franklin County Ohio ARES
URL:https://franklincountyohioares.org/event/in-person-meeting-59/
LOCATION:FCEM&HS\, 5300 Strawberry Farms Blvd\, Columbus\, OH\, 43230-1049\, United States
CATEGORIES:In Person,In Person Meeting
END:VEVENT
BEGIN:VEVENT
DTSTART;TZID=America/New_York:20220914T200000
DTEND;TZID=America/New_York:20220914T210000
DTSTAMP:20260423T160550
CREATED:20211227T115001Z
LAST-MODIFIED:20220908T002416Z
UID:1788-1663185600-1663189200@franklincountyohioares.org
SUMMARY:Wednesday Weekly Net
DESCRIPTION:Join Franklin County Ohio ARES this Wednesday for an on-air meeting where topics related to ARES are discussed.  \n The meeting will take place on 147.060+ with a PL of 94.8 Hz. or 444.275+ with a PL 94.8 Hz.
URL:https://franklincountyohioares.org/event/wednesday-weekly-net-208/
LOCATION:147.06 + 94.8 CTCSS
CATEGORIES:Weekly Net
END:VEVENT
BEGIN:VEVENT
DTSTART;TZID=America/New_York:20220911T080000
DTEND;TZID=America/New_York:20220911T170000
DTSTAMP:20260423T160550
CREATED:20220320T132612Z
LAST-MODIFIED:20220320T132612Z
UID:2006-1662883200-1662915600@franklincountyohioares.org
SUMMARY:Columbus Roll & Stroll
DESCRIPTION:
URL:https://franklincountyohioares.org/event/columbus-roll-stroll/
LOCATION:Genoa Park\, 303 W. Broad St.\, Columbus\, OH\, 43215\, United States
CATEGORIES:Events
ORGANIZER;CN="Kal Dworkin - KA8RLC":MAILTO:KA8RLC@columbus.rr.com
END:VEVENT
BEGIN:VEVENT
DTSTART;TZID=America/New_York:20220907T200000
DTEND;TZID=America/New_York:20220907T210000
DTSTAMP:20260423T160550
CREATED:20211227T115249Z
LAST-MODIFIED:20211227T124039Z
UID:1786-1662580800-1662584400@franklincountyohioares.org
SUMMARY:Wednesday Weekly Net
DESCRIPTION:Join Franklin County Ohio ARES this Wednesday for an on-air meeting where topics related to ARES are discussed.  \n The meeting will take place on 147.060+ with a PL of 94.8 Hz. or 444.275+ with a PL 94.8 Hz.
URL:https://franklincountyohioares.org/event/wednesday-weekly-net-209/
LOCATION:147.06 + 94.8 CTCSS
CATEGORIES:Weekly Net
END:VEVENT
BEGIN:VEVENT
DTSTART;VALUE=DATE:20220903
DTEND;VALUE=DATE:20220904
DTSTAMP:20260423T160550
CREATED:20220320T132133Z
LAST-MODIFIED:20220320T132133Z
UID:2003-1662163200-1662249599@franklincountyohioares.org
SUMMARY:Tri the Heights
DESCRIPTION:
URL:https://franklincountyohioares.org/event/tri-the-heights/
LOCATION:Tri the Heights\, 1350 Goodale Blvd\, Grandview Heights\, OH\, 43212\, United States
CATEGORIES:Events
ORGANIZER;CN="Kal Dworkin - KA8RLC":MAILTO:KA8RLC@columbus.rr.com
END:VEVENT
BEGIN:VEVENT
DTSTART;VALUE=DATE:20220901
DTEND;VALUE=DATE:20220904
DTSTAMP:20260423T160550
CREATED:20220901T001921Z
LAST-MODIFIED:20220901T001921Z
UID:2024-1661990400-1662249599@franklincountyohioares.org
SUMMARY:Sweet Corn Festival
DESCRIPTION:
URL:https://franklincountyohioares.org/event/sweet-corn-festival-2/
LOCATION:Sweet Corn Festival\, 2718 Blacklick Eastern Rd.\, Millersport\, OH\, 43046\, United States
CATEGORIES:Events
END:VEVENT
BEGIN:VEVENT
DTSTART;TZID=America/New_York:20220831T200000
DTEND;TZID=America/New_York:20220831T210000
DTSTAMP:20260423T160550
CREATED:20211227T115249Z
LAST-MODIFIED:20211227T124013Z
UID:1785-1661976000-1661979600@franklincountyohioares.org
SUMMARY:Wednesday Weekly Net
DESCRIPTION:Join Franklin County Ohio ARES this Wednesday for an on-air meeting where topics related to ARES are discussed.  \n The meeting will take place on 147.060+ with a PL of 94.8 Hz. or 444.275+ with a PL 94.8 Hz.
URL:https://franklincountyohioares.org/event/wednesday-weekly-net-210/
LOCATION:147.06 + 94.8 CTCSS
CATEGORIES:Weekly Net
END:VEVENT
BEGIN:VEVENT
DTSTART;VALUE=DATE:20220828
DTEND;VALUE=DATE:20220829
DTSTAMP:20260423T160550
CREATED:20220320T131705Z
LAST-MODIFIED:20220320T131705Z
UID:2001-1661644800-1661731199@franklincountyohioares.org
SUMMARY:Columbus 1/2 Marathon (Emerald City)
DESCRIPTION:
URL:https://franklincountyohioares.org/event/columbus-1-2-marathon-emerald-city/
LOCATION:OH
CATEGORIES:Events
ORGANIZER;CN="Patrick Gibson KD8ION":MAILTO:kd8ion@gmail.com
END:VEVENT
BEGIN:VEVENT
DTSTART;TZID=America/New_York:20220824T200000
DTEND;TZID=America/New_York:20220824T210000
DTSTAMP:20260423T160550
CREATED:20211227T115249Z
LAST-MODIFIED:20211227T123945Z
UID:1784-1661371200-1661374800@franklincountyohioares.org
SUMMARY:Wednesday Weekly Net
DESCRIPTION:Join Franklin County Ohio ARES this Wednesday for an on-air meeting where topics related to ARES are discussed.  \n The meeting will take place on 147.060+ with a PL of 94.8 Hz. or 444.275+ with a PL 94.8 Hz.
URL:https://franklincountyohioares.org/event/wednesday-weekly-net-211/
LOCATION:147.06 + 94.8 CTCSS
CATEGORIES:Weekly Net
END:VEVENT
BEGIN:VEVENT
DTSTART;TZID=America/New_York:20220817T193000
DTEND;TZID=America/New_York:20220817T210000
DTSTAMP:20260423T160550
CREATED:20211227T115250Z
LAST-MODIFIED:20211227T121604Z
UID:1783-1660764600-1660770000@franklincountyohioares.org
SUMMARY:In Person Meeting
DESCRIPTION:If you’re interested in Amateur Radio and want to find out what it is we do\, come to our meeting to find out more.  \nJohn – N8PVC \nEmergency Coordinator\, Franklin County Ohio ARES
URL:https://franklincountyohioares.org/event/in-person-meeting-60/
LOCATION:FCEM&HS\, 5300 Strawberry Farms Blvd\, Columbus\, OH\, 43230-1049\, United States
CATEGORIES:In Person,In Person Meeting
END:VEVENT
BEGIN:VEVENT
DTSTART;TZID=America/New_York:20220810T200000
DTEND;TZID=America/New_York:20220810T210000
DTSTAMP:20260423T160550
CREATED:20211227T115250Z
LAST-MODIFIED:20211227T123921Z
UID:1782-1660161600-1660165200@franklincountyohioares.org
SUMMARY:Wednesday Weekly Net
DESCRIPTION:Join Franklin County Ohio ARES this Wednesday for an on-air meeting where topics related to ARES are discussed.  \n The meeting will take place on 147.060+ with a PL of 94.8 Hz. or 444.275+ with a PL 94.8 Hz.
URL:https://franklincountyohioares.org/event/wednesday-weekly-net-212/
LOCATION:147.06 + 94.8 CTCSS
CATEGORIES:Weekly Net
END:VEVENT
BEGIN:VEVENT
DTSTART;TZID=America/New_York:20220803T200000
DTEND;TZID=America/New_York:20220803T210000
DTSTAMP:20260423T160550
CREATED:20211227T115250Z
LAST-MODIFIED:20211227T123546Z
UID:1781-1659556800-1659560400@franklincountyohioares.org
SUMMARY:Wednesday Weekly Net
DESCRIPTION:Join Franklin County Ohio ARES this Wednesday for an on-air meeting where topics related to ARES are discussed.  \n The meeting will take place on 147.060+ with a PL of 94.8 Hz. or 444.275+ with a PL 94.8 Hz.
URL:https://franklincountyohioares.org/event/wednesday-weekly-net-213/
LOCATION:147.06 + 94.8 CTCSS
CATEGORIES:Weekly Net
END:VEVENT
BEGIN:VEVENT
DTSTART;VALUE=DATE:20220731
DTEND;VALUE=DATE:20220801
DTSTAMP:20260423T160550
CREATED:20220320T131435Z
LAST-MODIFIED:20220320T131435Z
UID:1999-1659225600-1659311999@franklincountyohioares.org
SUMMARY:OSU Tri-Fit
DESCRIPTION:
URL:https://franklincountyohioares.org/event/osu-tri-fit-2/
LOCATION:ANTRIM PARK\, 5800 Olentangy River Rd\, Columbus\, OH\, 43085\, United States
CATEGORIES:Events
ORGANIZER;CN="Kal Dworkin - KA8RLC":MAILTO:KA8RLC@columbus.rr.com
END:VEVENT
BEGIN:VEVENT
DTSTART;TZID=America/New_York:20220727T200000
DTEND;TZID=America/New_York:20220727T210000
DTSTAMP:20260423T160550
CREATED:20211227T115250Z
LAST-MODIFIED:20211227T123108Z
UID:1780-1658952000-1658955600@franklincountyohioares.org
SUMMARY:Wednesday Weekly Net
DESCRIPTION:Join Franklin County Ohio ARES this Wednesday for an on-air meeting where topics related to ARES are discussed.  \n The meeting will take place on 147.060+ with a PL of 94.8 Hz. or 444.275+ with a PL 94.8 Hz.
URL:https://franklincountyohioares.org/event/wednesday-weekly-net-214/
LOCATION:147.06 + 94.8 CTCSS
CATEGORIES:Weekly Net
END:VEVENT
BEGIN:VEVENT
DTSTART;TZID=America/New_York:20220720T193000
DTEND;TZID=America/New_York:20220720T210000
DTSTAMP:20260423T160550
CREATED:20211227T115251Z
LAST-MODIFIED:20211227T121544Z
UID:1779-1658345400-1658350800@franklincountyohioares.org
SUMMARY:In Person Meeting
DESCRIPTION:If you’re interested in Amateur Radio and want to find out what it is we do\, come to our meeting to find out more.  \nJohn – N8PVC \nEmergency Coordinator\, Franklin County Ohio ARES
URL:https://franklincountyohioares.org/event/in-person-meeting-61/
LOCATION:FCEM&HS\, 5300 Strawberry Farms Blvd\, Columbus\, OH\, 43230-1049\, United States
CATEGORIES:In Person,In Person Meeting
END:VEVENT
BEGIN:VEVENT
DTSTART;TZID=America/New_York:20220713T200000
DTEND;TZID=America/New_York:20220713T210000
DTSTAMP:20260423T160550
CREATED:20211227T115251Z
LAST-MODIFIED:20211227T123045Z
UID:1778-1657742400-1657746000@franklincountyohioares.org
SUMMARY:Wednesday Weekly Net
DESCRIPTION:Join Franklin County Ohio ARES this Wednesday for an on-air meeting where topics related to ARES are discussed.  \n The meeting will take place on 147.060+ with a PL of 94.8 Hz. or 444.275+ with a PL 94.8 Hz.
URL:https://franklincountyohioares.org/event/wednesday-weekly-net-215/
LOCATION:147.06 + 94.8 CTCSS
CATEGORIES:Weekly Net
END:VEVENT
BEGIN:VEVENT
DTSTART;TZID=America/New_York:20220706T200000
DTEND;TZID=America/New_York:20220706T210000
DTSTAMP:20260423T160550
CREATED:20211227T115251Z
LAST-MODIFIED:20211227T123024Z
UID:1777-1657137600-1657141200@franklincountyohioares.org
SUMMARY:Wednesday Weekly Net
DESCRIPTION:Join Franklin County Ohio ARES this Wednesday for an on-air meeting where topics related to ARES are discussed.  \n The meeting will take place on 147.060+ with a PL of 94.8 Hz. or 444.275+ with a PL 94.8 Hz.
URL:https://franklincountyohioares.org/event/wednesday-weekly-net-216/
LOCATION:147.06 + 94.8 CTCSS
CATEGORIES:Weekly Net
END:VEVENT
BEGIN:VEVENT
DTSTART;VALUE=DATE:20220704
DTEND;VALUE=DATE:20220705
DTSTAMP:20260423T160550
CREATED:20220320T131245Z
LAST-MODIFIED:20220320T131245Z
UID:1996-1656892800-1656979199@franklincountyohioares.org
SUMMARY:Reynoldsburg July 4th. Parade
DESCRIPTION:
URL:https://franklincountyohioares.org/event/reynoldsburg-july-4th-parade/
LOCATION:reynoldsburg
CATEGORIES:Events
ORGANIZER;CN="Kal Dworkin - KA8RLC":MAILTO:KA8RLC@columbus.rr.com
END:VEVENT
BEGIN:VEVENT
DTSTART;TZID=America/New_York:20220629T200000
DTEND;TZID=America/New_York:20220629T210000
DTSTAMP:20260423T160550
CREATED:20211227T115251Z
LAST-MODIFIED:20211227T122942Z
UID:1776-1656532800-1656536400@franklincountyohioares.org
SUMMARY:Wednesday Weekly Net
DESCRIPTION:Join Franklin County Ohio ARES this Wednesday for an on-air meeting where topics related to ARES are discussed.  \n The meeting will take place on 147.060+ with a PL of 94.8 Hz. or 444.275+ with a PL 94.8 Hz.
URL:https://franklincountyohioares.org/event/wednesday-weekly-net-217/
LOCATION:147.06 + 94.8 CTCSS
CATEGORIES:Weekly Net
END:VEVENT
BEGIN:VEVENT
DTSTART;VALUE=DATE:20220625
DTEND;VALUE=DATE:20220627
DTSTAMP:20260423T160550
CREATED:20220320T130800Z
LAST-MODIFIED:20220320T130800Z
UID:1994-1656115200-1656287999@franklincountyohioares.org
SUMMARY:ARRL Field Day
DESCRIPTION:
URL:https://franklincountyohioares.org/event/arrl-field-day-7/
LOCATION:OH
CATEGORIES:Events
END:VEVENT
BEGIN:VEVENT
DTSTART;TZID=America/New_York:20220622T200000
DTEND;TZID=America/New_York:20220622T210000
DTSTAMP:20260423T160550
CREATED:20211227T115251Z
LAST-MODIFIED:20211227T122909Z
UID:1775-1655928000-1655931600@franklincountyohioares.org
SUMMARY:Wednesday Weekly Net
DESCRIPTION:Join Franklin County Ohio ARES this Wednesday for an on-air meeting where topics related to ARES are discussed.  \n The meeting will take place on 147.060+ with a PL of 94.8 Hz. or 444.275+ with a PL 94.8 Hz.
URL:https://franklincountyohioares.org/event/wednesday-weekly-net-218/
LOCATION:147.06 + 94.8 CTCSS
CATEGORIES:Weekly Net
END:VEVENT
BEGIN:VEVENT
DTSTART;TZID=America/New_York:20220615T193000
DTEND;TZID=America/New_York:20220615T210000
DTSTAMP:20260423T160550
CREATED:20211227T115252Z
LAST-MODIFIED:20211227T121523Z
UID:1774-1655321400-1655326800@franklincountyohioares.org
SUMMARY:In Person Meeting
DESCRIPTION:If you’re interested in Amateur Radio and want to find out what it is we do\, come to our meeting to find out more.  \nJohn – N8PVC \nEmergency Coordinator\, Franklin County Ohio ARES
URL:https://franklincountyohioares.org/event/in-person-meeting-62/
LOCATION:FCEM&HS\, 5300 Strawberry Farms Blvd\, Columbus\, OH\, 43230-1049\, United States
CATEGORIES:In Person,In Person Meeting
END:VEVENT
BEGIN:VEVENT
DTSTART;VALUE=DATE:20220615
DTEND;VALUE=DATE:20220616
DTSTAMP:20260423T160550
CREATED:20220320T130449Z
LAST-MODIFIED:20220320T130449Z
UID:1987-1655251200-1655337599@franklincountyohioares.org
SUMMARY:CRAA Rickenbacker (LCK) Full Scale Exercise
DESCRIPTION:
URL:https://franklincountyohioares.org/event/craa-rickenbacker-lck-full-scale-exercise/
LOCATION:OH
CATEGORIES:Events
ORGANIZER;CN="Kal Dworkin - KA8RLC":MAILTO:KA8RLC@columbus.rr.com
END:VEVENT
BEGIN:VEVENT
DTSTART;VALUE=DATE:20220615
DTEND;VALUE=DATE:20220616
DTSTAMP:20260423T160550
CREATED:20220106T012253Z
LAST-MODIFIED:20220106T012253Z
UID:1935-1655251200-1655337599@franklincountyohioares.org
SUMMARY:Airport Drill
DESCRIPTION:
URL:https://franklincountyohioares.org/event/airport-drill/
LOCATION:OH
END:VEVENT
BEGIN:VEVENT
DTSTART;VALUE=DATE:20220612
DTEND;VALUE=DATE:20220613
DTSTAMP:20260423T160550
CREATED:20220320T130000Z
LAST-MODIFIED:20220320T130658Z
UID:1985-1654992000-1655078399@franklincountyohioares.org
SUMMARY:Deer Creek Triathlon & Duathlon
DESCRIPTION:
URL:https://franklincountyohioares.org/event/deer-creek-triathlon-duathlon/
LOCATION:OH
CATEGORIES:Events
ORGANIZER;CN="Kal Dworkin - KA8RLC":MAILTO:KA8RLC@columbus.rr.com
END:VEVENT
BEGIN:VEVENT
DTSTART;TZID=America/New_York:20220608T200000
DTEND;TZID=America/New_York:20220608T210000
DTSTAMP:20260423T160550
CREATED:20211227T115252Z
LAST-MODIFIED:20211227T122828Z
UID:1773-1654718400-1654722000@franklincountyohioares.org
SUMMARY:Wednesday Weekly Net
DESCRIPTION:Join Franklin County Ohio ARES this Wednesday for an on-air meeting where topics related to ARES are discussed.  \n The meeting will take place on 147.060+ with a PL of 94.8 Hz. or 444.275+ with a PL 94.8 Hz.
URL:https://franklincountyohioares.org/event/wednesday-weekly-net-219/
LOCATION:147.06 + 94.8 CTCSS
CATEGORIES:Weekly Net
END:VEVENT
BEGIN:VEVENT
DTSTART;TZID=America/New_York:20220601T200000
DTEND;TZID=America/New_York:20220601T210000
DTSTAMP:20260423T160550
CREATED:20211227T115252Z
LAST-MODIFIED:20211227T122808Z
UID:1772-1654113600-1654117200@franklincountyohioares.org
SUMMARY:Wednesday Weekly Net
DESCRIPTION:Join Franklin County Ohio ARES this Wednesday for an on-air meeting where topics related to ARES are discussed.  \n The meeting will take place on 147.060+ with a PL of 94.8 Hz. or 444.275+ with a PL 94.8 Hz.
URL:https://franklincountyohioares.org/event/wednesday-weekly-net-220/
LOCATION:147.06 + 94.8 CTCSS
CATEGORIES:Weekly Net
END:VEVENT
BEGIN:VEVENT
DTSTART;TZID=America/New_York:20220525T200000
DTEND;TZID=America/New_York:20220525T210000
DTSTAMP:20260423T160550
CREATED:20211227T115252Z
LAST-MODIFIED:20211227T122747Z
UID:1771-1653508800-1653512400@franklincountyohioares.org
SUMMARY:Wednesday Weekly Net
DESCRIPTION:Join Franklin County Ohio ARES this Wednesday for an on-air meeting where topics related to ARES are discussed.  \n The meeting will take place on 147.060+ with a PL of 94.8 Hz. or 444.275+ with a PL 94.8 Hz.
URL:https://franklincountyohioares.org/event/wednesday-weekly-net-221/
LOCATION:147.06 + 94.8 CTCSS
CATEGORIES:Weekly Net
END:VEVENT
BEGIN:VEVENT
DTSTART;VALUE=DATE:20220520
DTEND;VALUE=DATE:20220523
DTSTAMP:20260423T160550
CREATED:20220106T012500Z
LAST-MODIFIED:20220106T012500Z
UID:1937-1653004800-1653263999@franklincountyohioares.org
SUMMARY:2022 Dayton Hamvention
DESCRIPTION:
URL:https://franklincountyohioares.org/event/2022-dayton-hamvention/
LOCATION:Green County Fairgrounds\, 120 Fairgrounds Road\, Xenia\, ohio\, 45385\, United States
END:VEVENT
BEGIN:VEVENT
DTSTART;TZID=America/New_York:20220518T193000
DTEND;TZID=America/New_York:20220518T210000
DTSTAMP:20260423T160550
CREATED:20211227T115252Z
LAST-MODIFIED:20211227T120258Z
UID:1770-1652902200-1652907600@franklincountyohioares.org
SUMMARY:In Person Meeting
DESCRIPTION:If you’re interested in Amateur Radio and want to find out what it is we do\, come to our meeting to find out more.  \nJohn – N8PVC \nEmergency Coordinator\, Franklin County Ohio ARES
URL:https://franklincountyohioares.org/event/in-person-meeting-63/
LOCATION:OH
CATEGORIES:In Person,In Person Meeting
END:VEVENT
END:VCALENDAR