BEGIN:VCALENDAR
VERSION:2.0
PRODID:-//Franklin County Ohio Amateur Radio Emergency Service - ECPv6.15.20//NONSGML v1.0//EN
CALSCALE:GREGORIAN
METHOD:PUBLISH
X-WR-CALNAME:Franklin County Ohio Amateur Radio Emergency Service
X-ORIGINAL-URL:https://franklincountyohioares.org
X-WR-CALDESC:Events for Franklin County Ohio Amateur Radio Emergency Service
REFRESH-INTERVAL;VALUE=DURATION:PT1H
X-Robots-Tag:noindex
X-PUBLISHED-TTL:PT1H
BEGIN:VTIMEZONE
TZID:America/New_York
BEGIN:DAYLIGHT
TZOFFSETFROM:-0500
TZOFFSETTO:-0400
TZNAME:EDT
DTSTART:20210314T070000
END:DAYLIGHT
BEGIN:STANDARD
TZOFFSETFROM:-0400
TZOFFSETTO:-0500
TZNAME:EST
DTSTART:20211107T060000
END:STANDARD
BEGIN:DAYLIGHT
TZOFFSETFROM:-0500
TZOFFSETTO:-0400
TZNAME:EDT
DTSTART:20220313T070000
END:DAYLIGHT
BEGIN:STANDARD
TZOFFSETFROM:-0400
TZOFFSETTO:-0500
TZNAME:EST
DTSTART:20221106T060000
END:STANDARD
BEGIN:DAYLIGHT
TZOFFSETFROM:-0500
TZOFFSETTO:-0400
TZNAME:EDT
DTSTART:20230312T070000
END:DAYLIGHT
BEGIN:STANDARD
TZOFFSETFROM:-0400
TZOFFSETTO:-0500
TZNAME:EST
DTSTART:20231105T060000
END:STANDARD
BEGIN:DAYLIGHT
TZOFFSETFROM:-0500
TZOFFSETTO:-0400
TZNAME:EDT
DTSTART:20240310T070000
END:DAYLIGHT
BEGIN:STANDARD
TZOFFSETFROM:-0400
TZOFFSETTO:-0500
TZNAME:EST
DTSTART:20241103T060000
END:STANDARD
END:VTIMEZONE
BEGIN:VEVENT
DTSTART;TZID=America/New_York:20230111T200000
DTEND;TZID=America/New_York:20230111T210000
DTSTAMP:20260423T112358
CREATED:20211227T114957Z
LAST-MODIFIED:20221210T133856Z
UID:1804-1673467200-1673470800@franklincountyohioares.org
SUMMARY:Wednesday Weekly Net
DESCRIPTION:Join Franklin County Ohio ARES this Wednesday for an on-air meeting where topics related to ARES are discussed.  The meeting will take place on 147.060+ with a PL of 94.8 Hz. or 444.275+ with a PL 94.8 Hz.
URL:https://franklincountyohioares.org/event/wednesday-weekly-net-194/
CATEGORIES:Weekly Net
END:VEVENT
BEGIN:VEVENT
DTSTART;TZID=America/New_York:20230104T200000
DTEND;TZID=America/New_York:20230104T210000
DTSTAMP:20260423T112358
CREATED:20211227T114958Z
LAST-MODIFIED:20221210T133856Z
UID:1803-1672862400-1672866000@franklincountyohioares.org
SUMMARY:Wednesday Weekly Net
DESCRIPTION:Join Franklin County Ohio ARES this Wednesday for an on-air meeting where topics related to ARES are discussed.  The meeting will take place on 147.060+ with a PL of 94.8 Hz. or 444.275+ with a PL 94.8 Hz.
URL:https://franklincountyohioares.org/event/wednesday-weekly-net-195/
LOCATION:147.06 + 94.8 CTCSS
CATEGORIES:Weekly Net
END:VEVENT
BEGIN:VEVENT
DTSTART;TZID=America/New_York:20221228T200000
DTEND;TZID=America/New_York:20221228T210000
DTSTAMP:20260423T112358
CREATED:20211227T114958Z
LAST-MODIFIED:20211227T124504Z
UID:1802-1672257600-1672261200@franklincountyohioares.org
SUMMARY:Wednesday Weekly Net
DESCRIPTION:Join Franklin County Ohio ARES this Wednesday for an on-air meeting where topics related to ARES are discussed.  \n The meeting will take place on 147.060+ with a PL of 94.8 Hz. or 444.275+ with a PL 94.8 Hz.
URL:https://franklincountyohioares.org/event/wednesday-weekly-net-196/
LOCATION:147.06 + 94.8 CTCSS
CATEGORIES:Weekly Net
END:VEVENT
BEGIN:VEVENT
DTSTART;TZID=America/New_York:20221221T200000
DTEND;TZID=America/New_York:20221221T210000
DTSTAMP:20260423T112358
CREATED:20211227T114958Z
LAST-MODIFIED:20211227T124446Z
UID:1801-1671652800-1671656400@franklincountyohioares.org
SUMMARY:Wednesday Weekly Net
DESCRIPTION:Join Franklin County Ohio ARES this Wednesday for an on-air meeting where topics related to ARES are discussed.  \n The meeting will take place on 147.060+ with a PL of 94.8 Hz. or 444.275+ with a PL 94.8 Hz.
URL:https://franklincountyohioares.org/event/wednesday-weekly-net-197/
LOCATION:147.06 + 94.8 CTCSS
CATEGORIES:Weekly Net
END:VEVENT
BEGIN:VEVENT
DTSTART;TZID=America/New_York:20221214T200000
DTEND;TZID=America/New_York:20221214T210000
DTSTAMP:20260423T112358
CREATED:20211227T114958Z
LAST-MODIFIED:20211227T124428Z
UID:1800-1671048000-1671051600@franklincountyohioares.org
SUMMARY:Wednesday Weekly Net
DESCRIPTION:Join Franklin County Ohio ARES this Wednesday for an on-air meeting where topics related to ARES are discussed.  \n The meeting will take place on 147.060+ with a PL of 94.8 Hz. or 444.275+ with a PL 94.8 Hz.
URL:https://franklincountyohioares.org/event/wednesday-weekly-net-198/
LOCATION:147.06 + 94.8 CTCSS
CATEGORIES:Weekly Net
END:VEVENT
BEGIN:VEVENT
DTSTART;TZID=America/New_York:20221207T200000
DTEND;TZID=America/New_York:20221207T210000
DTSTAMP:20260423T112358
CREATED:20211227T114959Z
LAST-MODIFIED:20211227T124409Z
UID:1799-1670443200-1670446800@franklincountyohioares.org
SUMMARY:Wednesday Weekly Net
DESCRIPTION:Join Franklin County Ohio ARES this Wednesday for an on-air meeting where topics related to ARES are discussed.  \n The meeting will take place on 147.060+ with a PL of 94.8 Hz. or 444.275+ with a PL 94.8 Hz.
URL:https://franklincountyohioares.org/event/wednesday-weekly-net-199/
LOCATION:147.06 + 94.8 CTCSS
CATEGORIES:Weekly Net
END:VEVENT
BEGIN:VEVENT
DTSTART;TZID=America/New_York:20221130T200000
DTEND;TZID=America/New_York:20221130T210000
DTSTAMP:20260423T112358
CREATED:20211227T114959Z
LAST-MODIFIED:20211227T124354Z
UID:1798-1669838400-1669842000@franklincountyohioares.org
SUMMARY:Wednesday Weekly Net
DESCRIPTION:Join Franklin County Ohio ARES this Wednesday for an on-air meeting where topics related to ARES are discussed.  \n The meeting will take place on 147.060+ with a PL of 94.8 Hz. or 444.275+ with a PL 94.8 Hz.
URL:https://franklincountyohioares.org/event/wednesday-weekly-net-200/
LOCATION:147.06 + 94.8 CTCSS
CATEGORIES:Weekly Net
END:VEVENT
BEGIN:VEVENT
DTSTART;TZID=America/New_York:20221123T200000
DTEND;TZID=America/New_York:20221123T210000
DTSTAMP:20260423T112358
CREATED:20211227T114959Z
LAST-MODIFIED:20211227T124334Z
UID:1797-1669233600-1669237200@franklincountyohioares.org
SUMMARY:Wednesday Weekly Net
DESCRIPTION:Join Franklin County Ohio ARES this Wednesday for an on-air meeting where topics related to ARES are discussed.  \n The meeting will take place on 147.060+ with a PL of 94.8 Hz. or 444.275+ with a PL 94.8 Hz.
URL:https://franklincountyohioares.org/event/wednesday-weekly-net-201/
LOCATION:147.06 + 94.8 CTCSS
CATEGORIES:Weekly Net
END:VEVENT
BEGIN:VEVENT
DTSTART;TZID=America/New_York:20221116T193000
DTEND;TZID=America/New_York:20221116T210000
DTSTAMP:20260423T112358
CREATED:20211227T114959Z
LAST-MODIFIED:20211227T121105Z
UID:1796-1668627000-1668632400@franklincountyohioares.org
SUMMARY:In Person Meeting
DESCRIPTION:If you’re interested in Amateur Radio and want to find out what it is we do\, come to our meeting to find out more.  \nJohn – N8PVC \nEmergency Coordinator\, Franklin County Ohio ARES
URL:https://franklincountyohioares.org/event/in-person-meeting-57/
LOCATION:FCEM&HS\, 5300 Strawberry Farms Blvd\, Columbus\, OH\, 43230-1049\, United States
CATEGORIES:In Person,In Person Meeting
END:VEVENT
BEGIN:VEVENT
DTSTART;TZID=America/New_York:20221109T200000
DTEND;TZID=America/New_York:20221109T210000
DTSTAMP:20260423T112358
CREATED:20211227T114959Z
LAST-MODIFIED:20211227T124315Z
UID:1795-1668024000-1668027600@franklincountyohioares.org
SUMMARY:Wednesday Weekly Net
DESCRIPTION:Join Franklin County Ohio ARES this Wednesday for an on-air meeting where topics related to ARES are discussed.  \n The meeting will take place on 147.060+ with a PL of 94.8 Hz. or 444.275+ with a PL 94.8 Hz.
URL:https://franklincountyohioares.org/event/wednesday-weekly-net-202/
LOCATION:147.06 + 94.8 CTCSS
CATEGORIES:Weekly Net
END:VEVENT
BEGIN:VEVENT
DTSTART;TZID=America/New_York:20221102T200000
DTEND;TZID=America/New_York:20221102T210000
DTSTAMP:20260423T112358
CREATED:20211227T115000Z
LAST-MODIFIED:20211227T124255Z
UID:1794-1667419200-1667422800@franklincountyohioares.org
SUMMARY:Wednesday Weekly Net
DESCRIPTION:Join Franklin County Ohio ARES this Wednesday for an on-air meeting where topics related to ARES are discussed.  \n The meeting will take place on 147.060+ with a PL of 94.8 Hz. or 444.275+ with a PL 94.8 Hz.
URL:https://franklincountyohioares.org/event/wednesday-weekly-net-203/
LOCATION:147.06 + 94.8 CTCSS
CATEGORIES:Weekly Net
END:VEVENT
BEGIN:VEVENT
DTSTART;TZID=America/New_York:20221026T200000
DTEND;TZID=America/New_York:20221026T210000
DTSTAMP:20260423T112358
CREATED:20211227T115000Z
LAST-MODIFIED:20211227T124232Z
UID:1793-1666814400-1666818000@franklincountyohioares.org
SUMMARY:Wednesday Weekly Net
DESCRIPTION:Join Franklin County Ohio ARES this Wednesday for an on-air meeting where topics related to ARES are discussed.  \n The meeting will take place on 147.060+ with a PL of 94.8 Hz. or 444.275+ with a PL 94.8 Hz.
URL:https://franklincountyohioares.org/event/wednesday-weekly-net-204/
LOCATION:147.06 + 94.8 CTCSS
CATEGORIES:Weekly Net
END:VEVENT
BEGIN:VEVENT
DTSTART;TZID=America/New_York:20221019T200000
DTEND;TZID=America/New_York:20221019T210000
DTSTAMP:20260423T112358
CREATED:20211227T115000Z
LAST-MODIFIED:20220908T011349Z
UID:1792-1666209600-1666213200@franklincountyohioares.org
SUMMARY:Wednesday Weekly Net
DESCRIPTION:Join Franklin County Ohio ARES this Wednesday for an on-air meeting where topics related to ARES are discussed.  \n The meeting will take place on 147.060+ with a PL of 94.8 Hz. or 444.275+ with a PL 94.8 Hz.
URL:https://franklincountyohioares.org/event/wednesday-weekly-net-205/
LOCATION:147.06 + 94.8 CTCSS
CATEGORIES:Weekly Net
END:VEVENT
BEGIN:VEVENT
DTSTART;VALUE=DATE:20221016
DTEND;VALUE=DATE:20221017
DTSTAMP:20260423T112358
CREATED:20220320T134108Z
LAST-MODIFIED:20230921T221223Z
UID:2020-1665878400-1665964799@franklincountyohioares.org
SUMMARY:Nationwide Children's Hospital Marathon (Columbus Marathon)
DESCRIPTION:Nationwide Children’s Hospital Marathon Registration
URL:https://franklincountyohioares.org/event/nationwide-childerens-hospital-marathon-columbus-marathon/
LOCATION:Ohio Statehouse\, 1 Capitol Square\, Columbus\, OH\, 43215\, United States
CATEGORIES:Events
ORGANIZER;CN="Kal Dworkin - KA8RLC":MAILTO:KA8RLC@columbus.rr.com
END:VEVENT
BEGIN:VEVENT
DTSTART;TZID=America/New_York:20221012T193000
DTEND;TZID=America/New_York:20221012T210000
DTSTAMP:20260423T112358
CREATED:20211227T115000Z
LAST-MODIFIED:20211227T121642Z
UID:1791-1665603000-1665608400@franklincountyohioares.org
SUMMARY:In Person Meeting
DESCRIPTION:If you’re interested in Amateur Radio and want to find out what it is we do\, come to our meeting to find out more.  \nJohn – N8PVC \nEmergency Coordinator\, Franklin County Ohio ARES
URL:https://franklincountyohioares.org/event/in-person-meeting-58/
LOCATION:FCEM&HS\, 5300 Strawberry Farms Blvd\, Columbus\, OH\, 43230-1049\, United States
CATEGORIES:In Person,In Person Meeting
END:VEVENT
BEGIN:VEVENT
DTSTART;TZID=America/New_York:20221005T200000
DTEND;TZID=America/New_York:20221005T210000
DTSTAMP:20260423T112358
CREATED:20211227T115000Z
LAST-MODIFIED:20211227T124142Z
UID:1790-1665000000-1665003600@franklincountyohioares.org
SUMMARY:Wednesday Weekly Net
DESCRIPTION:Join Franklin County Ohio ARES this Wednesday for an on-air meeting where topics related to ARES are discussed.  \n The meeting will take place on 147.060+ with a PL of 94.8 Hz. or 444.275+ with a PL 94.8 Hz.
URL:https://franklincountyohioares.org/event/wednesday-weekly-net-206/
LOCATION:147.06 + 94.8 CTCSS
CATEGORIES:Weekly Net
END:VEVENT
BEGIN:VEVENT
DTSTART;VALUE=DATE:20221002
DTEND;VALUE=DATE:20221003
DTSTAMP:20260423T112358
CREATED:20220320T133840Z
LAST-MODIFIED:20220320T133840Z
UID:2018-1664668800-1664755199@franklincountyohioares.org
SUMMARY:Step Up for Stephanie's Champions
DESCRIPTION:
URL:https://franklincountyohioares.org/event/step-up-for-stephanies-champions/
CATEGORIES:Events
ORGANIZER;CN="Kal Dworkin - KA8RLC":MAILTO:KA8RLC@columbus.rr.com
END:VEVENT
BEGIN:VEVENT
DTSTART;VALUE=DATE:20221001
DTEND;VALUE=DATE:20221002
DTSTAMP:20260423T112358
CREATED:20220320T133239Z
LAST-MODIFIED:20220320T133239Z
UID:2012-1664582400-1664668799@franklincountyohioares.org
SUMMARY:SET
DESCRIPTION:
URL:https://franklincountyohioares.org/event/set/
CATEGORIES:Events
ORGANIZER;CN="Kal Dworkin - KA8RLC":MAILTO:KA8RLC@columbus.rr.com
END:VEVENT
BEGIN:VEVENT
DTSTART;TZID=America/New_York:20220928T200000
DTEND;TZID=America/New_York:20220928T210000
DTSTAMP:20260423T112358
CREATED:20211227T115001Z
LAST-MODIFIED:20211227T124125Z
UID:1789-1664395200-1664398800@franklincountyohioares.org
SUMMARY:Wednesday Weekly Net
DESCRIPTION:Join Franklin County Ohio ARES this Wednesday for an on-air meeting where topics related to ARES are discussed.  \n The meeting will take place on 147.060+ with a PL of 94.8 Hz. or 444.275+ with a PL 94.8 Hz.
URL:https://franklincountyohioares.org/event/wednesday-weekly-net-207/
LOCATION:147.06 + 94.8 CTCSS
CATEGORIES:Weekly Net
END:VEVENT
BEGIN:VEVENT
DTSTART;VALUE=DATE:20220925
DTEND;VALUE=DATE:20220926
DTSTAMP:20260423T112358
CREATED:20220320T133103Z
LAST-MODIFIED:20220320T133103Z
UID:2009-1664064000-1664150399@franklincountyohioares.org
SUMMARY:Ohio Fall Challenge
DESCRIPTION:
URL:https://franklincountyohioares.org/event/ohio-fall-challenge/
LOCATION:DEER CREEK STATE PARK\, 20635 State Park Road 20\, Mount Sterling\, OH\, 43143\, United States
CATEGORIES:Events
END:VEVENT
BEGIN:VEVENT
DTSTART;TZID=America/New_York:20220921T193000
DTEND;TZID=America/New_York:20220921T210000
DTSTAMP:20260423T112358
CREATED:20211227T115001Z
LAST-MODIFIED:20220908T002326Z
UID:1787-1663788600-1663794000@franklincountyohioares.org
SUMMARY:In Person Meeting
DESCRIPTION:If you’re interested in Amateur Radio and want to find out what it is we do\, come to our meeting to find out more.  \nJohn – N8PVC \nEmergency Coordinator\, Franklin County Ohio ARES
URL:https://franklincountyohioares.org/event/in-person-meeting-59/
LOCATION:FCEM&HS\, 5300 Strawberry Farms Blvd\, Columbus\, OH\, 43230-1049\, United States
CATEGORIES:In Person,In Person Meeting
END:VEVENT
BEGIN:VEVENT
DTSTART;TZID=America/New_York:20220914T200000
DTEND;TZID=America/New_York:20220914T210000
DTSTAMP:20260423T112358
CREATED:20211227T115001Z
LAST-MODIFIED:20220908T002416Z
UID:1788-1663185600-1663189200@franklincountyohioares.org
SUMMARY:Wednesday Weekly Net
DESCRIPTION:Join Franklin County Ohio ARES this Wednesday for an on-air meeting where topics related to ARES are discussed.  \n The meeting will take place on 147.060+ with a PL of 94.8 Hz. or 444.275+ with a PL 94.8 Hz.
URL:https://franklincountyohioares.org/event/wednesday-weekly-net-208/
LOCATION:147.06 + 94.8 CTCSS
CATEGORIES:Weekly Net
END:VEVENT
BEGIN:VEVENT
DTSTART;TZID=America/New_York:20220911T080000
DTEND;TZID=America/New_York:20220911T170000
DTSTAMP:20260423T112358
CREATED:20220320T132612Z
LAST-MODIFIED:20220320T132612Z
UID:2006-1662883200-1662915600@franklincountyohioares.org
SUMMARY:Columbus Roll & Stroll
DESCRIPTION:
URL:https://franklincountyohioares.org/event/columbus-roll-stroll/
LOCATION:Genoa Park\, 303 W. Broad St.\, Columbus\, OH\, 43215\, United States
CATEGORIES:Events
ORGANIZER;CN="Kal Dworkin - KA8RLC":MAILTO:KA8RLC@columbus.rr.com
END:VEVENT
BEGIN:VEVENT
DTSTART;TZID=America/New_York:20220907T200000
DTEND;TZID=America/New_York:20220907T210000
DTSTAMP:20260423T112358
CREATED:20211227T115249Z
LAST-MODIFIED:20211227T124039Z
UID:1786-1662580800-1662584400@franklincountyohioares.org
SUMMARY:Wednesday Weekly Net
DESCRIPTION:Join Franklin County Ohio ARES this Wednesday for an on-air meeting where topics related to ARES are discussed.  \n The meeting will take place on 147.060+ with a PL of 94.8 Hz. or 444.275+ with a PL 94.8 Hz.
URL:https://franklincountyohioares.org/event/wednesday-weekly-net-209/
LOCATION:147.06 + 94.8 CTCSS
CATEGORIES:Weekly Net
END:VEVENT
BEGIN:VEVENT
DTSTART;VALUE=DATE:20220903
DTEND;VALUE=DATE:20220904
DTSTAMP:20260423T112358
CREATED:20220320T132133Z
LAST-MODIFIED:20220320T132133Z
UID:2003-1662163200-1662249599@franklincountyohioares.org
SUMMARY:Tri the Heights
DESCRIPTION:
URL:https://franklincountyohioares.org/event/tri-the-heights/
LOCATION:Tri the Heights\, 1350 Goodale Blvd\, Grandview Heights\, OH\, 43212\, United States
CATEGORIES:Events
ORGANIZER;CN="Kal Dworkin - KA8RLC":MAILTO:KA8RLC@columbus.rr.com
END:VEVENT
BEGIN:VEVENT
DTSTART;VALUE=DATE:20220901
DTEND;VALUE=DATE:20220904
DTSTAMP:20260423T112358
CREATED:20220901T001921Z
LAST-MODIFIED:20220901T001921Z
UID:2024-1661990400-1662249599@franklincountyohioares.org
SUMMARY:Sweet Corn Festival
DESCRIPTION:
URL:https://franklincountyohioares.org/event/sweet-corn-festival-2/
LOCATION:Sweet Corn Festival\, 2718 Blacklick Eastern Rd.\, Millersport\, OH\, 43046\, United States
CATEGORIES:Events
END:VEVENT
BEGIN:VEVENT
DTSTART;TZID=America/New_York:20220831T200000
DTEND;TZID=America/New_York:20220831T210000
DTSTAMP:20260423T112358
CREATED:20211227T115249Z
LAST-MODIFIED:20211227T124013Z
UID:1785-1661976000-1661979600@franklincountyohioares.org
SUMMARY:Wednesday Weekly Net
DESCRIPTION:Join Franklin County Ohio ARES this Wednesday for an on-air meeting where topics related to ARES are discussed.  \n The meeting will take place on 147.060+ with a PL of 94.8 Hz. or 444.275+ with a PL 94.8 Hz.
URL:https://franklincountyohioares.org/event/wednesday-weekly-net-210/
LOCATION:147.06 + 94.8 CTCSS
CATEGORIES:Weekly Net
END:VEVENT
BEGIN:VEVENT
DTSTART;VALUE=DATE:20220828
DTEND;VALUE=DATE:20220829
DTSTAMP:20260423T112358
CREATED:20220320T131705Z
LAST-MODIFIED:20220320T131705Z
UID:2001-1661644800-1661731199@franklincountyohioares.org
SUMMARY:Columbus 1/2 Marathon (Emerald City)
DESCRIPTION:
URL:https://franklincountyohioares.org/event/columbus-1-2-marathon-emerald-city/
CATEGORIES:Events
ORGANIZER;CN="Patrick Gibson KD8ION":MAILTO:kd8ion@gmail.com
END:VEVENT
BEGIN:VEVENT
DTSTART;TZID=America/New_York:20220824T200000
DTEND;TZID=America/New_York:20220824T210000
DTSTAMP:20260423T112358
CREATED:20211227T115249Z
LAST-MODIFIED:20211227T123945Z
UID:1784-1661371200-1661374800@franklincountyohioares.org
SUMMARY:Wednesday Weekly Net
DESCRIPTION:Join Franklin County Ohio ARES this Wednesday for an on-air meeting where topics related to ARES are discussed.  \n The meeting will take place on 147.060+ with a PL of 94.8 Hz. or 444.275+ with a PL 94.8 Hz.
URL:https://franklincountyohioares.org/event/wednesday-weekly-net-211/
LOCATION:147.06 + 94.8 CTCSS
CATEGORIES:Weekly Net
END:VEVENT
BEGIN:VEVENT
DTSTART;TZID=America/New_York:20220817T193000
DTEND;TZID=America/New_York:20220817T210000
DTSTAMP:20260423T112358
CREATED:20211227T115250Z
LAST-MODIFIED:20211227T121604Z
UID:1783-1660764600-1660770000@franklincountyohioares.org
SUMMARY:In Person Meeting
DESCRIPTION:If you’re interested in Amateur Radio and want to find out what it is we do\, come to our meeting to find out more.  \nJohn – N8PVC \nEmergency Coordinator\, Franklin County Ohio ARES
URL:https://franklincountyohioares.org/event/in-person-meeting-60/
LOCATION:FCEM&HS\, 5300 Strawberry Farms Blvd\, Columbus\, OH\, 43230-1049\, United States
CATEGORIES:In Person,In Person Meeting
END:VEVENT
END:VCALENDAR