BEGIN:VCALENDAR
VERSION:2.0
PRODID:-//Franklin County Ohio Amateur Radio Emergency Service - ECPv6.15.20//NONSGML v1.0//EN
CALSCALE:GREGORIAN
METHOD:PUBLISH
X-WR-CALNAME:Franklin County Ohio Amateur Radio Emergency Service
X-ORIGINAL-URL:https://franklincountyohioares.org
X-WR-CALDESC:Events for Franklin County Ohio Amateur Radio Emergency Service
REFRESH-INTERVAL;VALUE=DURATION:PT1H
X-Robots-Tag:noindex
X-PUBLISHED-TTL:PT1H
BEGIN:VTIMEZONE
TZID:America/New_York
BEGIN:DAYLIGHT
TZOFFSETFROM:-0500
TZOFFSETTO:-0400
TZNAME:EDT
DTSTART:20220313T070000
END:DAYLIGHT
BEGIN:STANDARD
TZOFFSETFROM:-0400
TZOFFSETTO:-0500
TZNAME:EST
DTSTART:20221106T060000
END:STANDARD
BEGIN:DAYLIGHT
TZOFFSETFROM:-0500
TZOFFSETTO:-0400
TZNAME:EDT
DTSTART:20230312T070000
END:DAYLIGHT
BEGIN:STANDARD
TZOFFSETFROM:-0400
TZOFFSETTO:-0500
TZNAME:EST
DTSTART:20231105T060000
END:STANDARD
BEGIN:DAYLIGHT
TZOFFSETFROM:-0500
TZOFFSETTO:-0400
TZNAME:EDT
DTSTART:20240310T070000
END:DAYLIGHT
BEGIN:STANDARD
TZOFFSETFROM:-0400
TZOFFSETTO:-0500
TZNAME:EST
DTSTART:20241103T060000
END:STANDARD
END:VTIMEZONE
BEGIN:VEVENT
DTSTART;TZID=America/New_York:20230520T060000
DTEND;TZID=America/New_York:20230520T113000
DTSTAMP:20260423T070611
CREATED:20230413T005634Z
LAST-MODIFIED:20230413T005634Z
UID:2255-1684562400-1684582200@franklincountyohioares.org
SUMMARY:2023 Komen Race for the Cure
DESCRIPTION:
URL:https://franklincountyohioares.org/event/2023-komen-race-for-the-cure/
LOCATION:Ohio Statehouse\, 1 Capitol Square\, Columbus\, OH\, 43215\, United States
CATEGORIES:Events
ORGANIZER;CN="Kal Dworkin - KA8RLC":MAILTO:KA8RLC@columbus.rr.com
END:VEVENT
BEGIN:VEVENT
DTSTART;VALUE=DATE:20230519
DTEND;VALUE=DATE:20230522
DTSTAMP:20260423T070611
CREATED:20230413T005315Z
LAST-MODIFIED:20230413T005315Z
UID:2253-1684454400-1684713599@franklincountyohioares.org
SUMMARY:2023 Hamvention
DESCRIPTION:
URL:https://franklincountyohioares.org/event/2023-hamvention/
LOCATION:Green County Fairgrounds\, 120 Fairgrounds Road\, Xenia\, ohio\, 45385\, United States
CATEGORIES:Events
END:VEVENT
BEGIN:VEVENT
DTSTART;TZID=America/New_York:20230517T193000
DTEND;TZID=America/New_York:20230517T210000
DTSTAMP:20260423T070611
CREATED:20221210T133931Z
LAST-MODIFIED:20230506T175001Z
UID:2129-1684351800-1684357200@franklincountyohioares.org
SUMMARY:In Person Meeting
DESCRIPTION:If you’re interested in Amateur Radio and want to find out what it is we do\, come to our meeting to find out more.  We’re located at the Franklin County Emergency Management & Homeland Security Office\, 5300 Strawberry Farms Blvd. / Columbus\, Ohio 43230.  The meeting begins at 7:30 PM.\n \nJohn – N8PVC\nEmergency Coordinator\, Franklin County Ohio ARES \nKomen Planning
URL:https://franklincountyohioares.org/event/in-person-meeting-72/
LOCATION:FCEM&HS\, 5300 Strawberry Farms Blvd\, Columbus\, OH\, 43230-1049\, United States
CATEGORIES:In Person,In Person Meeting
END:VEVENT
BEGIN:VEVENT
DTSTART;TZID=America/New_York:20230517T180000
DTEND;TZID=America/New_York:20230517T210000
DTSTAMP:20260423T070611
CREATED:20230413T004410Z
LAST-MODIFIED:20230413T004410Z
UID:2240-1684346400-1684357200@franklincountyohioares.org
SUMMARY:General Class
DESCRIPTION:
URL:https://franklincountyohioares.org/event/general-class-5/
LOCATION:FCEM&HS\, 5300 Strawberry Farms Blvd\, Columbus\, OH\, 43230-1049\, United States
CATEGORIES:Events
END:VEVENT
BEGIN:VEVENT
DTSTART;TZID=America/New_York:20230510T200000
DTEND;TZID=America/New_York:20230510T210000
DTSTAMP:20260423T070611
CREATED:20221210T133930Z
LAST-MODIFIED:20230506T175555Z
UID:2128-1683748800-1683752400@franklincountyohioares.org
SUMMARY:Wednesday Weekly Net
DESCRIPTION:Join Franklin County Ohio ARES this Wednesday for an on-air meeting where topics related to ARES are discussed.  This is the place to ask questions\, get updates\, sign-up for activities and exercise your radio at the same time. \nThe meeting will take place on 147.060+ with a PL of 94.8 Hz. or 444.275+ with a PL 94.8 Hz and starts promptly at 8 PM.  We will occasionally alternate the repeater system so if by 8:05 PM your don’t hear anyone move to the other frequency. \n 
URL:https://franklincountyohioares.org/event/wednesday-weekly-net-245/
LOCATION:Ohio
CATEGORIES:Weekly Net
END:VEVENT
BEGIN:VEVENT
DTSTART;TZID=America/New_York:20230510T180000
DTEND;TZID=America/New_York:20230510T210000
DTSTAMP:20260423T070611
CREATED:20230413T004036Z
LAST-MODIFIED:20230413T004036Z
UID:2238-1683741600-1683752400@franklincountyohioares.org
SUMMARY:General Class
DESCRIPTION:
URL:https://franklincountyohioares.org/event/general-class-4/
LOCATION:FCEM&HS\, 5300 Strawberry Farms Blvd\, Columbus\, OH\, 43230-1049\, United States
CATEGORIES:Events
END:VEVENT
BEGIN:VEVENT
DTSTART;TZID=America/New_York:20230503T200000
DTEND;TZID=America/New_York:20230503T210000
DTSTAMP:20260423T070611
CREATED:20221210T133930Z
LAST-MODIFIED:20230506T174811Z
UID:2127-1683144000-1683147600@franklincountyohioares.org
SUMMARY:Wednesday Weekly Net
DESCRIPTION:Join Franklin County Ohio ARES this Wednesday for an on-air meeting where topics related to ARES are discussed.  This is the place to ask questions\, get updates\, sign-up for activities and exercise your radio at the same time. \nThe meeting will take place on 147.060+ with a PL of 94.8 Hz. or 444.275+ with a PL 94.8 Hz and starts promptly at 8 PM.  We will occasionally alternate the repeater system so if by 8:05 PM your don’t hear anyone move to the other frequency.
URL:https://franklincountyohioares.org/event/wednesday-weekly-net-244/
LOCATION:Ohio
CATEGORIES:Weekly Net
END:VEVENT
BEGIN:VEVENT
DTSTART;TZID=America/New_York:20230503T060000
DTEND;TZID=America/New_York:20230503T210000
DTSTAMP:20260423T070611
CREATED:20230413T003943Z
LAST-MODIFIED:20230413T003943Z
UID:2236-1683093600-1683147600@franklincountyohioares.org
SUMMARY:General Class
DESCRIPTION:
URL:https://franklincountyohioares.org/event/general-class-3/
LOCATION:FCEM&HS\, 5300 Strawberry Farms Blvd\, Columbus\, OH\, 43230-1049\, United States
CATEGORIES:Events
END:VEVENT
BEGIN:VEVENT
DTSTART;TZID=America/New_York:20230429T060000
DTEND;TZID=America/New_York:20230429T120000
DTSTAMP:20260423T070611
CREATED:20230409T204655Z
LAST-MODIFIED:20230413T003201Z
UID:2225-1682748000-1682769600@franklincountyohioares.org
SUMMARY:CapCity Half Marathon
DESCRIPTION:HAM Sign up for 2023 Cap City Half Marathon
URL:https://franklincountyohioares.org/event/columbus-1-2-marathon-emerald-city-2/
LOCATION:Capital City 1/2 Marathon\, 160 S High St\, Columbus\, OH\, 43215\, United States
CATEGORIES:Events
ORGANIZER;CN="Patrick Gibson KD8ION":MAILTO:kd8ion@gmail.com
END:VEVENT
BEGIN:VEVENT
DTSTART;TZID=America/New_York:20230426T200000
DTEND;TZID=America/New_York:20230426T210000
DTSTAMP:20260423T070611
CREATED:20221210T133930Z
LAST-MODIFIED:20221210T133930Z
UID:2126-1682539200-1682542800@franklincountyohioares.org
SUMMARY:Wednesday Weekly Net
DESCRIPTION:Join Franklin County Ohio ARES this Wednesday for an on-air meeting where topics related to ARES are discussed.  The meeting will take place on 147.060+ with a PL of 94.8 Hz. or 444.275+ with a PL 94.8 Hz.
URL:https://franklincountyohioares.org/event/wednesday-weekly-net-243/
LOCATION:Ohio
CATEGORIES:Weekly Net
END:VEVENT
BEGIN:VEVENT
DTSTART;TZID=America/New_York:20230426T180000
DTEND;TZID=America/New_York:20230426T210000
DTSTAMP:20260423T070611
CREATED:20230413T003457Z
LAST-MODIFIED:20230413T004231Z
UID:2230-1682532000-1682542800@franklincountyohioares.org
SUMMARY:General Class
DESCRIPTION:
URL:https://franklincountyohioares.org/event/general-class/
LOCATION:FCEM&HS\, 5300 Strawberry Farms Blvd\, Columbus\, OH\, 43230-1049\, United States
CATEGORIES:Events
END:VEVENT
BEGIN:VEVENT
DTSTART;VALUE=DATE:20230422
DTEND;VALUE=DATE:20230423
DTSTAMP:20260423T070611
CREATED:20230413T004950Z
LAST-MODIFIED:20230413T004950Z
UID:2250-1682121600-1682207999@franklincountyohioares.org
SUMMARY:NVIS Day
DESCRIPTION:
URL:https://franklincountyohioares.org/event/nvis-day-2/
LOCATION:Ohio
CATEGORIES:Events
ORGANIZER;CN="Kal Dworkin - KA8RLC":MAILTO:KA8RLC@columbus.rr.com
END:VEVENT
BEGIN:VEVENT
DTSTART;TZID=America/New_York:20230419T193000
DTEND;TZID=America/New_York:20230419T210000
DTSTAMP:20260423T070611
CREATED:20221210T133929Z
LAST-MODIFIED:20221210T133929Z
UID:2125-1681932600-1681938000@franklincountyohioares.org
SUMMARY:In Person Meeting
DESCRIPTION:If you’re interested in Amateur Radio and want to find out what it is we do\, come to our meeting to find out more. John – N8PVCEmergency Coordinator\, Franklin County Ohio ARES
URL:https://franklincountyohioares.org/event/in-person-meeting-71/
LOCATION:Ohio
CATEGORIES:In Person,In Person Meeting
END:VEVENT
BEGIN:VEVENT
DTSTART;TZID=America/New_York:20230419T180000
DTEND;TZID=America/New_York:20230419T210000
DTSTAMP:20260423T070611
CREATED:20230413T003654Z
LAST-MODIFIED:20230413T004147Z
UID:2233-1681927200-1681938000@franklincountyohioares.org
SUMMARY:General Class
DESCRIPTION:
URL:https://franklincountyohioares.org/event/general-class-2/
LOCATION:FCEM&HS\, 5300 Strawberry Farms Blvd\, Columbus\, OH\, 43230-1049\, United States
CATEGORIES:Events
END:VEVENT
BEGIN:VEVENT
DTSTART;TZID=America/New_York:20230412T200000
DTEND;TZID=America/New_York:20230412T210000
DTSTAMP:20260423T070611
CREATED:20221210T133916Z
LAST-MODIFIED:20221210T133916Z
UID:2124-1681329600-1681333200@franklincountyohioares.org
SUMMARY:Wednesday Weekly Net
DESCRIPTION:Join Franklin County Ohio ARES this Wednesday for an on-air meeting where topics related to ARES are discussed.  The meeting will take place on 147.060+ with a PL of 94.8 Hz. or 444.275+ with a PL 94.8 Hz.
URL:https://franklincountyohioares.org/event/wednesday-weekly-net-242/
LOCATION:Ohio
CATEGORIES:Weekly Net
END:VEVENT
BEGIN:VEVENT
DTSTART;TZID=America/New_York:20230405T200000
DTEND;TZID=America/New_York:20230405T210000
DTSTAMP:20260423T070611
CREATED:20221210T133915Z
LAST-MODIFIED:20221210T133915Z
UID:2123-1680724800-1680728400@franklincountyohioares.org
SUMMARY:Wednesday Weekly Net
DESCRIPTION:Join Franklin County Ohio ARES this Wednesday for an on-air meeting where topics related to ARES are discussed.  The meeting will take place on 147.060+ with a PL of 94.8 Hz. or 444.275+ with a PL 94.8 Hz.
URL:https://franklincountyohioares.org/event/wednesday-weekly-net-241/
LOCATION:Ohio
CATEGORIES:Weekly Net
END:VEVENT
BEGIN:VEVENT
DTSTART;TZID=America/New_York:20230329T200000
DTEND;TZID=America/New_York:20230329T210000
DTSTAMP:20260423T070611
CREATED:20221210T133915Z
LAST-MODIFIED:20221210T133915Z
UID:2122-1680120000-1680123600@franklincountyohioares.org
SUMMARY:Wednesday Weekly Net
DESCRIPTION:Join Franklin County Ohio ARES this Wednesday for an on-air meeting where topics related to ARES are discussed.  The meeting will take place on 147.060+ with a PL of 94.8 Hz. or 444.275+ with a PL 94.8 Hz.
URL:https://franklincountyohioares.org/event/wednesday-weekly-net-240/
LOCATION:Ohio
CATEGORIES:Weekly Net
END:VEVENT
BEGIN:VEVENT
DTSTART;TZID=America/New_York:20230322T200000
DTEND;TZID=America/New_York:20230322T210000
DTSTAMP:20260423T070611
CREATED:20221210T133915Z
LAST-MODIFIED:20221210T133915Z
UID:2121-1679515200-1679518800@franklincountyohioares.org
SUMMARY:Wednesday Weekly Net
DESCRIPTION:Join Franklin County Ohio ARES this Wednesday for an on-air meeting where topics related to ARES are discussed.  The meeting will take place on 147.060+ with a PL of 94.8 Hz. or 444.275+ with a PL 94.8 Hz.
URL:https://franklincountyohioares.org/event/wednesday-weekly-net-239/
LOCATION:Ohio
CATEGORIES:Weekly Net
END:VEVENT
BEGIN:VEVENT
DTSTART;TZID=America/New_York:20230315T193000
DTEND;TZID=America/New_York:20230315T210000
DTSTAMP:20260423T070611
CREATED:20221210T133914Z
LAST-MODIFIED:20221210T133914Z
UID:2120-1678908600-1678914000@franklincountyohioares.org
SUMMARY:In Person Meeting
DESCRIPTION:If you’re interested in Amateur Radio and want to find out what it is we do\, come to our meeting to find out more. John – N8PVCEmergency Coordinator\, Franklin County Ohio ARES
URL:https://franklincountyohioares.org/event/in-person-meeting-70/
LOCATION:Ohio
CATEGORIES:In Person,In Person Meeting
END:VEVENT
BEGIN:VEVENT
DTSTART;TZID=America/New_York:20230308T200000
DTEND;TZID=America/New_York:20230308T210000
DTSTAMP:20260423T070611
CREATED:20221210T133901Z
LAST-MODIFIED:20221210T133901Z
UID:2114-1678305600-1678309200@franklincountyohioares.org
SUMMARY:Wednesday Weekly Net
DESCRIPTION:Join Franklin County Ohio ARES this Wednesday for an on-air meeting where topics related to ARES are discussed.  The meeting will take place on 147.060+ with a PL of 94.8 Hz. or 444.275+ with a PL 94.8 Hz.
URL:https://franklincountyohioares.org/event/wednesday-weekly-net-238/
LOCATION:Ohio
CATEGORIES:Weekly Net
END:VEVENT
BEGIN:VEVENT
DTSTART;TZID=America/New_York:20230305T080000
DTEND;TZID=America/New_York:20230305T120000
DTSTAMP:20260423T070611
CREATED:20230107T151725Z
LAST-MODIFIED:20230126T012513Z
UID:2188-1678003200-1678017600@franklincountyohioares.org
SUMMARY:Arnold Pump and Run
DESCRIPTION:
URL:https://franklincountyohioares.org/event/arnold-pump-and-run-4/
LOCATION:Greater Columbus Convention Center\, 400 N High St\, Columbus\, Columbus\, OH\, 43215
CATEGORIES:Events
ORGANIZER;CN="Paul Flautt":MAILTO:kb8cmw@arrl.net
END:VEVENT
BEGIN:VEVENT
DTSTART;VALUE=DATE:20230303
DTEND;VALUE=DATE:20230306
DTSTAMP:20260423T070611
CREATED:20230105T013415Z
LAST-MODIFIED:20230107T151842Z
UID:2179-1677801600-1678060799@franklincountyohioares.org
SUMMARY:Arnold Sports Festival
DESCRIPTION:Volunteer Signup
URL:https://franklincountyohioares.org/event/arnold-sports-festival-3/
LOCATION:Greater Columbus Convention Center\, 400 N High St\, Columbus\, Columbus\, OH\, 43215
CATEGORIES:Events
ORGANIZER;CN="Patrick Gibson KD8ION":MAILTO:kd8ion@gmail.com
END:VEVENT
BEGIN:VEVENT
DTSTART;TZID=America/New_York:20230301T200000
DTEND;TZID=America/New_York:20230301T210000
DTSTAMP:20260423T070611
CREATED:20221210T133900Z
LAST-MODIFIED:20221210T133901Z
UID:2113-1677700800-1677704400@franklincountyohioares.org
SUMMARY:Wednesday Weekly Net
DESCRIPTION:Join Franklin County Ohio ARES this Wednesday for an on-air meeting where topics related to ARES are discussed.  The meeting will take place on 147.060+ with a PL of 94.8 Hz. or 444.275+ with a PL 94.8 Hz.
URL:https://franklincountyohioares.org/event/wednesday-weekly-net-237/
LOCATION:Ohio
CATEGORIES:Weekly Net
END:VEVENT
BEGIN:VEVENT
DTSTART;TZID=America/New_York:20230222T193000
DTEND;TZID=America/New_York:20230222T210000
DTSTAMP:20260423T070611
CREATED:20221210T133900Z
LAST-MODIFIED:20221210T133901Z
UID:2112-1677094200-1677099600@franklincountyohioares.org
SUMMARY:Wednesday Weekly Net
DESCRIPTION:Join Franklin County Ohio ARES this Wednesday for an on-air meeting where topics related to ARES are discussed.  The meeting will take place on 147.060+ with a PL of 94.8 Hz. or 444.275+ with a PL 94.8 Hz.
URL:https://franklincountyohioares.org/event/wednesday-weekly-net-236/
LOCATION:Ohio
CATEGORIES:Weekly Net
END:VEVENT
BEGIN:VEVENT
DTSTART;TZID=America/New_York:20230215T193000
DTEND;TZID=America/New_York:20230215T210000
DTSTAMP:20260423T070611
CREATED:20221210T133859Z
LAST-MODIFIED:20230126T010617Z
UID:2111-1676489400-1676494800@franklincountyohioares.org
SUMMARY:In Person Meeting
DESCRIPTION:If you’re interested in Amateur Radio and want to find out what it is we do\, come to our meeting to find out more. John – N8PVCEmergency Coordinator\, Franklin County Ohio ARES
URL:https://franklincountyohioares.org/event/in-person-meeting-69/
LOCATION:Ohio
CATEGORIES:In Person,In Person Meeting
END:VEVENT
BEGIN:VEVENT
DTSTART;TZID=America/New_York:20230208T200000
DTEND;TZID=America/New_York:20230208T210000
DTSTAMP:20260423T070611
CREATED:20221210T133859Z
LAST-MODIFIED:20221210T133901Z
UID:2110-1675886400-1675890000@franklincountyohioares.org
SUMMARY:Wednesday Weekly Net
DESCRIPTION:Join Franklin County Ohio ARES this Wednesday for an on-air meeting where topics related to ARES are discussed.  The meeting will take place on 147.060+ with a PL of 94.8 Hz. or 444.275+ with a PL 94.8 Hz.
URL:https://franklincountyohioares.org/event/wednesday-weekly-net-235/
LOCATION:Ohio
CATEGORIES:Weekly Net
END:VEVENT
BEGIN:VEVENT
DTSTART;TZID=America/New_York:20230201T200000
DTEND;TZID=America/New_York:20230201T210000
DTSTAMP:20260423T070611
CREATED:20221210T133857Z
LAST-MODIFIED:20221210T133857Z
UID:2109-1675281600-1675285200@franklincountyohioares.org
SUMMARY:Wednesday Weekly Net
DESCRIPTION:Join Franklin County Ohio ARES this Wednesday for an on-air meeting where topics related to ARES are discussed.  The meeting will take place on 147.060+ with a PL of 94.8 Hz. or 444.275+ with a PL 94.8 Hz.
URL:https://franklincountyohioares.org/event/wednesday-weekly-net-234/
LOCATION:Ohio
CATEGORIES:Weekly Net
END:VEVENT
BEGIN:VEVENT
DTSTART;TZID=America/New_York:20230125T200000
DTEND;TZID=America/New_York:20230125T210000
DTSTAMP:20260423T070611
CREATED:20211227T114459Z
LAST-MODIFIED:20221210T133856Z
UID:1806-1674676800-1674680400@franklincountyohioares.org
SUMMARY:Wednesday Weekly Net
DESCRIPTION:Join Franklin County Ohio ARES this Wednesday for an on-air meeting where topics related to ARES are discussed.  The meeting will take place on 147.060+ with a PL of 94.8 Hz. or 444.275+ with a PL 94.8 Hz.
URL:https://franklincountyohioares.org/event/wednesday-weekly-net-193/
LOCATION:Ohio
CATEGORIES:Weekly Net
END:VEVENT
BEGIN:VEVENT
DTSTART;TZID=America/New_York:20230118T193000
DTEND;TZID=America/New_York:20230118T210000
DTSTAMP:20260423T070611
CREATED:20221210T133856Z
LAST-MODIFIED:20230126T010941Z
UID:2107-1674070200-1674075600@franklincountyohioares.org
SUMMARY:In Person Meeting
DESCRIPTION:If you’re interested in Amateur Radio and want to find out what it is we do\, come to our meeting to find out more. John – N8PVCEmergency Coordinator\, Franklin County Ohio ARES
URL:https://franklincountyohioares.org/event/in-person-meeting-68/
LOCATION:Ohio
CATEGORIES:In Person,In Person Meeting
END:VEVENT
BEGIN:VEVENT
DTSTART;TZID=America/New_York:20230118T193000
DTEND;TZID=America/New_York:20230118T210000
DTSTAMP:20260423T070611
CREATED:20211227T114819Z
LAST-MODIFIED:20211227T121014Z
UID:1805-1674070200-1674075600@franklincountyohioares.org
SUMMARY:In Person Meeting
DESCRIPTION:If you’re interested in Amateur Radio and want to find out what it is we do\, come to our meeting to find out more.  \nJohn – N8PVC \nEmergency Coordinator\, Franklin County Ohio ARES
URL:https://franklincountyohioares.org/event/in-person-meeting-56/
LOCATION:FCEM&HS\, 5300 Strawberry Farms Blvd\, Columbus\, OH\, 43230-1049\, United States
CATEGORIES:In Person,In Person Meeting
END:VEVENT
END:VCALENDAR