BEGIN:VCALENDAR
VERSION:2.0
PRODID:-//Franklin County Ohio Amateur Radio Emergency Service - ECPv6.15.20//NONSGML v1.0//EN
CALSCALE:GREGORIAN
METHOD:PUBLISH
X-WR-CALNAME:Franklin County Ohio Amateur Radio Emergency Service
X-ORIGINAL-URL:https://franklincountyohioares.org
X-WR-CALDESC:Events for Franklin County Ohio Amateur Radio Emergency Service
REFRESH-INTERVAL;VALUE=DURATION:PT1H
X-Robots-Tag:noindex
X-PUBLISHED-TTL:PT1H
BEGIN:VTIMEZONE
TZID:America/New_York
BEGIN:DAYLIGHT
TZOFFSETFROM:-0500
TZOFFSETTO:-0400
TZNAME:EDT
DTSTART:20220313T070000
END:DAYLIGHT
BEGIN:STANDARD
TZOFFSETFROM:-0400
TZOFFSETTO:-0500
TZNAME:EST
DTSTART:20221106T060000
END:STANDARD
BEGIN:DAYLIGHT
TZOFFSETFROM:-0500
TZOFFSETTO:-0400
TZNAME:EDT
DTSTART:20230312T070000
END:DAYLIGHT
BEGIN:STANDARD
TZOFFSETFROM:-0400
TZOFFSETTO:-0500
TZNAME:EST
DTSTART:20231105T060000
END:STANDARD
BEGIN:DAYLIGHT
TZOFFSETFROM:-0500
TZOFFSETTO:-0400
TZNAME:EDT
DTSTART:20240310T070000
END:DAYLIGHT
BEGIN:STANDARD
TZOFFSETFROM:-0400
TZOFFSETTO:-0500
TZNAME:EST
DTSTART:20241103T060000
END:STANDARD
END:VTIMEZONE
BEGIN:VEVENT
DTSTART;TZID=America/New_York:20230802T200000
DTEND;TZID=America/New_York:20230802T210000
DTSTAMP:20260423T033447
CREATED:20221210T134015Z
LAST-MODIFIED:20221210T134015Z
UID:2140-1691006400-1691010000@franklincountyohioares.org
SUMMARY:Wednesday Weekly Net
DESCRIPTION:Join Franklin County Ohio ARES this Wednesday for an on-air meeting where topics related to ARES are discussed.  The meeting will take place on 147.060+ with a PL of 94.8 Hz. or 444.275+ with a PL 94.8 Hz.
URL:https://franklincountyohioares.org/event/wednesday-weekly-net-254/
LOCATION:OH
CATEGORIES:Weekly Net
END:VEVENT
BEGIN:VEVENT
DTSTART;TZID=America/New_York:20230726T200000
DTEND;TZID=America/New_York:20230726T210000
DTSTAMP:20260423T033447
CREATED:20221210T134001Z
LAST-MODIFIED:20221210T134001Z
UID:2139-1690401600-1690405200@franklincountyohioares.org
SUMMARY:Wednesday Weekly Net
DESCRIPTION:Join Franklin County Ohio ARES this Wednesday for an on-air meeting where topics related to ARES are discussed.  The meeting will take place on 147.060+ with a PL of 94.8 Hz. or 444.275+ with a PL 94.8 Hz.
URL:https://franklincountyohioares.org/event/wednesday-weekly-net-253/
LOCATION:OH
CATEGORIES:Weekly Net
END:VEVENT
BEGIN:VEVENT
DTSTART;TZID=America/New_York:20230719T193000
DTEND;TZID=America/New_York:20230719T210000
DTSTAMP:20260423T033447
CREATED:20221210T134001Z
LAST-MODIFIED:20230422T112035Z
UID:2138-1689795000-1689800400@franklincountyohioares.org
SUMMARY:In Person Meeting
DESCRIPTION:If you’re interested in Amateur Radio and want to find out what it is we do\, come to our meeting to find out more. John – N8PVCEmergency Coordinator\, Franklin County Ohio ARES
URL:https://franklincountyohioares.org/event/in-person-meeting-74/
LOCATION:FCEM&HS\, 5300 Strawberry Farms Blvd\, Columbus\, OH\, 43230-1049\, United States
CATEGORIES:In Person,In Person Meeting
END:VEVENT
BEGIN:VEVENT
DTSTART;TZID=America/New_York:20230712T200000
DTEND;TZID=America/New_York:20230712T210000
DTSTAMP:20260423T033447
CREATED:20221210T134001Z
LAST-MODIFIED:20221210T134001Z
UID:2137-1689192000-1689195600@franklincountyohioares.org
SUMMARY:Wednesday Weekly Net
DESCRIPTION:Join Franklin County Ohio ARES this Wednesday for an on-air meeting where topics related to ARES are discussed.  The meeting will take place on 147.060+ with a PL of 94.8 Hz. or 444.275+ with a PL 94.8 Hz.
URL:https://franklincountyohioares.org/event/wednesday-weekly-net-252/
LOCATION:OH
CATEGORIES:Weekly Net
END:VEVENT
BEGIN:VEVENT
DTSTART;TZID=America/New_York:20230705T200000
DTEND;TZID=America/New_York:20230705T210000
DTSTAMP:20260423T033447
CREATED:20221210T134000Z
LAST-MODIFIED:20221210T134000Z
UID:2136-1688587200-1688590800@franklincountyohioares.org
SUMMARY:Wednesday Weekly Net
DESCRIPTION:Join Franklin County Ohio ARES this Wednesday for an on-air meeting where topics related to ARES are discussed.  The meeting will take place on 147.060+ with a PL of 94.8 Hz. or 444.275+ with a PL 94.8 Hz.
URL:https://franklincountyohioares.org/event/wednesday-weekly-net-251/
LOCATION:OH
CATEGORIES:Weekly Net
END:VEVENT
BEGIN:VEVENT
DTSTART;TZID=America/New_York:20230704T080000
DTEND;TZID=America/New_York:20230704T120000
DTSTAMP:20260423T033447
CREATED:20230621T232239Z
LAST-MODIFIED:20230621T232609Z
UID:2305-1688457600-1688472000@franklincountyohioares.org
SUMMARY:Reynoldsburg 4th of July
DESCRIPTION:Reynoldsburg 4th of July
URL:https://franklincountyohioares.org/event/2305/
LOCATION:reynoldsburg
CATEGORIES:Events
ORGANIZER;CN="Kal Dworkin - KA8RLC":MAILTO:KA8RLC@columbus.rr.com
END:VEVENT
BEGIN:VEVENT
DTSTART;TZID=America/New_York:20230628T200000
DTEND;TZID=America/New_York:20230628T210000
DTSTAMP:20260423T033447
CREATED:20221210T134000Z
LAST-MODIFIED:20221210T134000Z
UID:2135-1687982400-1687986000@franklincountyohioares.org
SUMMARY:Wednesday Weekly Net
DESCRIPTION:Join Franklin County Ohio ARES this Wednesday for an on-air meeting where topics related to ARES are discussed.  The meeting will take place on 147.060+ with a PL of 94.8 Hz. or 444.275+ with a PL 94.8 Hz.
URL:https://franklincountyohioares.org/event/wednesday-weekly-net-250/
LOCATION:OH
CATEGORIES:Weekly Net
END:VEVENT
BEGIN:VEVENT
DTSTART;VALUE=DATE:20230624
DTEND;VALUE=DATE:20230626
DTSTAMP:20260423T033447
CREATED:20230413T011351Z
LAST-MODIFIED:20230413T011351Z
UID:2267-1687564800-1687737599@franklincountyohioares.org
SUMMARY:ARRL Field Day
DESCRIPTION:
URL:https://franklincountyohioares.org/event/arrl-field-day-8/
LOCATION:OH
CATEGORIES:Events
END:VEVENT
BEGIN:VEVENT
DTSTART;TZID=America/New_York:20230621T193000
DTEND;TZID=America/New_York:20230621T210000
DTSTAMP:20260423T033447
CREATED:20221210T133947Z
LAST-MODIFIED:20230422T112119Z
UID:2134-1687375800-1687381200@franklincountyohioares.org
SUMMARY:In Person Meeting
DESCRIPTION:If you’re interested in Amateur Radio and want to find out what it is we do\, come to our meeting to find out more. John – N8PVCEmergency Coordinator\, Franklin County Ohio ARES \n  \nField Day Planning
URL:https://franklincountyohioares.org/event/in-person-meeting-73/
LOCATION:FCEM&HS\, 5300 Strawberry Farms Blvd\, Columbus\, OH\, 43230-1049\, United States
CATEGORIES:In Person,In Person Meeting
END:VEVENT
BEGIN:VEVENT
DTSTART;VALUE=DATE:20230616
DTEND;VALUE=DATE:20230618
DTSTAMP:20260423T033447
CREATED:20230413T011129Z
LAST-MODIFIED:20230419T234903Z
UID:2263-1686873600-1687046399@franklincountyohioares.org
SUMMARY:LCK Air Show
DESCRIPTION:
URL:https://franklincountyohioares.org/event/lck-air-show/
LOCATION:Rickenbacker Airport\, 2241 John Cir Dr\, Columbus\, OH\, 43217\, United States
CATEGORIES:Events
END:VEVENT
BEGIN:VEVENT
DTSTART;TZID=America/New_York:20230614T200000
DTEND;TZID=America/New_York:20230614T210000
DTSTAMP:20260423T033447
CREATED:20221210T133946Z
LAST-MODIFIED:20221210T133946Z
UID:2133-1686772800-1686776400@franklincountyohioares.org
SUMMARY:Wednesday Weekly Net
DESCRIPTION:Join Franklin County Ohio ARES this Wednesday for an on-air meeting where topics related to ARES are discussed.  The meeting will take place on 147.060+ with a PL of 94.8 Hz. or 444.275+ with a PL 94.8 Hz.
URL:https://franklincountyohioares.org/event/wednesday-weekly-net-249/
LOCATION:OH
CATEGORIES:Weekly Net
END:VEVENT
BEGIN:VEVENT
DTSTART;TZID=America/New_York:20230610T070000
DTEND;TZID=America/New_York:20230610T190000
DTSTAMP:20260423T033447
CREATED:20230413T010558Z
LAST-MODIFIED:20230413T010558Z
UID:2261-1686380400-1686423600@franklincountyohioares.org
SUMMARY:Big Darby Creek Trail Scramble
DESCRIPTION:
URL:https://franklincountyohioares.org/event/big-darby-creek-trail-scramble/
LOCATION:OH
CATEGORIES:Events
END:VEVENT
BEGIN:VEVENT
DTSTART;VALUE=DATE:20230608
DTEND;VALUE=DATE:20230611
DTSTAMP:20260423T033447
CREATED:20230413T010155Z
LAST-MODIFIED:20230413T010155Z
UID:2259-1686182400-1686441599@franklincountyohioares.org
SUMMARY:Southern Ohio Forest Rally (SOFR)
DESCRIPTION:
URL:https://franklincountyohioares.org/event/southern-ohio-forest-rally-sofr/
LOCATION:OH
CATEGORIES:Events,Misc
END:VEVENT
BEGIN:VEVENT
DTSTART;TZID=America/New_York:20230607T200000
DTEND;TZID=America/New_York:20230607T210000
DTSTAMP:20260423T033447
CREATED:20221210T133946Z
LAST-MODIFIED:20221210T133946Z
UID:2132-1686168000-1686171600@franklincountyohioares.org
SUMMARY:Wednesday Weekly Net
DESCRIPTION:Join Franklin County Ohio ARES this Wednesday for an on-air meeting where topics related to ARES are discussed.  The meeting will take place on 147.060+ with a PL of 94.8 Hz. or 444.275+ with a PL 94.8 Hz.
URL:https://franklincountyohioares.org/event/wednesday-weekly-net-248/
LOCATION:OH
CATEGORIES:Weekly Net
END:VEVENT
BEGIN:VEVENT
DTSTART;TZID=America/New_York:20230607T180000
DTEND;TZID=America/New_York:20230607T210000
DTSTAMP:20260423T033447
CREATED:20230413T004744Z
LAST-MODIFIED:20230413T004744Z
UID:2248-1686160800-1686171600@franklincountyohioares.org
SUMMARY:General Class
DESCRIPTION:
URL:https://franklincountyohioares.org/event/general-class-8/
LOCATION:FCEM&HS\, 5300 Strawberry Farms Blvd\, Columbus\, OH\, 43230-1049\, United States
CATEGORIES:Events
END:VEVENT
BEGIN:VEVENT
DTSTART;VALUE=DATE:20230604
DTEND;VALUE=DATE:20230605
DTSTAMP:20260423T033447
CREATED:20230413T005814Z
LAST-MODIFIED:20230413T005846Z
UID:2257-1685836800-1685923199@franklincountyohioares.org
SUMMARY:Deer Creek Triathalon
DESCRIPTION:
URL:https://franklincountyohioares.org/event/deer-creek-triathalon/
LOCATION:DEER CREEK STATE PARK\, 20635 State Park Road 20\, Mount Sterling\, OH\, 43143\, United States
CATEGORIES:Events
END:VEVENT
BEGIN:VEVENT
DTSTART;TZID=America/New_York:20230531T200000
DTEND;TZID=America/New_York:20230531T210000
DTSTAMP:20260423T033447
CREATED:20221210T133946Z
LAST-MODIFIED:20230506T180315Z
UID:2131-1685563200-1685566800@franklincountyohioares.org
SUMMARY:Wednesday Weekly Net
DESCRIPTION:Join Franklin County Ohio ARES this Wednesday for an on-air meeting where topics related to ARES are discussed.  This is the place to ask questions\, get updates\, sign-up for activities and exercise your radio at the same time. \nThe meeting will take place on 147.060+ with a PL of 94.8 Hz. or 444.275+ with a PL 94.8 Hz and starts promptly at 8 PM.  We will occasionally alternate the repeater system so if by 8:05 PM your don’t hear anyone move to the other frequency. \n 
URL:https://franklincountyohioares.org/event/wednesday-weekly-net-247/
LOCATION:OH
CATEGORIES:Weekly Net
END:VEVENT
BEGIN:VEVENT
DTSTART;TZID=America/New_York:20230531T160000
DTEND;TZID=America/New_York:20230531T210000
DTSTAMP:20260423T033447
CREATED:20230413T004708Z
LAST-MODIFIED:20230413T004708Z
UID:2244-1685548800-1685566800@franklincountyohioares.org
SUMMARY:General Class
DESCRIPTION:
URL:https://franklincountyohioares.org/event/general-class-7/
LOCATION:FCEM&HS\, 5300 Strawberry Farms Blvd\, Columbus\, OH\, 43230-1049\, United States
CATEGORIES:Events
END:VEVENT
BEGIN:VEVENT
DTSTART;TZID=America/New_York:20230524T200000
DTEND;TZID=America/New_York:20230524T210000
DTSTAMP:20260423T033447
CREATED:20221210T133945Z
LAST-MODIFIED:20230506T180014Z
UID:2130-1684958400-1684962000@franklincountyohioares.org
SUMMARY:Wednesday Weekly Net
DESCRIPTION:Join Franklin County Ohio ARES this Wednesday for an on-air meeting where topics related to ARES are discussed.  This is the place to ask questions\, get updates\, sign-up for activities and exercise your radio at the same time. \nThe meeting will take place on 147.060+ with a PL of 94.8 Hz. or 444.275+ with a PL 94.8 Hz and starts promptly at 8 PM.  We will occasionally alternate the repeater system so if by 8:05 PM your don’t hear anyone move to the other frequency. \n 
URL:https://franklincountyohioares.org/event/wednesday-weekly-net-246/
LOCATION:OH
CATEGORIES:Weekly Net
END:VEVENT
BEGIN:VEVENT
DTSTART;TZID=America/New_York:20230524T160000
DTEND;TZID=America/New_York:20230524T210000
DTSTAMP:20260423T033447
CREATED:20230413T004456Z
LAST-MODIFIED:20230413T004456Z
UID:2242-1684944000-1684962000@franklincountyohioares.org
SUMMARY:General Class
DESCRIPTION:
URL:https://franklincountyohioares.org/event/general-class-6/
LOCATION:FCEM&HS\, 5300 Strawberry Farms Blvd\, Columbus\, OH\, 43230-1049\, United States
CATEGORIES:Events
END:VEVENT
BEGIN:VEVENT
DTSTART;TZID=America/New_York:20230520T060000
DTEND;TZID=America/New_York:20230520T113000
DTSTAMP:20260423T033447
CREATED:20230413T005634Z
LAST-MODIFIED:20230413T005634Z
UID:2255-1684562400-1684582200@franklincountyohioares.org
SUMMARY:2023 Komen Race for the Cure
DESCRIPTION:
URL:https://franklincountyohioares.org/event/2023-komen-race-for-the-cure/
LOCATION:Ohio Statehouse\, 1 Capitol Square\, Columbus\, OH\, 43215\, United States
CATEGORIES:Events
ORGANIZER;CN="Kal Dworkin - KA8RLC":MAILTO:KA8RLC@columbus.rr.com
END:VEVENT
BEGIN:VEVENT
DTSTART;VALUE=DATE:20230519
DTEND;VALUE=DATE:20230522
DTSTAMP:20260423T033447
CREATED:20230413T005315Z
LAST-MODIFIED:20230413T005315Z
UID:2253-1684454400-1684713599@franklincountyohioares.org
SUMMARY:2023 Hamvention
DESCRIPTION:
URL:https://franklincountyohioares.org/event/2023-hamvention/
LOCATION:Green County Fairgrounds\, 120 Fairgrounds Road\, Xenia\, ohio\, 45385\, United States
CATEGORIES:Events
END:VEVENT
BEGIN:VEVENT
DTSTART;TZID=America/New_York:20230517T193000
DTEND;TZID=America/New_York:20230517T210000
DTSTAMP:20260423T033447
CREATED:20221210T133931Z
LAST-MODIFIED:20230506T175001Z
UID:2129-1684351800-1684357200@franklincountyohioares.org
SUMMARY:In Person Meeting
DESCRIPTION:If you’re interested in Amateur Radio and want to find out what it is we do\, come to our meeting to find out more.  We’re located at the Franklin County Emergency Management & Homeland Security Office\, 5300 Strawberry Farms Blvd. / Columbus\, Ohio 43230.  The meeting begins at 7:30 PM.\n \nJohn – N8PVC\nEmergency Coordinator\, Franklin County Ohio ARES \nKomen Planning
URL:https://franklincountyohioares.org/event/in-person-meeting-72/
LOCATION:FCEM&HS\, 5300 Strawberry Farms Blvd\, Columbus\, OH\, 43230-1049\, United States
CATEGORIES:In Person,In Person Meeting
END:VEVENT
BEGIN:VEVENT
DTSTART;TZID=America/New_York:20230517T180000
DTEND;TZID=America/New_York:20230517T210000
DTSTAMP:20260423T033447
CREATED:20230413T004410Z
LAST-MODIFIED:20230413T004410Z
UID:2240-1684346400-1684357200@franklincountyohioares.org
SUMMARY:General Class
DESCRIPTION:
URL:https://franklincountyohioares.org/event/general-class-5/
LOCATION:FCEM&HS\, 5300 Strawberry Farms Blvd\, Columbus\, OH\, 43230-1049\, United States
CATEGORIES:Events
END:VEVENT
BEGIN:VEVENT
DTSTART;TZID=America/New_York:20230510T200000
DTEND;TZID=America/New_York:20230510T210000
DTSTAMP:20260423T033447
CREATED:20221210T133930Z
LAST-MODIFIED:20230506T175555Z
UID:2128-1683748800-1683752400@franklincountyohioares.org
SUMMARY:Wednesday Weekly Net
DESCRIPTION:Join Franklin County Ohio ARES this Wednesday for an on-air meeting where topics related to ARES are discussed.  This is the place to ask questions\, get updates\, sign-up for activities and exercise your radio at the same time. \nThe meeting will take place on 147.060+ with a PL of 94.8 Hz. or 444.275+ with a PL 94.8 Hz and starts promptly at 8 PM.  We will occasionally alternate the repeater system so if by 8:05 PM your don’t hear anyone move to the other frequency. \n 
URL:https://franklincountyohioares.org/event/wednesday-weekly-net-245/
LOCATION:OH
CATEGORIES:Weekly Net
END:VEVENT
BEGIN:VEVENT
DTSTART;TZID=America/New_York:20230510T180000
DTEND;TZID=America/New_York:20230510T210000
DTSTAMP:20260423T033447
CREATED:20230413T004036Z
LAST-MODIFIED:20230413T004036Z
UID:2238-1683741600-1683752400@franklincountyohioares.org
SUMMARY:General Class
DESCRIPTION:
URL:https://franklincountyohioares.org/event/general-class-4/
LOCATION:FCEM&HS\, 5300 Strawberry Farms Blvd\, Columbus\, OH\, 43230-1049\, United States
CATEGORIES:Events
END:VEVENT
BEGIN:VEVENT
DTSTART;TZID=America/New_York:20230503T200000
DTEND;TZID=America/New_York:20230503T210000
DTSTAMP:20260423T033447
CREATED:20221210T133930Z
LAST-MODIFIED:20230506T174811Z
UID:2127-1683144000-1683147600@franklincountyohioares.org
SUMMARY:Wednesday Weekly Net
DESCRIPTION:Join Franklin County Ohio ARES this Wednesday for an on-air meeting where topics related to ARES are discussed.  This is the place to ask questions\, get updates\, sign-up for activities and exercise your radio at the same time. \nThe meeting will take place on 147.060+ with a PL of 94.8 Hz. or 444.275+ with a PL 94.8 Hz and starts promptly at 8 PM.  We will occasionally alternate the repeater system so if by 8:05 PM your don’t hear anyone move to the other frequency.
URL:https://franklincountyohioares.org/event/wednesday-weekly-net-244/
LOCATION:OH
CATEGORIES:Weekly Net
END:VEVENT
BEGIN:VEVENT
DTSTART;TZID=America/New_York:20230503T060000
DTEND;TZID=America/New_York:20230503T210000
DTSTAMP:20260423T033447
CREATED:20230413T003943Z
LAST-MODIFIED:20230413T003943Z
UID:2236-1683093600-1683147600@franklincountyohioares.org
SUMMARY:General Class
DESCRIPTION:
URL:https://franklincountyohioares.org/event/general-class-3/
LOCATION:FCEM&HS\, 5300 Strawberry Farms Blvd\, Columbus\, OH\, 43230-1049\, United States
CATEGORIES:Events
END:VEVENT
BEGIN:VEVENT
DTSTART;TZID=America/New_York:20230429T060000
DTEND;TZID=America/New_York:20230429T120000
DTSTAMP:20260423T033447
CREATED:20230409T204655Z
LAST-MODIFIED:20230413T003201Z
UID:2225-1682748000-1682769600@franklincountyohioares.org
SUMMARY:CapCity Half Marathon
DESCRIPTION:HAM Sign up for 2023 Cap City Half Marathon
URL:https://franklincountyohioares.org/event/columbus-1-2-marathon-emerald-city-2/
LOCATION:Capital City 1/2 Marathon\, 160 S High St\, Columbus\, OH\, 43215\, United States
CATEGORIES:Events
ORGANIZER;CN="Patrick Gibson KD8ION":MAILTO:kd8ion@gmail.com
END:VEVENT
BEGIN:VEVENT
DTSTART;TZID=America/New_York:20230426T200000
DTEND;TZID=America/New_York:20230426T210000
DTSTAMP:20260423T033447
CREATED:20221210T133930Z
LAST-MODIFIED:20221210T133930Z
UID:2126-1682539200-1682542800@franklincountyohioares.org
SUMMARY:Wednesday Weekly Net
DESCRIPTION:Join Franklin County Ohio ARES this Wednesday for an on-air meeting where topics related to ARES are discussed.  The meeting will take place on 147.060+ with a PL of 94.8 Hz. or 444.275+ with a PL 94.8 Hz.
URL:https://franklincountyohioares.org/event/wednesday-weekly-net-243/
LOCATION:OH
CATEGORIES:Weekly Net
END:VEVENT
END:VCALENDAR