BEGIN:VCALENDAR
VERSION:2.0
PRODID:-//Franklin County Ohio Amateur Radio Emergency Service - ECPv6.15.20//NONSGML v1.0//EN
CALSCALE:GREGORIAN
METHOD:PUBLISH
X-WR-CALNAME:Franklin County Ohio Amateur Radio Emergency Service
X-ORIGINAL-URL:https://franklincountyohioares.org
X-WR-CALDESC:Events for Franklin County Ohio Amateur Radio Emergency Service
REFRESH-INTERVAL;VALUE=DURATION:PT1H
X-Robots-Tag:noindex
X-PUBLISHED-TTL:PT1H
BEGIN:VTIMEZONE
TZID:America/New_York
BEGIN:DAYLIGHT
TZOFFSETFROM:-0500
TZOFFSETTO:-0400
TZNAME:EDT
DTSTART:20250309T070000
END:DAYLIGHT
BEGIN:STANDARD
TZOFFSETFROM:-0400
TZOFFSETTO:-0500
TZNAME:EST
DTSTART:20251102T060000
END:STANDARD
BEGIN:DAYLIGHT
TZOFFSETFROM:-0500
TZOFFSETTO:-0400
TZNAME:EDT
DTSTART:20260308T070000
END:DAYLIGHT
BEGIN:STANDARD
TZOFFSETFROM:-0400
TZOFFSETTO:-0500
TZNAME:EST
DTSTART:20261101T060000
END:STANDARD
BEGIN:DAYLIGHT
TZOFFSETFROM:-0500
TZOFFSETTO:-0400
TZNAME:EDT
DTSTART:20270314T070000
END:DAYLIGHT
BEGIN:STANDARD
TZOFFSETFROM:-0400
TZOFFSETTO:-0500
TZNAME:EST
DTSTART:20271107T060000
END:STANDARD
END:VTIMEZONE
BEGIN:VEVENT
DTSTART;TZID=America/New_York:20260607T080000
DTEND;TZID=America/New_York:20260607T170000
DTSTAMP:20260421T190257
CREATED:20260207T153037Z
LAST-MODIFIED:20260207T153037Z
UID:5076-1780819200-1780851600@franklincountyohioares.org
SUMMARY:Deer Creek Triathlon\, Duathlon & Aquabike
DESCRIPTION:Deer Creek Triathlon\, Duathlon & Aquabike – HFP Racing
URL:https://franklincountyohioares.org/event/deer-creek-triathlon-duathlon-aquabike/
LOCATION:DEER CREEK STATE PARK\, 20635 State Park Road 20\, Mount Sterling\, OH\, 43143\, United States
CATEGORIES:Events
ORGANIZER;CN="Brian Burlet-KE8ANW":MAILTO:ke8anw@yahoo.com
END:VEVENT
BEGIN:VEVENT
DTSTART;TZID=America/New_York:20260610T200000
DTEND;TZID=America/New_York:20260610T210000
DTSTAMP:20260421T190257
CREATED:20251214T124846Z
LAST-MODIFIED:20251214T124846Z
UID:4795-1781121600-1781125200@franklincountyohioares.org
SUMMARY:Wednesday Weekly Net
DESCRIPTION:Join Franklin County Ohio ARES this Wednesday for an on-air meeting where topics related to ARES are discussed.  The meeting will take place on 147.060+ with a PL of 94.8 Hz. or 444.275+ with a PL 94.8 Hz.
URL:https://franklincountyohioares.org/event/wednesday-weekly-net-405/
LOCATION:Ohio
CATEGORIES:Weekly Net
END:VEVENT
BEGIN:VEVENT
DTSTART;TZID=America/New_York:20260617T193000
DTEND;TZID=America/New_York:20260617T210000
DTSTAMP:20260421T190257
CREATED:20251214T124847Z
LAST-MODIFIED:20251214T124847Z
UID:4796-1781724600-1781730000@franklincountyohioares.org
SUMMARY:In Person Meeting
DESCRIPTION:If you’re interested in Amateur Radio and want to find out what it is we do\, come to our meeting to find out more. John – N8PVCEmergency Coordinator\, Franklin County Ohio ARES
URL:https://franklincountyohioares.org/event/in-person-meeting-120/
LOCATION:Franklin County EMA\, 5300 Strawberry Farms Blvd\, Columbus\, OH\, 43230-1049\, United States
CATEGORIES:In Person,In Person Meeting
END:VEVENT
BEGIN:VEVENT
DTSTART;TZID=America/New_York:20260624T200000
DTEND;TZID=America/New_York:20260624T210000
DTSTAMP:20260421T190257
CREATED:20251214T124847Z
LAST-MODIFIED:20251214T124847Z
UID:4797-1782331200-1782334800@franklincountyohioares.org
SUMMARY:Wednesday Weekly Net
DESCRIPTION:Join Franklin County Ohio ARES this Wednesday for an on-air meeting where topics related to ARES are discussed.  The meeting will take place on 147.060+ with a PL of 94.8 Hz. or 444.275+ with a PL 94.8 Hz.
URL:https://franklincountyohioares.org/event/wednesday-weekly-net-406/
LOCATION:Ohio
CATEGORIES:Weekly Net
END:VEVENT
BEGIN:VEVENT
DTSTART;VALUE=DATE:20260627
DTEND;VALUE=DATE:20260629
DTSTAMP:20260421T190257
CREATED:20260207T153143Z
LAST-MODIFIED:20260207T153143Z
UID:5078-1782518400-1782691199@franklincountyohioares.org
SUMMARY:ARRL Field Day
DESCRIPTION:Information will come closer to the event.
URL:https://franklincountyohioares.org/event/arrl-field-day-10/
LOCATION:Franklin County EMA\, 5300 Strawberry Farms Blvd\, Columbus\, OH\, 43230-1049\, United States
CATEGORIES:Events
END:VEVENT
BEGIN:VEVENT
DTSTART;TZID=America/New_York:20260701T200000
DTEND;TZID=America/New_York:20260701T210000
DTSTAMP:20260421T190257
CREATED:20251214T124849Z
LAST-MODIFIED:20251214T124849Z
UID:4798-1782936000-1782939600@franklincountyohioares.org
SUMMARY:Wednesday Weekly Net
DESCRIPTION:Join Franklin County Ohio ARES this Wednesday for an on-air meeting where topics related to ARES are discussed.  The meeting will take place on 147.060+ with a PL of 94.8 Hz. or 444.275+ with a PL 94.8 Hz.
URL:https://franklincountyohioares.org/event/wednesday-weekly-net-407/
LOCATION:Ohio
CATEGORIES:Weekly Net
END:VEVENT
BEGIN:VEVENT
DTSTART;VALUE=DATE:20260704
DTEND;VALUE=DATE:20260705
DTSTAMP:20260421T190257
CREATED:20260207T153309Z
LAST-MODIFIED:20260207T153309Z
UID:5080-1783123200-1783209599@franklincountyohioares.org
SUMMARY:Reynoldsbury July 4th Parade
DESCRIPTION:Information will be coming closer to event.
URL:https://franklincountyohioares.org/event/reynoldsbury-july-4th-parade/
LOCATION:Reynoldsburg Meeting Place\, 6689 E Main St\, Reynoldsburg\, OH\, 43068\, United States
CATEGORIES:Events
ORGANIZER;CN="Kal Dworkin - KA8RLC":MAILTO:KA8RLC@columbus.rr.com
END:VEVENT
BEGIN:VEVENT
DTSTART;TZID=America/New_York:20260708T200000
DTEND;TZID=America/New_York:20260708T210000
DTSTAMP:20260421T190257
CREATED:20251214T124849Z
LAST-MODIFIED:20251214T124849Z
UID:4799-1783540800-1783544400@franklincountyohioares.org
SUMMARY:Wednesday Weekly Net
DESCRIPTION:Join Franklin County Ohio ARES this Wednesday for an on-air meeting where topics related to ARES are discussed.  The meeting will take place on 147.060+ with a PL of 94.8 Hz. or 444.275+ with a PL 94.8 Hz.
URL:https://franklincountyohioares.org/event/wednesday-weekly-net-408/
LOCATION:Ohio
CATEGORIES:Weekly Net
END:VEVENT
BEGIN:VEVENT
DTSTART;TZID=America/New_York:20260715T193000
DTEND;TZID=America/New_York:20260715T210000
DTSTAMP:20260421T190257
CREATED:20251214T124849Z
LAST-MODIFIED:20251214T124849Z
UID:4800-1784143800-1784149200@franklincountyohioares.org
SUMMARY:In Person Meeting
DESCRIPTION:If you’re interested in Amateur Radio and want to find out what it is we do\, come to our meeting to find out more. John – N8PVCEmergency Coordinator\, Franklin County Ohio ARES
URL:https://franklincountyohioares.org/event/in-person-meeting-121/
LOCATION:Franklin County EMA\, 5300 Strawberry Farms Blvd\, Columbus\, OH\, 43230-1049\, United States
CATEGORIES:In Person,In Person Meeting
END:VEVENT
BEGIN:VEVENT
DTSTART;TZID=America/New_York:20260722T200000
DTEND;TZID=America/New_York:20260722T210000
DTSTAMP:20260421T190257
CREATED:20251214T124850Z
LAST-MODIFIED:20251214T124850Z
UID:4801-1784750400-1784754000@franklincountyohioares.org
SUMMARY:Wednesday Weekly Net
DESCRIPTION:Join Franklin County Ohio ARES this Wednesday for an on-air meeting where topics related to ARES are discussed.  The meeting will take place on 147.060+ with a PL of 94.8 Hz. or 444.275+ with a PL 94.8 Hz.
URL:https://franklincountyohioares.org/event/wednesday-weekly-net-409/
LOCATION:Ohio
CATEGORIES:Weekly Net
END:VEVENT
BEGIN:VEVENT
DTSTART;TZID=America/New_York:20260729T200000
DTEND;TZID=America/New_York:20260729T210000
DTSTAMP:20260421T190257
CREATED:20251214T124850Z
LAST-MODIFIED:20251214T124850Z
UID:4802-1785355200-1785358800@franklincountyohioares.org
SUMMARY:Wednesday Weekly Net
DESCRIPTION:Join Franklin County Ohio ARES this Wednesday for an on-air meeting where topics related to ARES are discussed.  The meeting will take place on 147.060+ with a PL of 94.8 Hz. or 444.275+ with a PL 94.8 Hz.
URL:https://franklincountyohioares.org/event/wednesday-weekly-net-410/
LOCATION:Ohio
CATEGORIES:Weekly Net
END:VEVENT
BEGIN:VEVENT
DTSTART;TZID=America/New_York:20260805T200000
DTEND;TZID=America/New_York:20260805T210000
DTSTAMP:20260421T190257
CREATED:20251214T124857Z
LAST-MODIFIED:20251214T124857Z
UID:4803-1785960000-1785963600@franklincountyohioares.org
SUMMARY:Wednesday Weekly Net
DESCRIPTION:Join Franklin County Ohio ARES this Wednesday for an on-air meeting where topics related to ARES are discussed.  The meeting will take place on 147.060+ with a PL of 94.8 Hz. or 444.275+ with a PL 94.8 Hz.
URL:https://franklincountyohioares.org/event/wednesday-weekly-net-411/
LOCATION:Ohio
CATEGORIES:Weekly Net
END:VEVENT
BEGIN:VEVENT
DTSTART;TZID=America/New_York:20260812T200000
DTEND;TZID=America/New_York:20260812T210000
DTSTAMP:20260421T190257
CREATED:20251214T124857Z
LAST-MODIFIED:20251214T124857Z
UID:4804-1786564800-1786568400@franklincountyohioares.org
SUMMARY:Wednesday Weekly Net
DESCRIPTION:Join Franklin County Ohio ARES this Wednesday for an on-air meeting where topics related to ARES are discussed.  The meeting will take place on 147.060+ with a PL of 94.8 Hz. or 444.275+ with a PL 94.8 Hz.
URL:https://franklincountyohioares.org/event/wednesday-weekly-net-412/
LOCATION:Ohio
CATEGORIES:Weekly Net
END:VEVENT
BEGIN:VEVENT
DTSTART;TZID=America/New_York:20260819T200000
DTEND;TZID=America/New_York:20260819T210000
DTSTAMP:20260421T190257
CREATED:20251214T124857Z
LAST-MODIFIED:20251214T124857Z
UID:4805-1787169600-1787173200@franklincountyohioares.org
SUMMARY:In Person Meeting
DESCRIPTION:If you’re interested in Amateur Radio and want to find out what it is we do\, come to our meeting to find out more. John – N8PVCEmergency Coordinator\, Franklin County Ohio ARES
URL:https://franklincountyohioares.org/event/in-person-meeting-122/
LOCATION:Franklin County EMA\, 5300 Strawberry Farms Blvd\, Columbus\, OH\, 43230-1049\, United States
CATEGORIES:In Person,In Person Meeting
END:VEVENT
BEGIN:VEVENT
DTSTART;TZID=America/New_York:20260823T080000
DTEND;TZID=America/New_York:20260823T170000
DTSTAMP:20260421T190257
CREATED:20260207T153535Z
LAST-MODIFIED:20260207T153535Z
UID:5082-1787472000-1787504400@franklincountyohioares.org
SUMMARY:Ohio Health Grandview Yard 1/4 Marathon
DESCRIPTION:OhioHealth Grandview Yard Half & Quarter Marathon \nSign up information will come closer to event.
URL:https://franklincountyohioares.org/event/ohio-health-grandview-yard-1-4-marathon-2/
LOCATION:Capital City Half Marathon\, HIgh & Town Streets\, Columbus\, OH\, United States
CATEGORIES:Events
ORGANIZER;CN="Patrick Gibson KD8ION":MAILTO:kd8ion@gmail.com
END:VEVENT
BEGIN:VEVENT
DTSTART;TZID=America/New_York:20260826T200000
DTEND;TZID=America/New_York:20260826T210000
DTSTAMP:20260421T190257
CREATED:20251214T124857Z
LAST-MODIFIED:20251214T124857Z
UID:4806-1787774400-1787778000@franklincountyohioares.org
SUMMARY:Wednesday Weekly Net
DESCRIPTION:Join Franklin County Ohio ARES this Wednesday for an on-air meeting where topics related to ARES are discussed.  The meeting will take place on 147.060+ with a PL of 94.8 Hz. or 444.275+ with a PL 94.8 Hz.
URL:https://franklincountyohioares.org/event/wednesday-weekly-net-413/
LOCATION:Ohio
CATEGORIES:Weekly Net
END:VEVENT
BEGIN:VEVENT
DTSTART;TZID=America/New_York:20260902T200000
DTEND;TZID=America/New_York:20260902T210000
DTSTAMP:20260421T190257
CREATED:20251214T124857Z
LAST-MODIFIED:20251214T124857Z
UID:4807-1788379200-1788382800@franklincountyohioares.org
SUMMARY:Wednesday Weekly Net
DESCRIPTION:Join Franklin County Ohio ARES this Wednesday for an on-air meeting where topics related to ARES are discussed.  The meeting will take place on 147.060+ with a PL of 94.8 Hz. or 444.275+ with a PL 94.8 Hz.
URL:https://franklincountyohioares.org/event/wednesday-weekly-net-414/
LOCATION:Ohio
CATEGORIES:Weekly Net
END:VEVENT
BEGIN:VEVENT
DTSTART;VALUE=DATE:20260905
DTEND;VALUE=DATE:20260906
DTSTAMP:20260421T190257
CREATED:20260207T153938Z
LAST-MODIFIED:20260207T153938Z
UID:5084-1788566400-1788652799@franklincountyohioares.org
SUMMARY:Tri-the-Heights Youth Triathlon
DESCRIPTION:No information avaiiable
URL:https://franklincountyohioares.org/event/tri-the-heights-youth-triathlon/
LOCATION:Tri the Heights\, 1350 Goodale Blvd\, Grandview Heights\, OH\, 43212\, United States
CATEGORIES:Events
ORGANIZER;CN="Kal Dworkin - KA8RLC":MAILTO:KA8RLC@columbus.rr.com
END:VEVENT
BEGIN:VEVENT
DTSTART;TZID=America/New_York:20260909T200000
DTEND;TZID=America/New_York:20260909T210000
DTSTAMP:20260421T190257
CREATED:20251214T124907Z
LAST-MODIFIED:20251214T124907Z
UID:4808-1788984000-1788987600@franklincountyohioares.org
SUMMARY:Wednesday Weekly Net
DESCRIPTION:Join Franklin County Ohio ARES this Wednesday for an on-air meeting where topics related to ARES are discussed.  The meeting will take place on 147.060+ with a PL of 94.8 Hz. or 444.275+ with a PL 94.8 Hz.
URL:https://franklincountyohioares.org/event/wednesday-weekly-net-415/
LOCATION:Ohio
CATEGORIES:Weekly Net
END:VEVENT
BEGIN:VEVENT
DTSTART;TZID=America/New_York:20260916T193000
DTEND;TZID=America/New_York:20260916T210000
DTSTAMP:20260421T190257
CREATED:20251214T124907Z
LAST-MODIFIED:20251214T124907Z
UID:4809-1789587000-1789592400@franklincountyohioares.org
SUMMARY:In Person Meeting
DESCRIPTION:If you’re interested in Amateur Radio and want to find out what it is we do\, come to our meeting to find out more. John – N8PVCEmergency Coordinator\, Franklin County Ohio ARES
URL:https://franklincountyohioares.org/event/in-person-meeting-123/
LOCATION:Franklin County EMA\, 5300 Strawberry Farms Blvd\, Columbus\, OH\, 43230-1049\, United States
CATEGORIES:In Person,In Person Meeting
END:VEVENT
BEGIN:VEVENT
DTSTART;VALUE=DATE:20260919
DTEND;VALUE=DATE:20260920
DTSTAMP:20260421T190257
CREATED:20260207T154235Z
LAST-MODIFIED:20260207T154235Z
UID:5086-1789776000-1789862399@franklincountyohioares.org
SUMMARY:Ohio Fall Challenge at Deer Creek
DESCRIPTION:No information available.
URL:https://franklincountyohioares.org/event/ohio-fall-challenge-at-deer-creek/
LOCATION:DEER CREEK STATE PARK\, 20635 State Park Road 20\, Mount Sterling\, OH\, 43143\, United States
CATEGORIES:Events
ORGANIZER;CN="Brian Burlet-KE8ANW":MAILTO:ke8anw@yahoo.com
END:VEVENT
BEGIN:VEVENT
DTSTART;TZID=America/New_York:20260923T200000
DTEND;TZID=America/New_York:20260923T210000
DTSTAMP:20260421T190257
CREATED:20251214T124907Z
LAST-MODIFIED:20251214T124907Z
UID:4810-1790193600-1790197200@franklincountyohioares.org
SUMMARY:Wednesday Weekly Net
DESCRIPTION:Join Franklin County Ohio ARES this Wednesday for an on-air meeting where topics related to ARES are discussed.  The meeting will take place on 147.060+ with a PL of 94.8 Hz. or 444.275+ with a PL 94.8 Hz.
URL:https://franklincountyohioares.org/event/wednesday-weekly-net-416/
LOCATION:Ohio
CATEGORIES:Weekly Net
END:VEVENT
BEGIN:VEVENT
DTSTART;TZID=America/New_York:20260930T200000
DTEND;TZID=America/New_York:20260930T210000
DTSTAMP:20260421T190257
CREATED:20251214T124907Z
LAST-MODIFIED:20251214T124907Z
UID:4811-1790798400-1790802000@franklincountyohioares.org
SUMMARY:Wednesday Weekly Net
DESCRIPTION:Join Franklin County Ohio ARES this Wednesday for an on-air meeting where topics related to ARES are discussed.  The meeting will take place on 147.060+ with a PL of 94.8 Hz. or 444.275+ with a PL 94.8 Hz.
URL:https://franklincountyohioares.org/event/wednesday-weekly-net-417/
LOCATION:Ohio
CATEGORIES:Weekly Net
END:VEVENT
BEGIN:VEVENT
DTSTART;TZID=America/New_York:20261007T200000
DTEND;TZID=America/New_York:20261007T210000
DTSTAMP:20260421T190257
CREATED:20251214T124908Z
LAST-MODIFIED:20251214T124908Z
UID:4812-1791403200-1791406800@franklincountyohioares.org
SUMMARY:Wednesday Weekly Net
DESCRIPTION:Join Franklin County Ohio ARES this Wednesday for an on-air meeting where topics related to ARES are discussed.  The meeting will take place on 147.060+ with a PL of 94.8 Hz. or 444.275+ with a PL 94.8 Hz.
URL:https://franklincountyohioares.org/event/wednesday-weekly-net-418/
LOCATION:Ohio
CATEGORIES:Weekly Net
END:VEVENT
BEGIN:VEVENT
DTSTART;TZID=America/New_York:20261014T193000
DTEND;TZID=America/New_York:20261014T210000
DTSTAMP:20260421T190257
CREATED:20251214T124917Z
LAST-MODIFIED:20260207T161301Z
UID:4814-1792006200-1792011600@franklincountyohioares.org
SUMMARY:In Person Meeting
DESCRIPTION:If you’re interested in Amateur Radio and want to find out what it is we do\, come to our meeting to find out more. John – N8PVCEmergency Coordinator\, Franklin County Ohio ARES
URL:https://franklincountyohioares.org/event/in-person-meeting-124/
LOCATION:Franklin County EMA\, 5300 Strawberry Farms Blvd\, Columbus\, OH\, 43230-1049\, United States
CATEGORIES:In Person,In Person Meeting
END:VEVENT
BEGIN:VEVENT
DTSTART;TZID=America/New_York:20261018T080000
DTEND;TZID=America/New_York:20261018T170000
DTSTAMP:20260421T190257
CREATED:20260207T154432Z
LAST-MODIFIED:20260207T154432Z
UID:5088-1792310400-1792342800@franklincountyohioares.org
SUMMARY:Nationwide Children's Hospital Marathon
DESCRIPTION:Marathon | Nationwide Children’s Hospital Columbus Marathon \n  \nVolunteer information will happen closer to the event.
URL:https://franklincountyohioares.org/event/nationwide-childrens-hospital-marathon/
LOCATION:ANTRIM PARK\, 5800 Olentangy River Rd\, Columbus\, OH\, 43085\, United States
CATEGORIES:Events
ORGANIZER;CN="Kal Dworkin - KA8RLC":MAILTO:KA8RLC@columbus.rr.com
END:VEVENT
BEGIN:VEVENT
DTSTART;TZID=America/New_York:20261021T200000
DTEND;TZID=America/New_York:20261021T210000
DTSTAMP:20260421T190257
CREATED:20251214T124917Z
LAST-MODIFIED:20260207T161335Z
UID:4813-1792612800-1792616400@franklincountyohioares.org
SUMMARY:Wednesday Weekly Net
DESCRIPTION:Join Franklin County Ohio ARES this Wednesday for an on-air meeting where topics related to ARES are discussed.  The meeting will take place on 147.060+ with a PL of 94.8 Hz. or 444.275+ with a PL 94.8 Hz.
URL:https://franklincountyohioares.org/event/wednesday-weekly-net-419/
LOCATION:Ohio
CATEGORIES:Weekly Net
END:VEVENT
BEGIN:VEVENT
DTSTART;TZID=America/New_York:20261028T200000
DTEND;TZID=America/New_York:20261028T210000
DTSTAMP:20260421T190257
CREATED:20251214T124917Z
LAST-MODIFIED:20251214T124917Z
UID:4815-1793217600-1793221200@franklincountyohioares.org
SUMMARY:Wednesday Weekly Net
DESCRIPTION:Join Franklin County Ohio ARES this Wednesday for an on-air meeting where topics related to ARES are discussed.  The meeting will take place on 147.060+ with a PL of 94.8 Hz. or 444.275+ with a PL 94.8 Hz.
URL:https://franklincountyohioares.org/event/wednesday-weekly-net-420/
LOCATION:Ohio
CATEGORIES:Weekly Net
END:VEVENT
BEGIN:VEVENT
DTSTART;TZID=America/New_York:20261104T200000
DTEND;TZID=America/New_York:20261104T210000
DTSTAMP:20260421T190257
CREATED:20251214T124917Z
LAST-MODIFIED:20251214T124917Z
UID:4816-1793822400-1793826000@franklincountyohioares.org
SUMMARY:Wednesday Weekly Net
DESCRIPTION:Join Franklin County Ohio ARES this Wednesday for an on-air meeting where topics related to ARES are discussed.  The meeting will take place on 147.060+ with a PL of 94.8 Hz. or 444.275+ with a PL 94.8 Hz.
URL:https://franklincountyohioares.org/event/wednesday-weekly-net-421/
LOCATION:Ohio
CATEGORIES:Weekly Net
END:VEVENT
BEGIN:VEVENT
DTSTART;TZID=America/New_York:20261111T200000
DTEND;TZID=America/New_York:20261111T210000
DTSTAMP:20260421T190257
CREATED:20251214T124918Z
LAST-MODIFIED:20251214T124918Z
UID:4817-1794427200-1794430800@franklincountyohioares.org
SUMMARY:Wednesday Weekly Net
DESCRIPTION:Join Franklin County Ohio ARES this Wednesday for an on-air meeting where topics related to ARES are discussed.  The meeting will take place on 147.060+ with a PL of 94.8 Hz. or 444.275+ with a PL 94.8 Hz.
URL:https://franklincountyohioares.org/event/wednesday-weekly-net-422/
LOCATION:Ohio
CATEGORIES:Weekly Net
END:VEVENT
END:VCALENDAR