BEGIN:VCALENDAR
VERSION:2.0
PRODID:-//Franklin County Ohio Amateur Radio Emergency Service - ECPv6.15.20//NONSGML v1.0//EN
CALSCALE:GREGORIAN
METHOD:PUBLISH
X-WR-CALNAME:Franklin County Ohio Amateur Radio Emergency Service
X-ORIGINAL-URL:https://franklincountyohioares.org
X-WR-CALDESC:Events for Franklin County Ohio Amateur Radio Emergency Service
REFRESH-INTERVAL;VALUE=DURATION:PT1H
X-Robots-Tag:noindex
X-PUBLISHED-TTL:PT1H
BEGIN:VTIMEZONE
TZID:America/New_York
BEGIN:DAYLIGHT
TZOFFSETFROM:-0500
TZOFFSETTO:-0400
TZNAME:EDT
DTSTART:20220313T070000
END:DAYLIGHT
BEGIN:STANDARD
TZOFFSETFROM:-0400
TZOFFSETTO:-0500
TZNAME:EST
DTSTART:20221106T060000
END:STANDARD
BEGIN:DAYLIGHT
TZOFFSETFROM:-0500
TZOFFSETTO:-0400
TZNAME:EDT
DTSTART:20230312T070000
END:DAYLIGHT
BEGIN:STANDARD
TZOFFSETFROM:-0400
TZOFFSETTO:-0500
TZNAME:EST
DTSTART:20231105T060000
END:STANDARD
BEGIN:DAYLIGHT
TZOFFSETFROM:-0500
TZOFFSETTO:-0400
TZNAME:EDT
DTSTART:20240310T070000
END:DAYLIGHT
BEGIN:STANDARD
TZOFFSETFROM:-0400
TZOFFSETTO:-0500
TZNAME:EST
DTSTART:20241103T060000
END:STANDARD
BEGIN:DAYLIGHT
TZOFFSETFROM:-0500
TZOFFSETTO:-0400
TZNAME:EDT
DTSTART:20250309T070000
END:DAYLIGHT
BEGIN:STANDARD
TZOFFSETFROM:-0400
TZOFFSETTO:-0500
TZNAME:EST
DTSTART:20251102T060000
END:STANDARD
END:VTIMEZONE
BEGIN:VEVENT
DTSTART;TZID=America/New_York:20240516T080000
DTEND;TZID=America/New_York:20240516T170000
DTSTAMP:20260422T181727
CREATED:20240516T105545Z
LAST-MODIFIED:20240516T105545Z
UID:2595-1715846400-1715878800@franklincountyohioares.org
SUMMARY:Ohio Health Grandview Yard 1/4 Marathon
DESCRIPTION:
URL:https://franklincountyohioares.org/event/ohio-health-grandview-yard-1-4-marathon/
LOCATION:OH
CATEGORIES:Events
ORGANIZER;CN="Patrick Gibson KD8ION":MAILTO:kd8ion@gmail.com
END:VEVENT
BEGIN:VEVENT
DTSTART;TZID=America/New_York:20240515T193000
DTEND;TZID=America/New_York:20240515T210000
DTSTAMP:20260422T181727
CREATED:20231225T042339Z
LAST-MODIFIED:20240413T122319Z
UID:2468-1715801400-1715806800@franklincountyohioares.org
SUMMARY:In Person Meeting
DESCRIPTION:If you’re interested in Amateur Radio and want to find out what it is we do\, come to our meeting to find out more. John – N8PVCEmergency Coordinator\, Franklin County Ohio ARES
URL:https://franklincountyohioares.org/event/in-person-meeting-83/
LOCATION:Franklin County EMA\, 5300 Strawberry Farms Blvd\, Columbus\, OH\, 43230-1049\, United States
CATEGORIES:In Person,In Person Meeting
END:VEVENT
BEGIN:VEVENT
DTSTART;TZID=America/New_York:20240508T200000
DTEND;TZID=America/New_York:20240508T210000
DTSTAMP:20260422T181727
CREATED:20231225T042339Z
LAST-MODIFIED:20231225T042339Z
UID:2467-1715198400-1715202000@franklincountyohioares.org
SUMMARY:Wednesday Weekly Net
DESCRIPTION:Join Franklin County Ohio ARES this Wednesday for an on-air meeting where topics related to ARES are discussed.  The meeting will take place on 147.060+ with a PL of 94.8 Hz. or 444.275+ with a PL 94.8 Hz.
URL:https://franklincountyohioares.org/event/wednesday-weekly-net-286/
LOCATION:OH
CATEGORIES:Weekly Net
END:VEVENT
BEGIN:VEVENT
DTSTART;TZID=America/New_York:20240501T200000
DTEND;TZID=America/New_York:20240501T210000
DTSTAMP:20260422T181727
CREATED:20231225T042339Z
LAST-MODIFIED:20231225T042339Z
UID:2466-1714593600-1714597200@franklincountyohioares.org
SUMMARY:Wednesday Weekly Net
DESCRIPTION:Join Franklin County Ohio ARES this Wednesday for an on-air meeting where topics related to ARES are discussed.  The meeting will take place on 147.060+ with a PL of 94.8 Hz. or 444.275+ with a PL 94.8 Hz.
URL:https://franklincountyohioares.org/event/wednesday-weekly-net-285/
LOCATION:OH
CATEGORIES:Weekly Net
END:VEVENT
BEGIN:VEVENT
DTSTART;VALUE=DATE:20240427
DTEND;VALUE=DATE:20240428
DTSTAMP:20260422T181727
CREATED:20231227T141059Z
LAST-MODIFIED:20240417T153619Z
UID:2517-1714176000-1714262399@franklincountyohioares.org
SUMMARY:OhioHealth Capital City Half Marathon
DESCRIPTION:Click here to register for event: https://forms.gle/Rdyvd1whFh2yrBrD8
URL:https://franklincountyohioares.org/event/ohiohealth-capital-city-half-marathon/
LOCATION:Ohio Statehouse\, 1 Capitol Square\, Columbus\, OH\, 43215\, United States
CATEGORIES:Events
ORGANIZER;CN="Patrick Gibson KD8ION":MAILTO:kd8ion@gmail.com
END:VEVENT
BEGIN:VEVENT
DTSTART;TZID=America/New_York:20240424T200000
DTEND;TZID=America/New_York:20240424T210000
DTSTAMP:20260422T181727
CREATED:20231225T042339Z
LAST-MODIFIED:20231225T042339Z
UID:2465-1713988800-1713992400@franklincountyohioares.org
SUMMARY:Wednesday Weekly Net
DESCRIPTION:Join Franklin County Ohio ARES this Wednesday for an on-air meeting where topics related to ARES are discussed.  The meeting will take place on 147.060+ with a PL of 94.8 Hz. or 444.275+ with a PL 94.8 Hz.
URL:https://franklincountyohioares.org/event/wednesday-weekly-net-284/
LOCATION:OH
CATEGORIES:Weekly Net
END:VEVENT
BEGIN:VEVENT
DTSTART;TZID=America/New_York:20240417T193000
DTEND;TZID=America/New_York:20240417T210000
DTSTAMP:20260422T181727
CREATED:20231225T042339Z
LAST-MODIFIED:20231225T042339Z
UID:2464-1713382200-1713387600@franklincountyohioares.org
SUMMARY:In Person Meeting
DESCRIPTION:If you’re interested in Amateur Radio and want to find out what it is we do\, come to our meeting to find out more. John – N8PVCEmergency Coordinator\, Franklin County Ohio ARES
URL:https://franklincountyohioares.org/event/in-person-meeting-82/
LOCATION:Franklin County EMA\, 5300 Strawberry Farms Blvd\, Columbus\, OH\, 43230-1049\, United States
CATEGORIES:In Person,In Person Meeting
END:VEVENT
BEGIN:VEVENT
DTSTART;TZID=America/New_York:20240410T200000
DTEND;TZID=America/New_York:20240410T210000
DTSTAMP:20260422T181727
CREATED:20231225T042324Z
LAST-MODIFIED:20231225T042324Z
UID:2463-1712779200-1712782800@franklincountyohioares.org
SUMMARY:Wednesday Weekly Net
DESCRIPTION:Join Franklin County Ohio ARES this Wednesday for an on-air meeting where topics related to ARES are discussed.  The meeting will take place on 147.060+ with a PL of 94.8 Hz. or 444.275+ with a PL 94.8 Hz.
URL:https://franklincountyohioares.org/event/wednesday-weekly-net-283/
LOCATION:OH
CATEGORIES:Weekly Net
END:VEVENT
BEGIN:VEVENT
DTSTART;TZID=America/New_York:20240403T200000
DTEND;TZID=America/New_York:20240403T210000
DTSTAMP:20260422T181727
CREATED:20231225T042324Z
LAST-MODIFIED:20231225T042324Z
UID:2462-1712174400-1712178000@franklincountyohioares.org
SUMMARY:Wednesday Weekly Net
DESCRIPTION:Join Franklin County Ohio ARES this Wednesday for an on-air meeting where topics related to ARES are discussed.  The meeting will take place on 147.060+ with a PL of 94.8 Hz. or 444.275+ with a PL 94.8 Hz.
URL:https://franklincountyohioares.org/event/wednesday-weekly-net-282/
LOCATION:OH
CATEGORIES:Weekly Net
END:VEVENT
BEGIN:VEVENT
DTSTART;TZID=America/New_York:20240327T200000
DTEND;TZID=America/New_York:20240327T210000
DTSTAMP:20260422T181727
CREATED:20231225T042324Z
LAST-MODIFIED:20240321T100350Z
UID:2461-1711569600-1711573200@franklincountyohioares.org
SUMMARY:Wednesday Weekly Net
DESCRIPTION:Join Franklin County Ohio ARES this Wednesday for an on-air meeting where topics related to ARES are discussed.  The meeting will take place on 146.46 simplex.
URL:https://franklincountyohioares.org/event/wednesday-weekly-net-281/
LOCATION:OH
CATEGORIES:Weekly Net
END:VEVENT
BEGIN:VEVENT
DTSTART;TZID=America/New_York:20240320T190000
DTEND;TZID=America/New_York:20240320T210000
DTSTAMP:20260422T181727
CREATED:20231225T042324Z
LAST-MODIFIED:20240314T001922Z
UID:2460-1710961200-1710968400@franklincountyohioares.org
SUMMARY:In Person Meeting
DESCRIPTION:If you’re interested in Amateur Radio and want to find out what it is we do\, come to our meeting to find out more. John – N8PVCEmergency Coordinator\, Franklin County Ohio ARES
URL:https://franklincountyohioares.org/event/in-person-meeting-81/
LOCATION:Franklin County EMA\, 5300 Strawberry Farms Blvd\, Columbus\, OH\, 43230-1049\, United States
CATEGORIES:In Person,In Person Meeting
END:VEVENT
BEGIN:VEVENT
DTSTART;TZID=America/New_York:20240313T200000
DTEND;TZID=America/New_York:20240313T210000
DTSTAMP:20260422T181727
CREATED:20231225T042324Z
LAST-MODIFIED:20231225T042324Z
UID:2459-1710360000-1710363600@franklincountyohioares.org
SUMMARY:Wednesday Weekly Net
DESCRIPTION:Join Franklin County Ohio ARES this Wednesday for an on-air meeting where topics related to ARES are discussed.  The meeting will take place on 147.060+ with a PL of 94.8 Hz. or 444.275+ with a PL 94.8 Hz.
URL:https://franklincountyohioares.org/event/wednesday-weekly-net-280/
LOCATION:OH
CATEGORIES:Weekly Net
END:VEVENT
BEGIN:VEVENT
DTSTART;TZID=America/New_York:20240306T200000
DTEND;TZID=America/New_York:20240306T210000
DTSTAMP:20260422T181727
CREATED:20231225T042308Z
LAST-MODIFIED:20231225T042308Z
UID:2453-1709755200-1709758800@franklincountyohioares.org
SUMMARY:Wednesday Weekly Net
DESCRIPTION:Join Franklin County Ohio ARES this Wednesday for an on-air meeting where topics related to ARES are discussed.  The meeting will take place on 147.060+ with a PL of 94.8 Hz. or 444.275+ with a PL 94.8 Hz.
URL:https://franklincountyohioares.org/event/wednesday-weekly-net-279/
LOCATION:OH
CATEGORIES:Weekly Net
END:VEVENT
BEGIN:VEVENT
DTSTART;TZID=America/New_York:20240303T093000
DTEND;TZID=America/New_York:20240303T110000
DTSTAMP:20260422T181727
CREATED:20231224T164740Z
LAST-MODIFIED:20240125T011437Z
UID:2417-1709458200-1709463600@franklincountyohioares.org
SUMMARY:ARNOLD 5K PUMP & RUN
DESCRIPTION:Arnold Pump and Run
URL:https://franklincountyohioares.org/event/arnold-5k-pump-run/
LOCATION:Greater Columbus Convention Center\, 400 N High St\, Columbus\, Columbus\, OH\, 43215
CATEGORIES:Events
ORGANIZER;CN="Paul Flautt":MAILTO:kb8cmw@arrl.net
END:VEVENT
BEGIN:VEVENT
DTSTART;VALUE=DATE:20240301
DTEND;VALUE=DATE:20240304
DTSTAMP:20260422T181727
CREATED:20231220T021659Z
LAST-MODIFIED:20231220T022442Z
UID:2383-1709251200-1709510399@franklincountyohioares.org
SUMMARY:Arnold Sports Festival
DESCRIPTION:Sign Up Form
URL:https://franklincountyohioares.org/event/greater-columbus-convention-center/
LOCATION:Greater Columbus Convention Center\, 400 N High St\, Columbus\, Columbus\, OH\, 43215
CATEGORIES:Events
ORGANIZER;CN="Patrick Gibson KD8ION":MAILTO:kd8ion@gmail.com
END:VEVENT
BEGIN:VEVENT
DTSTART;TZID=America/New_York:20240228T200000
DTEND;TZID=America/New_York:20240228T210000
DTSTAMP:20260422T181727
CREATED:20231225T042308Z
LAST-MODIFIED:20231225T042308Z
UID:2452-1709150400-1709154000@franklincountyohioares.org
SUMMARY:Wednesday Weekly Net
DESCRIPTION:Join Franklin County Ohio ARES this Wednesday for an on-air meeting where topics related to ARES are discussed.  The meeting will take place on 147.060+ with a PL of 94.8 Hz. or 444.275+ with a PL 94.8 Hz.
URL:https://franklincountyohioares.org/event/wednesday-weekly-net-278/
LOCATION:OH
CATEGORIES:Weekly Net
END:VEVENT
BEGIN:VEVENT
DTSTART;TZID=America/New_York:20240221T193000
DTEND;TZID=America/New_York:20240221T210000
DTSTAMP:20260422T181727
CREATED:20231225T042307Z
LAST-MODIFIED:20231225T042308Z
UID:2451-1708543800-1708549200@franklincountyohioares.org
SUMMARY:In Person Meeting
DESCRIPTION:If you’re interested in Amateur Radio and want to find out what it is we do\, come to our meeting to find out more. John – N8PVCEmergency Coordinator\, Franklin County Ohio ARES
URL:https://franklincountyohioares.org/event/in-person-meeting-80/
LOCATION:Franklin County EMA\, 5300 Strawberry Farms Blvd\, Columbus\, OH\, 43230-1049\, United States
CATEGORIES:In Person,In Person Meeting
END:VEVENT
BEGIN:VEVENT
DTSTART;TZID=America/New_York:20240214T200000
DTEND;TZID=America/New_York:20240214T210000
DTSTAMP:20260422T181727
CREATED:20231225T042307Z
LAST-MODIFIED:20231225T042308Z
UID:2450-1707940800-1707944400@franklincountyohioares.org
SUMMARY:Wednesday Weekly Net
DESCRIPTION:Join Franklin County Ohio ARES this Wednesday for an on-air meeting where topics related to ARES are discussed.  The meeting will take place on 147.060+ with a PL of 94.8 Hz. or 444.275+ with a PL 94.8 Hz.
URL:https://franklincountyohioares.org/event/wednesday-weekly-net-277/
LOCATION:OH
CATEGORIES:Weekly Net
END:VEVENT
BEGIN:VEVENT
DTSTART;TZID=America/New_York:20240207T200000
DTEND;TZID=America/New_York:20240207T210000
DTSTAMP:20260422T181727
CREATED:20231225T042307Z
LAST-MODIFIED:20231225T042308Z
UID:2449-1707336000-1707339600@franklincountyohioares.org
SUMMARY:Wednesday Weekly Net
DESCRIPTION:Join Franklin County Ohio ARES this Wednesday for an on-air meeting where topics related to ARES are discussed.  The meeting will take place on 147.060+ with a PL of 94.8 Hz. or 444.275+ with a PL 94.8 Hz.
URL:https://franklincountyohioares.org/event/wednesday-weekly-net-276/
LOCATION:OH
CATEGORIES:Weekly Net
END:VEVENT
BEGIN:VEVENT
DTSTART;TZID=America/New_York:20240131T200000
DTEND;TZID=America/New_York:20240131T210000
DTSTAMP:20260422T181727
CREATED:20231225T042306Z
LAST-MODIFIED:20231225T042306Z
UID:2448-1706731200-1706734800@franklincountyohioares.org
SUMMARY:Wednesday Weekly Net
DESCRIPTION:Join Franklin County Ohio ARES this Wednesday for an on-air meeting where topics related to ARES are discussed.  The meeting will take place on 147.060+ with a PL of 94.8 Hz. or 444.275+ with a PL 94.8 Hz.
URL:https://franklincountyohioares.org/event/wednesday-weekly-net-275/
LOCATION:OH
CATEGORIES:Weekly Net
END:VEVENT
BEGIN:VEVENT
DTSTART;TZID=America/New_York:20240124T200000
DTEND;TZID=America/New_York:20240124T210000
DTSTAMP:20260422T181727
CREATED:20221210T134202Z
LAST-MODIFIED:20231225T042306Z
UID:2170-1706126400-1706130000@franklincountyohioares.org
SUMMARY:Wednesday Weekly Net
DESCRIPTION:Join Franklin County Ohio ARES this Wednesday for an on-air meeting where topics related to ARES are discussed.  The meeting will take place on 147.060+ with a PL of 94.8 Hz. or 444.275+ with a PL 94.8 Hz.
URL:https://franklincountyohioares.org/event/wednesday-weekly-net-274/
LOCATION:OH
CATEGORIES:Weekly Net
END:VEVENT
BEGIN:VEVENT
DTSTART;TZID=America/New_York:20240117T193000
DTEND;TZID=America/New_York:20240117T210000
DTSTAMP:20260422T181727
CREATED:20221210T134152Z
LAST-MODIFIED:20231225T042306Z
UID:2169-1705519800-1705525200@franklincountyohioares.org
SUMMARY:In Person Meeting
DESCRIPTION:If you’re interested in Amateur Radio and want to find out what it is we do\, come to our meeting to find out more. John – N8PVCEmergency Coordinator\, Franklin County Ohio ARES
URL:https://franklincountyohioares.org/event/in-person-meeting-79/
LOCATION:Franklin County EMA\, 5300 Strawberry Farms Blvd\, Columbus\, OH\, 43230-1049\, United States
CATEGORIES:In Person,In Person Meeting
END:VEVENT
BEGIN:VEVENT
DTSTART;TZID=America/New_York:20240110T200000
DTEND;TZID=America/New_York:20240110T210000
DTSTAMP:20260422T181727
CREATED:20221210T134151Z
LAST-MODIFIED:20231225T042306Z
UID:2168-1704916800-1704920400@franklincountyohioares.org
SUMMARY:Wednesday Weekly Net
DESCRIPTION:Join Franklin County Ohio ARES this Wednesday for an on-air meeting where topics related to ARES are discussed.  The meeting will take place on 147.060+ with a PL of 94.8 Hz. or 444.275+ with a PL 94.8 Hz.
URL:https://franklincountyohioares.org/event/wednesday-weekly-net-273/
LOCATION:OH
CATEGORIES:Weekly Net
END:VEVENT
BEGIN:VEVENT
DTSTART;TZID=America/New_York:20240103T200000
DTEND;TZID=America/New_York:20240103T210000
DTSTAMP:20260422T181727
CREATED:20221210T134151Z
LAST-MODIFIED:20231225T042306Z
UID:2167-1704312000-1704315600@franklincountyohioares.org
SUMMARY:Wednesday Weekly Net
DESCRIPTION:Join Franklin County Ohio ARES this Wednesday for an on-air meeting where topics related to ARES are discussed.  The meeting will take place on 147.060+ with a PL of 94.8 Hz. or 444.275+ with a PL 94.8 Hz.
URL:https://franklincountyohioares.org/event/wednesday-weekly-net-272/
LOCATION:OH
CATEGORIES:Weekly Net
END:VEVENT
BEGIN:VEVENT
DTSTART;TZID=America/New_York:20231227T200000
DTEND;TZID=America/New_York:20231227T210000
DTSTAMP:20260422T181727
CREATED:20221210T134150Z
LAST-MODIFIED:20221210T134150Z
UID:2166-1703707200-1703710800@franklincountyohioares.org
SUMMARY:Wednesday Weekly Net
DESCRIPTION:Join Franklin County Ohio ARES this Wednesday for an on-air meeting where topics related to ARES are discussed.  The meeting will take place on 147.060+ with a PL of 94.8 Hz. or 444.275+ with a PL 94.8 Hz.
URL:https://franklincountyohioares.org/event/wednesday-weekly-net-271/
LOCATION:OH
CATEGORIES:Weekly Net
END:VEVENT
BEGIN:VEVENT
DTSTART;TZID=America/New_York:20231220T200000
DTEND;TZID=America/New_York:20231220T210000
DTSTAMP:20260422T181727
CREATED:20221210T134149Z
LAST-MODIFIED:20231220T024450Z
UID:2165-1703102400-1703106000@franklincountyohioares.org
SUMMARY:Frankli County Ohio ARES in Person Meeting
DESCRIPTION:If you’re interested in Amateur Radio and want to find out what it is we do\, come to our meeting to find out more. John – N8PVCEmergency Coordinator\, Franklin County Ohio ARES.
URL:https://franklincountyohioares.org/event/wednesday-weekly-net-270/
LOCATION:FCEM&HS\, 5300 Strawberry Farms Blvd\, Columbus\, OH\, 43230-1049\, United States
CATEGORIES:In Person,In Person Meeting
END:VEVENT
BEGIN:VEVENT
DTSTART;TZID=America/New_York:20231213T200000
DTEND;TZID=America/New_York:20231213T210000
DTSTAMP:20260422T181727
CREATED:20221210T134130Z
LAST-MODIFIED:20221210T134130Z
UID:2164-1702497600-1702501200@franklincountyohioares.org
SUMMARY:Wednesday Weekly Net
DESCRIPTION:Join Franklin County Ohio ARES this Wednesday for an on-air meeting where topics related to ARES are discussed.  The meeting will take place on 147.060+ with a PL of 94.8 Hz. or 444.275+ with a PL 94.8 Hz.
URL:https://franklincountyohioares.org/event/wednesday-weekly-net-269/
LOCATION:OH
CATEGORIES:Weekly Net
END:VEVENT
BEGIN:VEVENT
DTSTART;TZID=America/New_York:20231206T200000
DTEND;TZID=America/New_York:20231206T210000
DTSTAMP:20260422T181727
CREATED:20221210T134129Z
LAST-MODIFIED:20221210T134129Z
UID:2163-1701892800-1701896400@franklincountyohioares.org
SUMMARY:Wednesday Weekly Net
DESCRIPTION:Join Franklin County Ohio ARES this Wednesday for an on-air meeting where topics related to ARES are discussed.  The meeting will take place on 147.060+ with a PL of 94.8 Hz. or 444.275+ with a PL 94.8 Hz.
URL:https://franklincountyohioares.org/event/wednesday-weekly-net-268/
LOCATION:OH
CATEGORIES:Weekly Net
END:VEVENT
BEGIN:VEVENT
DTSTART;TZID=America/New_York:20231129T200000
DTEND;TZID=America/New_York:20231129T210000
DTSTAMP:20260422T181727
CREATED:20221210T134129Z
LAST-MODIFIED:20221210T134129Z
UID:2162-1701288000-1701291600@franklincountyohioares.org
SUMMARY:Wednesday Weekly Net
DESCRIPTION:Join Franklin County Ohio ARES this Wednesday for an on-air meeting where topics related to ARES are discussed.  The meeting will take place on 147.060+ with a PL of 94.8 Hz. or 444.275+ with a PL 94.8 Hz.
URL:https://franklincountyohioares.org/event/wednesday-weekly-net-267/
LOCATION:OH
CATEGORIES:Weekly Net
END:VEVENT
BEGIN:VEVENT
DTSTART;TZID=America/New_York:20231122T200000
DTEND;TZID=America/New_York:20231122T210000
DTSTAMP:20260422T181727
CREATED:20221210T134129Z
LAST-MODIFIED:20221210T134129Z
UID:2161-1700683200-1700686800@franklincountyohioares.org
SUMMARY:Wednesday Weekly Net
DESCRIPTION:Join Franklin County Ohio ARES this Wednesday for an on-air meeting where topics related to ARES are discussed.  The meeting will take place on 147.060+ with a PL of 94.8 Hz. or 444.275+ with a PL 94.8 Hz.
URL:https://franklincountyohioares.org/event/wednesday-weekly-net-266/
LOCATION:OH
CATEGORIES:Weekly Net
END:VEVENT
END:VCALENDAR