BEGIN:VCALENDAR
VERSION:2.0
PRODID:-//Franklin County Ohio Amateur Radio Emergency Service - ECPv6.15.20//NONSGML v1.0//EN
CALSCALE:GREGORIAN
METHOD:PUBLISH
X-WR-CALNAME:Franklin County Ohio Amateur Radio Emergency Service
X-ORIGINAL-URL:https://franklincountyohioares.org
X-WR-CALDESC:Events for Franklin County Ohio Amateur Radio Emergency Service
REFRESH-INTERVAL;VALUE=DURATION:PT1H
X-Robots-Tag:noindex
X-PUBLISHED-TTL:PT1H
BEGIN:VTIMEZONE
TZID:America/New_York
BEGIN:DAYLIGHT
TZOFFSETFROM:-0500
TZOFFSETTO:-0400
TZNAME:EDT
DTSTART:20230312T070000
END:DAYLIGHT
BEGIN:STANDARD
TZOFFSETFROM:-0400
TZOFFSETTO:-0500
TZNAME:EST
DTSTART:20231105T060000
END:STANDARD
BEGIN:DAYLIGHT
TZOFFSETFROM:-0500
TZOFFSETTO:-0400
TZNAME:EDT
DTSTART:20240310T070000
END:DAYLIGHT
BEGIN:STANDARD
TZOFFSETFROM:-0400
TZOFFSETTO:-0500
TZNAME:EST
DTSTART:20241103T060000
END:STANDARD
BEGIN:DAYLIGHT
TZOFFSETFROM:-0500
TZOFFSETTO:-0400
TZNAME:EDT
DTSTART:20250309T070000
END:DAYLIGHT
BEGIN:STANDARD
TZOFFSETFROM:-0400
TZOFFSETTO:-0500
TZNAME:EST
DTSTART:20251102T060000
END:STANDARD
END:VTIMEZONE
BEGIN:VEVENT
DTSTART;TZID=America/New_York:20241023T200000
DTEND;TZID=America/New_York:20241023T210000
DTSTAMP:20260422T174819
CREATED:20231225T042501Z
LAST-MODIFIED:20231225T042501Z
UID:2491-1729713600-1729717200@franklincountyohioares.org
SUMMARY:Wednesday Weekly Net
DESCRIPTION:Join Franklin County Ohio ARES this Wednesday for an on-air meeting where topics related to ARES are discussed.  The meeting will take place on 147.060+ with a PL of 94.8 Hz. or 444.275+ with a PL 94.8 Hz.
URL:https://franklincountyohioares.org/event/wednesday-weekly-net-304/
CATEGORIES:Weekly Net
END:VEVENT
BEGIN:VEVENT
DTSTART;TZID=America/New_York:20241020T060000
DTEND;TZID=America/New_York:20241020T143000
DTSTAMP:20260422T174819
CREATED:20231220T021846Z
LAST-MODIFIED:20240918T235942Z
UID:2393-1729404000-1729434600@franklincountyohioares.org
SUMMARY:Columbus Marathon
DESCRIPTION:Volunteer Registration
URL:https://franklincountyohioares.org/event/arch-park-mcferson-commons-park/
LOCATION:Arch Park – McFerson Commons Park\, 218 West Street\, Columbus\, OH\, 43215\, United States
CATEGORIES:Events
ORGANIZER;CN="Kal Dworkin - KA8RLC":MAILTO:KA8RLC@columbus.rr.com
END:VEVENT
BEGIN:VEVENT
DTSTART;VALUE=DATE:20241017
DTEND;VALUE=DATE:20241018
DTSTAMP:20260422T174819
CREATED:20240516T110805Z
LAST-MODIFIED:20240516T110805Z
UID:2610-1729123200-1729209599@franklincountyohioares.org
SUMMARY:Great American Shake Out Earth Quake Drill
DESCRIPTION:
URL:https://franklincountyohioares.org/event/great-american-shake-out-earth-quake-drill/
CATEGORIES:Events
END:VEVENT
BEGIN:VEVENT
DTSTART;TZID=America/New_York:20241016T193000
DTEND;TZID=America/New_York:20241016T210000
DTSTAMP:20260422T174819
CREATED:20231225T042501Z
LAST-MODIFIED:20231225T042501Z
UID:2490-1729107000-1729112400@franklincountyohioares.org
SUMMARY:In Person Meeting
DESCRIPTION:If you’re interested in Amateur Radio and want to find out what it is we do\, come to our meeting to find out more. John – N8PVCEmergency Coordinator\, Franklin County Ohio ARES
URL:https://franklincountyohioares.org/event/in-person-meeting-88/
LOCATION:Franklin County EMA\, 5300 Strawberry Farms Blvd\, Columbus\, OH\, 43230-1049\, United States
CATEGORIES:In Person,In Person Meeting
END:VEVENT
BEGIN:VEVENT
DTSTART;VALUE=DATE:20241013
DTEND;VALUE=DATE:20241014
DTSTAMP:20260422T174819
CREATED:20240516T110707Z
LAST-MODIFIED:20240516T110707Z
UID:2608-1728777600-1728863999@franklincountyohioares.org
SUMMARY:Crop Walk
DESCRIPTION:
URL:https://franklincountyohioares.org/event/crop-walk/
LOCATION:Columbus Crop Walk\, 400 W. Whittier St\, Columbus\, OH\, 43215\, United States
CATEGORIES:Events
ORGANIZER;CN="Frank Huffman-K8OVP":MAILTO:K8OVP@arrl.net
END:VEVENT
BEGIN:VEVENT
DTSTART;VALUE=DATE:20241010
DTEND;VALUE=DATE:20241011
DTSTAMP:20260422T174819
CREATED:20240516T110454Z
LAST-MODIFIED:20240516T110507Z
UID:2603-1728518400-1728604799@franklincountyohioares.org
SUMMARY:CRAA FSE - Bolton Field
DESCRIPTION:
URL:https://franklincountyohioares.org/event/craa-fse-bolton-field/
LOCATION:Bolton Field\, 2000 Norton Rd\, Columbus\, OH\, 43228\, United States
CATEGORIES:Events
ORGANIZER;CN="Kal Dworkin - KA8RLC":MAILTO:KA8RLC@columbus.rr.com
END:VEVENT
BEGIN:VEVENT
DTSTART;TZID=America/New_York:20241009T200000
DTEND;TZID=America/New_York:20241009T210000
DTSTAMP:20260422T174819
CREATED:20231225T042501Z
LAST-MODIFIED:20231225T042501Z
UID:2489-1728504000-1728507600@franklincountyohioares.org
SUMMARY:Wednesday Weekly Net
DESCRIPTION:Join Franklin County Ohio ARES this Wednesday for an on-air meeting where topics related to ARES are discussed.  The meeting will take place on 147.060+ with a PL of 94.8 Hz. or 444.275+ with a PL 94.8 Hz.
URL:https://franklincountyohioares.org/event/wednesday-weekly-net-303/
CATEGORIES:Weekly Net
END:VEVENT
BEGIN:VEVENT
DTSTART;TZID=America/New_York:20241002T200000
DTEND;TZID=America/New_York:20241002T210000
DTSTAMP:20260422T174819
CREATED:20231225T042446Z
LAST-MODIFIED:20231225T042446Z
UID:2488-1727899200-1727902800@franklincountyohioares.org
SUMMARY:Wednesday Weekly Net
DESCRIPTION:Join Franklin County Ohio ARES this Wednesday for an on-air meeting where topics related to ARES are discussed.  The meeting will take place on 147.060+ with a PL of 94.8 Hz. or 444.275+ with a PL 94.8 Hz.
URL:https://franklincountyohioares.org/event/wednesday-weekly-net-302/
CATEGORIES:Weekly Net
END:VEVENT
BEGIN:VEVENT
DTSTART;TZID=America/New_York:20240925T200000
DTEND;TZID=America/New_York:20240925T210000
DTSTAMP:20260422T174819
CREATED:20231225T042446Z
LAST-MODIFIED:20231225T042446Z
UID:2487-1727294400-1727298000@franklincountyohioares.org
SUMMARY:Wednesday Weekly Net
DESCRIPTION:Join Franklin County Ohio ARES this Wednesday for an on-air meeting where topics related to ARES are discussed.  The meeting will take place on 147.060+ with a PL of 94.8 Hz. or 444.275+ with a PL 94.8 Hz.
URL:https://franklincountyohioares.org/event/wednesday-weekly-net-301/
CATEGORIES:Weekly Net
END:VEVENT
BEGIN:VEVENT
DTSTART;VALUE=DATE:20240922
DTEND;VALUE=DATE:20240923
DTSTAMP:20260422T174819
CREATED:20240814T023014Z
LAST-MODIFIED:20240814T172401Z
UID:2655-1726963200-1727049599@franklincountyohioares.org
SUMMARY:DEER CREEK OHIO FALL CHALLENGE
DESCRIPTION:Call
URL:https://franklincountyohioares.org/event/deer-creek-ohio-fall-challenge/
LOCATION:DEER CREEK STATE PARK\, 20635 State Park Road 20\, Mount Sterling\, OH\, 43143\, United States
CATEGORIES:Events
ORGANIZER;CN="Bradley Howard [KE8SVT]":MAILTO:bradley.howard8@icloud.com
END:VEVENT
BEGIN:VEVENT
DTSTART;TZID=America/New_York:20240918T193000
DTEND;TZID=America/New_York:20240918T210000
DTSTAMP:20260422T174819
CREATED:20231225T042446Z
LAST-MODIFIED:20231225T042446Z
UID:2486-1726687800-1726693200@franklincountyohioares.org
SUMMARY:In Person Meeting
DESCRIPTION:If you’re interested in Amateur Radio and want to find out what it is we do\, come to our meeting to find out more. John – N8PVCEmergency Coordinator\, Franklin County Ohio ARES
URL:https://franklincountyohioares.org/event/in-person-meeting-87/
LOCATION:Franklin County EMA\, 5300 Strawberry Farms Blvd\, Columbus\, OH\, 43230-1049\, United States
CATEGORIES:In Person,In Person Meeting
END:VEVENT
BEGIN:VEVENT
DTSTART;TZID=America/New_York:20240911T200000
DTEND;TZID=America/New_York:20240911T210000
DTSTAMP:20260422T174819
CREATED:20231225T042446Z
LAST-MODIFIED:20231225T042446Z
UID:2485-1726084800-1726088400@franklincountyohioares.org
SUMMARY:Wednesday Weekly Net
DESCRIPTION:Join Franklin County Ohio ARES this Wednesday for an on-air meeting where topics related to ARES are discussed.  The meeting will take place on 147.060+ with a PL of 94.8 Hz. or 444.275+ with a PL 94.8 Hz.
URL:https://franklincountyohioares.org/event/wednesday-weekly-net-300/
CATEGORIES:Weekly Net
END:VEVENT
BEGIN:VEVENT
DTSTART;TZID=America/New_York:20240904T200000
DTEND;TZID=America/New_York:20240904T210000
DTSTAMP:20260422T174819
CREATED:20231225T042446Z
LAST-MODIFIED:20231225T042446Z
UID:2484-1725480000-1725483600@franklincountyohioares.org
SUMMARY:Wednesday Weekly Net
DESCRIPTION:Join Franklin County Ohio ARES this Wednesday for an on-air meeting where topics related to ARES are discussed.  The meeting will take place on 147.060+ with a PL of 94.8 Hz. or 444.275+ with a PL 94.8 Hz.
URL:https://franklincountyohioares.org/event/wednesday-weekly-net-299/
CATEGORIES:Weekly Net
END:VEVENT
BEGIN:VEVENT
DTSTART;VALUE=DATE:20240831
DTEND;VALUE=DATE:20240901
DTSTAMP:20260422T174819
CREATED:20240516T105825Z
LAST-MODIFIED:20240516T105825Z
UID:2599-1725062400-1725148799@franklincountyohioares.org
SUMMARY:Tri The Heights (Kids Tri - HFP Racing)
DESCRIPTION:
URL:https://franklincountyohioares.org/event/tri-the-heights-kids-tri-hfp-racing/
CATEGORIES:Events
ORGANIZER;CN="Kal Dworkin - KA8RLC":MAILTO:KA8RLC@columbus.rr.com
END:VEVENT
BEGIN:VEVENT
DTSTART;VALUE=DATE:20240829
DTEND;VALUE=DATE:20240901
DTSTAMP:20260422T174819
CREATED:20240516T105711Z
LAST-MODIFIED:20240516T105711Z
UID:2597-1724889600-1725148799@franklincountyohioares.org
SUMMARY:Sweet Corn Festival
DESCRIPTION:
URL:https://franklincountyohioares.org/event/sweet-corn-festival-3/
LOCATION:Sweet Corn Festival\, 2718 Blacklick Eastern Rd.\, Millersport\, OH\, 43046\, United States
CATEGORIES:Events
END:VEVENT
BEGIN:VEVENT
DTSTART;TZID=America/New_York:20240828T200000
DTEND;TZID=America/New_York:20240828T210000
DTSTAMP:20260422T174819
CREATED:20231225T042431Z
LAST-MODIFIED:20231225T042431Z
UID:2483-1724875200-1724878800@franklincountyohioares.org
SUMMARY:Wednesday Weekly Net
DESCRIPTION:Join Franklin County Ohio ARES this Wednesday for an on-air meeting where topics related to ARES are discussed.  The meeting will take place on 147.060+ with a PL of 94.8 Hz. or 444.275+ with a PL 94.8 Hz.
URL:https://franklincountyohioares.org/event/wednesday-weekly-net-298/
CATEGORIES:Weekly Net
END:VEVENT
BEGIN:VEVENT
DTSTART;TZID=America/New_York:20240821T193000
DTEND;TZID=America/New_York:20240821T210000
DTSTAMP:20260422T174819
CREATED:20231225T042431Z
LAST-MODIFIED:20231225T042431Z
UID:2482-1724268600-1724274000@franklincountyohioares.org
SUMMARY:In Person Meeting
DESCRIPTION:If you’re interested in Amateur Radio and want to find out what it is we do\, come to our meeting to find out more. John – N8PVCEmergency Coordinator\, Franklin County Ohio ARES
URL:https://franklincountyohioares.org/event/in-person-meeting-86/
LOCATION:Franklin County EMA\, 5300 Strawberry Farms Blvd\, Columbus\, OH\, 43230-1049\, United States
CATEGORIES:In Person,In Person Meeting
END:VEVENT
BEGIN:VEVENT
DTSTART;TZID=America/New_York:20240818T070000
DTEND;TZID=America/New_York:20240818T120000
DTSTAMP:20260422T174819
CREATED:20240803T122516Z
LAST-MODIFIED:20240803T122543Z
UID:2649-1723964400-1723982400@franklincountyohioares.org
SUMMARY:Grandview Yard
DESCRIPTION:Signup Link
URL:https://franklincountyohioares.org/event/grandview-yard-2/
LOCATION:Grandview Yard\, 850 First Ave\, Grandview Heights\, OH\, 43212\, United States
CATEGORIES:Events
ORGANIZER;CN="Patrick Gibson KD8ION":MAILTO:kd8ion@gmail.com
END:VEVENT
BEGIN:VEVENT
DTSTART;TZID=America/New_York:20240814T200000
DTEND;TZID=America/New_York:20240814T210000
DTSTAMP:20260422T174819
CREATED:20231225T042430Z
LAST-MODIFIED:20231225T042430Z
UID:2481-1723665600-1723669200@franklincountyohioares.org
SUMMARY:Wednesday Weekly Net
DESCRIPTION:Join Franklin County Ohio ARES this Wednesday for an on-air meeting where topics related to ARES are discussed.  The meeting will take place on 147.060+ with a PL of 94.8 Hz. or 444.275+ with a PL 94.8 Hz.
URL:https://franklincountyohioares.org/event/wednesday-weekly-net-297/
CATEGORIES:Weekly Net
END:VEVENT
BEGIN:VEVENT
DTSTART;TZID=America/New_York:20240807T200000
DTEND;TZID=America/New_York:20240807T210000
DTSTAMP:20260422T174819
CREATED:20231225T042430Z
LAST-MODIFIED:20231225T042430Z
UID:2480-1723060800-1723064400@franklincountyohioares.org
SUMMARY:Wednesday Weekly Net
DESCRIPTION:Join Franklin County Ohio ARES this Wednesday for an on-air meeting where topics related to ARES are discussed.  The meeting will take place on 147.060+ with a PL of 94.8 Hz. or 444.275+ with a PL 94.8 Hz.
URL:https://franklincountyohioares.org/event/wednesday-weekly-net-296/
CATEGORIES:Weekly Net
END:VEVENT
BEGIN:VEVENT
DTSTART;VALUE=DATE:20240803
DTEND;VALUE=DATE:20240804
DTSTAMP:20260422T174819
CREATED:20240516T105422Z
LAST-MODIFIED:20240516T105422Z
UID:2593-1722643200-1722729599@franklincountyohioares.org
SUMMARY:Columbus Hamfest
DESCRIPTION:
URL:https://franklincountyohioares.org/event/columbus-hamfest/
LOCATION:Aladdin Shrine Center\, 1801 Gateway Cir\, Grove City\, OH\, 43123\, United States
CATEGORIES:Events
END:VEVENT
BEGIN:VEVENT
DTSTART;VALUE=DATE:20240802
DTEND;VALUE=DATE:20240805
DTSTAMP:20260422T174819
CREATED:20240516T105337Z
LAST-MODIFIED:20240516T105337Z
UID:2591-1722556800-1722815999@franklincountyohioares.org
SUMMARY:Pelotonia
DESCRIPTION:
URL:https://franklincountyohioares.org/event/pelotonia/
CATEGORIES:Events
END:VEVENT
BEGIN:VEVENT
DTSTART;TZID=America/New_York:20240731T200000
DTEND;TZID=America/New_York:20240731T210000
DTSTAMP:20260422T174819
CREATED:20231225T042430Z
LAST-MODIFIED:20231225T042430Z
UID:2479-1722456000-1722459600@franklincountyohioares.org
SUMMARY:Wednesday Weekly Net
DESCRIPTION:Join Franklin County Ohio ARES this Wednesday for an on-air meeting where topics related to ARES are discussed.  The meeting will take place on 147.060+ with a PL of 94.8 Hz. or 444.275+ with a PL 94.8 Hz.
URL:https://franklincountyohioares.org/event/wednesday-weekly-net-295/
CATEGORIES:Weekly Net
END:VEVENT
BEGIN:VEVENT
DTSTART;TZID=America/New_York:20240724T200000
DTEND;TZID=America/New_York:20240724T210000
DTSTAMP:20260422T174819
CREATED:20231225T042416Z
LAST-MODIFIED:20231225T042416Z
UID:2478-1721851200-1721854800@franklincountyohioares.org
SUMMARY:Wednesday Weekly Net
DESCRIPTION:Join Franklin County Ohio ARES this Wednesday for an on-air meeting where topics related to ARES are discussed.  The meeting will take place on 147.060+ with a PL of 94.8 Hz. or 444.275+ with a PL 94.8 Hz.
URL:https://franklincountyohioares.org/event/wednesday-weekly-net-294/
CATEGORIES:Weekly Net
END:VEVENT
BEGIN:VEVENT
DTSTART;TZID=America/New_York:20240717T193000
DTEND;TZID=America/New_York:20240717T210000
DTSTAMP:20260422T174819
CREATED:20231225T042416Z
LAST-MODIFIED:20231225T042416Z
UID:2477-1721244600-1721250000@franklincountyohioares.org
SUMMARY:In Person Meeting
DESCRIPTION:If you’re interested in Amateur Radio and want to find out what it is we do\, come to our meeting to find out more. John – N8PVCEmergency Coordinator\, Franklin County Ohio ARES
URL:https://franklincountyohioares.org/event/in-person-meeting-85/
LOCATION:Franklin County EMA\, 5300 Strawberry Farms Blvd\, Columbus\, OH\, 43230-1049\, United States
CATEGORIES:In Person,In Person Meeting
END:VEVENT
BEGIN:VEVENT
DTSTART;TZID=America/New_York:20240710T200000
DTEND;TZID=America/New_York:20240710T210000
DTSTAMP:20260422T174819
CREATED:20231225T042416Z
LAST-MODIFIED:20231225T042416Z
UID:2476-1720641600-1720645200@franklincountyohioares.org
SUMMARY:Wednesday Weekly Net
DESCRIPTION:Join Franklin County Ohio ARES this Wednesday for an on-air meeting where topics related to ARES are discussed.  The meeting will take place on 147.060+ with a PL of 94.8 Hz. or 444.275+ with a PL 94.8 Hz.
URL:https://franklincountyohioares.org/event/wednesday-weekly-net-293/
CATEGORIES:Weekly Net
END:VEVENT
BEGIN:VEVENT
DTSTART;VALUE=DATE:20240704
DTEND;VALUE=DATE:20240705
DTSTAMP:20260422T174819
CREATED:20240516T105217Z
LAST-MODIFIED:20240516T105217Z
UID:2589-1720051200-1720137599@franklincountyohioares.org
SUMMARY:Reynoldsburg July 4th Parade
DESCRIPTION:
URL:https://franklincountyohioares.org/event/reynoldsburg-july-4th-parade-2/
LOCATION:reynoldsburg
CATEGORIES:Events
ORGANIZER;CN="Kal Dworkin - KA8RLC":MAILTO:KA8RLC@columbus.rr.com
END:VEVENT
BEGIN:VEVENT
DTSTART;TZID=America/New_York:20240703T200000
DTEND;TZID=America/New_York:20240703T210000
DTSTAMP:20260422T174819
CREATED:20231225T042415Z
LAST-MODIFIED:20231225T042415Z
UID:2475-1720036800-1720040400@franklincountyohioares.org
SUMMARY:Wednesday Weekly Net
DESCRIPTION:Join Franklin County Ohio ARES this Wednesday for an on-air meeting where topics related to ARES are discussed.  The meeting will take place on 147.060+ with a PL of 94.8 Hz. or 444.275+ with a PL 94.8 Hz.
URL:https://franklincountyohioares.org/event/wednesday-weekly-net-292/
CATEGORIES:Weekly Net
END:VEVENT
BEGIN:VEVENT
DTSTART;TZID=America/New_York:20240626T200000
DTEND;TZID=America/New_York:20240626T210000
DTSTAMP:20260422T174819
CREATED:20231225T042415Z
LAST-MODIFIED:20231225T042415Z
UID:2474-1719432000-1719435600@franklincountyohioares.org
SUMMARY:Wednesday Weekly Net
DESCRIPTION:Join Franklin County Ohio ARES this Wednesday for an on-air meeting where topics related to ARES are discussed.  The meeting will take place on 147.060+ with a PL of 94.8 Hz. or 444.275+ with a PL 94.8 Hz.
URL:https://franklincountyohioares.org/event/wednesday-weekly-net-291/
CATEGORIES:Weekly Net
END:VEVENT
BEGIN:VEVENT
DTSTART;TZID=America/New_York:20240622T140000
DTEND;TZID=America/New_York:20240623T150000
DTSTAMP:20260422T174819
CREATED:20240516T104951Z
LAST-MODIFIED:20240516T105030Z
UID:2582-1719064800-1719154800@franklincountyohioares.org
SUMMARY:ARRL Field Day
DESCRIPTION:Depending on participation signups will be at Franklin County EMA.
URL:https://franklincountyohioares.org/event/arrl-field-day-9/
LOCATION:Franklin County EMA\, 5300 Strawberry Farms Blvd\, Columbus\, OH\, 43230-1049\, United States
CATEGORIES:Events
ORGANIZER;CN="Mike Myers":MAILTO:Mike.Myers@franklincountyohio.gov
END:VEVENT
END:VCALENDAR