BEGIN:VCALENDAR
VERSION:2.0
PRODID:-//Franklin County Ohio Amateur Radio Emergency Service - ECPv6.15.20//NONSGML v1.0//EN
CALSCALE:GREGORIAN
METHOD:PUBLISH
X-WR-CALNAME:Franklin County Ohio Amateur Radio Emergency Service
X-ORIGINAL-URL:https://franklincountyohioares.org
X-WR-CALDESC:Events for Franklin County Ohio Amateur Radio Emergency Service
REFRESH-INTERVAL;VALUE=DURATION:PT1H
X-Robots-Tag:noindex
X-PUBLISHED-TTL:PT1H
BEGIN:VTIMEZONE
TZID:America/New_York
BEGIN:DAYLIGHT
TZOFFSETFROM:-0500
TZOFFSETTO:-0400
TZNAME:EDT
DTSTART:20240310T070000
END:DAYLIGHT
BEGIN:STANDARD
TZOFFSETFROM:-0400
TZOFFSETTO:-0500
TZNAME:EST
DTSTART:20241103T060000
END:STANDARD
BEGIN:DAYLIGHT
TZOFFSETFROM:-0500
TZOFFSETTO:-0400
TZNAME:EDT
DTSTART:20250309T070000
END:DAYLIGHT
BEGIN:STANDARD
TZOFFSETFROM:-0400
TZOFFSETTO:-0500
TZNAME:EST
DTSTART:20251102T060000
END:STANDARD
BEGIN:DAYLIGHT
TZOFFSETFROM:-0500
TZOFFSETTO:-0400
TZNAME:EDT
DTSTART:20260308T070000
END:DAYLIGHT
BEGIN:STANDARD
TZOFFSETFROM:-0400
TZOFFSETTO:-0500
TZNAME:EST
DTSTART:20261101T060000
END:STANDARD
BEGIN:DAYLIGHT
TZOFFSETFROM:-0500
TZOFFSETTO:-0400
TZNAME:EDT
DTSTART:20270314T070000
END:DAYLIGHT
BEGIN:STANDARD
TZOFFSETFROM:-0400
TZOFFSETTO:-0500
TZNAME:EST
DTSTART:20271107T060000
END:STANDARD
END:VTIMEZONE
BEGIN:VEVENT
DTSTART;TZID=America/New_York:20260415T193000
DTEND;TZID=America/New_York:20260415T210000
DTSTAMP:20260421T152930
CREATED:20251214T124826Z
LAST-MODIFIED:20251214T124826Z
UID:4787-1776281400-1776286800@franklincountyohioares.org
SUMMARY:In Person Meeting
DESCRIPTION:If you’re interested in Amateur Radio and want to find out what it is we do\, come to our meeting to find out more. John – N8PVCEmergency Coordinator\, Franklin County Ohio ARES
URL:https://franklincountyohioares.org/event/in-person-meeting-118/
LOCATION:Franklin County EMA\, 5300 Strawberry Farms Blvd\, Columbus\, OH\, 43230-1049\, United States
CATEGORIES:In Person,In Person Meeting
END:VEVENT
BEGIN:VEVENT
DTSTART;TZID=America/New_York:20260408T200000
DTEND;TZID=America/New_York:20260408T210000
DTSTAMP:20260421T152930
CREATED:20251214T124826Z
LAST-MODIFIED:20251214T124826Z
UID:4786-1775678400-1775682000@franklincountyohioares.org
SUMMARY:Wednesday Weekly Net
DESCRIPTION:Join Franklin County Ohio ARES this Wednesday for an on-air meeting where topics related to ARES are discussed.  The meeting will take place on 147.060+ with a PL of 94.8 Hz. or 444.275+ with a PL 94.8 Hz.
URL:https://franklincountyohioares.org/event/wednesday-weekly-net-398/
LOCATION:OH
CATEGORIES:Weekly Net
END:VEVENT
BEGIN:VEVENT
DTSTART;TZID=America/New_York:20260401T200000
DTEND;TZID=America/New_York:20260401T210000
DTSTAMP:20260421T152930
CREATED:20251214T124825Z
LAST-MODIFIED:20251214T124825Z
UID:4785-1775073600-1775077200@franklincountyohioares.org
SUMMARY:Wednesday Weekly Net
DESCRIPTION:Join Franklin County Ohio ARES this Wednesday for an on-air meeting where topics related to ARES are discussed.  The meeting will take place on 147.060+ with a PL of 94.8 Hz. or 444.275+ with a PL 94.8 Hz.
URL:https://franklincountyohioares.org/event/wednesday-weekly-net-397/
LOCATION:OH
CATEGORIES:Weekly Net
END:VEVENT
BEGIN:VEVENT
DTSTART;TZID=America/New_York:20260325T193000
DTEND;TZID=America/New_York:20260325T210000
DTSTAMP:20260421T152930
CREATED:20251214T124825Z
LAST-MODIFIED:20260219T115536Z
UID:4783-1774467000-1774472400@franklincountyohioares.org
SUMMARY:In Person Meeting
DESCRIPTION:Not at normal location for meeting.  If you’re interested in Amateur Radio and want to find out what it is we do\, come to our meeting to find out more. John – N8PVCEmergency Coordinator\, Franklin County Ohio ARES. \n 
URL:https://franklincountyohioares.org/event/in-person-meeting-117/
LOCATION:Franklin County Forensic Science Center\, 2090 Frank Rd\, Columbus\, 43223\, United States
CATEGORIES:In Person,In Person Meeting
END:VEVENT
BEGIN:VEVENT
DTSTART;TZID=America/New_York:20260318T200000
DTEND;TZID=America/New_York:20260318T210000
DTSTAMP:20260421T152930
CREATED:20251214T124825Z
LAST-MODIFIED:20260219T113642Z
UID:4784-1773864000-1773867600@franklincountyohioares.org
SUMMARY:Wednesday Weekly Net
DESCRIPTION:Join Franklin County Ohio ARES this Wednesday for an on-air meeting where topics related to ARES are discussed.  The meeting will take place on 147.060+ with a PL of 94.8 Hz. or 444.275+ with a PL 94.8 Hz.
URL:https://franklincountyohioares.org/event/wednesday-weekly-net-396/
LOCATION:OH
CATEGORIES:Weekly Net
END:VEVENT
BEGIN:VEVENT
DTSTART;TZID=America/New_York:20260311T200000
DTEND;TZID=America/New_York:20260311T210000
DTSTAMP:20260421T152930
CREATED:20251214T124810Z
LAST-MODIFIED:20251214T124810Z
UID:4782-1773259200-1773262800@franklincountyohioares.org
SUMMARY:Wednesday Weekly Net
DESCRIPTION:Join Franklin County Ohio ARES this Wednesday for an on-air meeting where topics related to ARES are discussed.  The meeting will take place on 147.060+ with a PL of 94.8 Hz. or 444.275+ with a PL 94.8 Hz.
URL:https://franklincountyohioares.org/event/wednesday-weekly-net-395/
LOCATION:OH
CATEGORIES:Weekly Net
END:VEVENT
BEGIN:VEVENT
DTSTART;TZID=America/New_York:20260308T080000
DTEND;TZID=America/New_York:20260308T113000
DTSTAMP:20260421T152930
CREATED:20260115T011412Z
LAST-MODIFIED:20260115T011412Z
UID:4928-1772956800-1772969400@franklincountyohioares.org
SUMMARY:Arnold Pump and Run
DESCRIPTION:https://www.arnoldsports.com/sports-events/sports/dance-and-fitness/5k-pump-run/
URL:https://franklincountyohioares.org/event/arnold-pump-and-run-6/
LOCATION:Greater Columbus Convention Center\, 400 N High St\, Columbus\, Columbus\, OH\, 43215
CATEGORIES:Events
ORGANIZER;CN="Paul Flautt":MAILTO:kb8cmw@arrl.net
END:VEVENT
BEGIN:VEVENT
DTSTART;VALUE=DATE:20260306
DTEND;VALUE=DATE:20260309
DTSTAMP:20260421T152930
CREATED:20251113T012908Z
LAST-MODIFIED:20251113T013005Z
UID:4652-1772755200-1773014399@franklincountyohioares.org
SUMMARY:Arnold Sports Festival
DESCRIPTION:Volunteer Link \n  \nEvent Web Site
URL:https://franklincountyohioares.org/event/arnold-sports-festival-5/
LOCATION:Greater Columbus Convention Center\, 400 N High St\, Columbus\, Columbus\, OH\, 43215
CATEGORIES:Events
ORGANIZER;CN="Patrick Gibson KD8ION":MAILTO:kd8ion@gmail.com
END:VEVENT
BEGIN:VEVENT
DTSTART;TZID=America/New_York:20260304T200000
DTEND;TZID=America/New_York:20260304T210000
DTSTAMP:20260421T152930
CREATED:20251214T124810Z
LAST-MODIFIED:20251214T124810Z
UID:4781-1772654400-1772658000@franklincountyohioares.org
SUMMARY:Wednesday Weekly Net
DESCRIPTION:Join Franklin County Ohio ARES this Wednesday for an on-air meeting where topics related to ARES are discussed.  The meeting will take place on 147.060+ with a PL of 94.8 Hz. or 444.275+ with a PL 94.8 Hz.
URL:https://franklincountyohioares.org/event/wednesday-weekly-net-394/
LOCATION:OH
CATEGORIES:Weekly Net
END:VEVENT
BEGIN:VEVENT
DTSTART;TZID=America/New_York:20260225T200000
DTEND;TZID=America/New_York:20260225T210000
DTSTAMP:20260421T152930
CREATED:20251214T124810Z
LAST-MODIFIED:20251214T124810Z
UID:4780-1772049600-1772053200@franklincountyohioares.org
SUMMARY:Wednesday Weekly Net
DESCRIPTION:Join Franklin County Ohio ARES this Wednesday for an on-air meeting where topics related to ARES are discussed.  The meeting will take place on 147.060+ with a PL of 94.8 Hz. or 444.275+ with a PL 94.8 Hz.
URL:https://franklincountyohioares.org/event/wednesday-weekly-net-393/
LOCATION:OH
CATEGORIES:Weekly Net
END:VEVENT
BEGIN:VEVENT
DTSTART;TZID=America/New_York:20260218T193000
DTEND;TZID=America/New_York:20260218T210000
DTSTAMP:20260421T152930
CREATED:20251214T124810Z
LAST-MODIFIED:20251214T124810Z
UID:4779-1771443000-1771448400@franklincountyohioares.org
SUMMARY:In Person Meeting
DESCRIPTION:If you’re interested in Amateur Radio and want to find out what it is we do\, come to our meeting to find out more. John – N8PVCEmergency Coordinator\, Franklin County Ohio ARES
URL:https://franklincountyohioares.org/event/in-person-meeting-116/
LOCATION:Franklin County EMA\, 5300 Strawberry Farms Blvd\, Columbus\, OH\, 43230-1049\, United States
CATEGORIES:In Person,In Person Meeting
END:VEVENT
BEGIN:VEVENT
DTSTART;TZID=America/New_York:20260211T200000
DTEND;TZID=America/New_York:20260211T210000
DTSTAMP:20260421T152930
CREATED:20251214T124810Z
LAST-MODIFIED:20251214T124810Z
UID:4778-1770840000-1770843600@franklincountyohioares.org
SUMMARY:Wednesday Weekly Net
DESCRIPTION:Join Franklin County Ohio ARES this Wednesday for an on-air meeting where topics related to ARES are discussed.  The meeting will take place on 147.060+ with a PL of 94.8 Hz. or 444.275+ with a PL 94.8 Hz.
URL:https://franklincountyohioares.org/event/wednesday-weekly-net-392/
LOCATION:OH
CATEGORIES:Weekly Net
END:VEVENT
BEGIN:VEVENT
DTSTART;TZID=America/New_York:20260204T200000
DTEND;TZID=America/New_York:20260204T210000
DTSTAMP:20260421T152930
CREATED:20251214T124808Z
LAST-MODIFIED:20251214T124808Z
UID:4777-1770235200-1770238800@franklincountyohioares.org
SUMMARY:Wednesday Weekly Net
DESCRIPTION:Join Franklin County Ohio ARES this Wednesday for an on-air meeting where topics related to ARES are discussed.  The meeting will take place on 147.060+ with a PL of 94.8 Hz. or 444.275+ with a PL 94.8 Hz.
URL:https://franklincountyohioares.org/event/wednesday-weekly-net-391/
LOCATION:OH
CATEGORIES:Weekly Net
END:VEVENT
BEGIN:VEVENT
DTSTART;TZID=America/New_York:20260128T200000
DTEND;TZID=America/New_York:20260128T210000
DTSTAMP:20260421T152930
CREATED:20251214T124808Z
LAST-MODIFIED:20251214T124808Z
UID:4776-1769630400-1769634000@franklincountyohioares.org
SUMMARY:Wednesday Weekly Net
DESCRIPTION:Join Franklin County Ohio ARES this Wednesday for an on-air meeting where topics related to ARES are discussed.  The meeting will take place on 147.060+ with a PL of 94.8 Hz. or 444.275+ with a PL 94.8 Hz.
URL:https://franklincountyohioares.org/event/wednesday-weekly-net-390/
LOCATION:OH
CATEGORIES:Weekly Net
END:VEVENT
BEGIN:VEVENT
DTSTART;TZID=America/New_York:20260121T193000
DTEND;TZID=America/New_York:20260121T210000
DTSTAMP:20260421T152930
CREATED:20251214T124807Z
LAST-MODIFIED:20251214T124807Z
UID:4775-1769023800-1769029200@franklincountyohioares.org
SUMMARY:In Person Meeting
DESCRIPTION:If you’re interested in Amateur Radio and want to find out what it is we do\, come to our meeting to find out more. John – N8PVCEmergency Coordinator\, Franklin County Ohio ARES
URL:https://franklincountyohioares.org/event/in-person-meeting-115/
LOCATION:Franklin County EMA\, 5300 Strawberry Farms Blvd\, Columbus\, OH\, 43230-1049\, United States
CATEGORIES:In Person,In Person Meeting
END:VEVENT
BEGIN:VEVENT
DTSTART;TZID=America/New_York:20260114T200000
DTEND;TZID=America/New_York:20260114T210000
DTSTAMP:20260421T152930
CREATED:20251214T124807Z
LAST-MODIFIED:20251214T124807Z
UID:4774-1768420800-1768424400@franklincountyohioares.org
SUMMARY:Wednesday Weekly Net
DESCRIPTION:Join Franklin County Ohio ARES this Wednesday for an on-air meeting where topics related to ARES are discussed.  The meeting will take place on 147.060+ with a PL of 94.8 Hz. or 444.275+ with a PL 94.8 Hz.
URL:https://franklincountyohioares.org/event/wednesday-weekly-net-389/
LOCATION:OH
CATEGORIES:Weekly Net
END:VEVENT
BEGIN:VEVENT
DTSTART;TZID=America/New_York:20260114T193000
DTEND;TZID=America/New_York:20260114T210000
DTSTAMP:20260421T152930
CREATED:20241220T012820Z
LAST-MODIFIED:20241220T013624Z
UID:2833-1768419000-1768424400@franklincountyohioares.org
SUMMARY:In Person Meeting
DESCRIPTION:If you’re interested in Amateur Radio and want to find out what it is we do\, come to our meeting to find out more. John – N8PVCEmergency Coordinator\, Franklin County Ohio ARES
URL:https://franklincountyohioares.org/event/in-person-meeting-114/
LOCATION:Franklin County EMA\, 5300 Strawberry Farms Blvd\, Columbus\, OH\, 43230-1049\, United States
CATEGORIES:In Person,In Person Meeting
END:VEVENT
BEGIN:VEVENT
DTSTART;TZID=America/New_York:20260107T200000
DTEND;TZID=America/New_York:20260107T210000
DTSTAMP:20260421T152930
CREATED:20241220T012819Z
LAST-MODIFIED:20251214T124807Z
UID:2832-1767816000-1767819600@franklincountyohioares.org
SUMMARY:Wednesday Weekly Net
DESCRIPTION:Join Franklin County Ohio ARES this Wednesday for an on-air meeting where topics related to ARES are discussed.  The meeting will take place on 147.060+ with a PL of 94.8 Hz. or 444.275+ with a PL 94.8 Hz.
URL:https://franklincountyohioares.org/event/wednesday-weekly-net-388/
LOCATION:OH
CATEGORIES:Weekly Net
END:VEVENT
BEGIN:VEVENT
DTSTART;TZID=America/New_York:20251231T200000
DTEND;TZID=America/New_York:20251231T210000
DTSTAMP:20260421T152930
CREATED:20241220T012819Z
LAST-MODIFIED:20241220T013624Z
UID:2831-1767211200-1767214800@franklincountyohioares.org
SUMMARY:Wednesday Weekly Net
DESCRIPTION:Join Franklin County Ohio ARES this Wednesday for an on-air meeting where topics related to ARES are discussed.  The meeting will take place on 147.060+ with a PL of 94.8 Hz. or 444.275+ with a PL 94.8 Hz.
URL:https://franklincountyohioares.org/event/wednesday-weekly-net-387/
LOCATION:OH
CATEGORIES:Weekly Net
END:VEVENT
BEGIN:VEVENT
DTSTART;TZID=America/New_York:20251224T200000
DTEND;TZID=America/New_York:20251224T210000
DTSTAMP:20260421T152930
CREATED:20241220T012819Z
LAST-MODIFIED:20241220T013624Z
UID:2830-1766606400-1766610000@franklincountyohioares.org
SUMMARY:Wednesday Weekly Net
DESCRIPTION:Join Franklin County Ohio ARES this Wednesday for an on-air meeting where topics related to ARES are discussed.  The meeting will take place on 147.060+ with a PL of 94.8 Hz. or 444.275+ with a PL 94.8 Hz.
URL:https://franklincountyohioares.org/event/wednesday-weekly-net-386/
LOCATION:OH
CATEGORIES:Weekly Net
END:VEVENT
BEGIN:VEVENT
DTSTART;TZID=America/New_York:20251217T193000
DTEND;TZID=America/New_York:20251217T210000
DTSTAMP:20260421T152930
CREATED:20241220T012819Z
LAST-MODIFIED:20241220T013624Z
UID:2829-1765999800-1766005200@franklincountyohioares.org
SUMMARY:In Person Meeting
DESCRIPTION:If you’re interested in Amateur Radio and want to find out what it is we do\, come to our meeting to find out more. John – N8PVCEmergency Coordinator\, Franklin County Ohio ARES
URL:https://franklincountyohioares.org/event/in-person-meeting-113/
LOCATION:Franklin County EMA\, 5300 Strawberry Farms Blvd\, Columbus\, OH\, 43230-1049\, United States
CATEGORIES:In Person,In Person Meeting
END:VEVENT
BEGIN:VEVENT
DTSTART;TZID=America/New_York:20251210T200000
DTEND;TZID=America/New_York:20251210T210000
DTSTAMP:20260421T152930
CREATED:20241209T165338Z
LAST-MODIFIED:20241220T013609Z
UID:2757-1765396800-1765400400@franklincountyohioares.org
SUMMARY:Wednesday Weekly Net
DESCRIPTION:Join Franklin County Ohio ARES this Wednesday for an on-air meeting where topics related to ARES are discussed.  The meeting will take place on 147.060+ with a PL of 94.8 Hz. or 444.275+ with a PL 94.8 Hz.
URL:https://franklincountyohioares.org/event/wednesday-weekly-net-350/
LOCATION:OH
CATEGORIES:Weekly Net
END:VEVENT
BEGIN:VEVENT
DTSTART;TZID=America/New_York:20251203T200000
DTEND;TZID=America/New_York:20251203T210000
DTSTAMP:20260421T152930
CREATED:20241220T012804Z
LAST-MODIFIED:20241220T013609Z
UID:2827-1764792000-1764795600@franklincountyohioares.org
SUMMARY:Wednesday Weekly Net
DESCRIPTION:Join Franklin County Ohio ARES this Wednesday for an on-air meeting where topics related to ARES are discussed.  The meeting will take place on 147.060+ with a PL of 94.8 Hz. or 444.275+ with a PL 94.8 Hz.
URL:https://franklincountyohioares.org/event/wednesday-weekly-net-385/
LOCATION:OH
CATEGORIES:Weekly Net
END:VEVENT
BEGIN:VEVENT
DTSTART;TZID=America/New_York:20251126T200000
DTEND;TZID=America/New_York:20251126T210000
DTSTAMP:20260421T152930
CREATED:20241220T012804Z
LAST-MODIFIED:20241220T013609Z
UID:2826-1764187200-1764190800@franklincountyohioares.org
SUMMARY:Wednesday Weekly Net
DESCRIPTION:Join Franklin County Ohio ARES this Wednesday for an on-air meeting where topics related to ARES are discussed.  The meeting will take place on 147.060+ with a PL of 94.8 Hz. or 444.275+ with a PL 94.8 Hz.
URL:https://franklincountyohioares.org/event/wednesday-weekly-net-384/
LOCATION:OH
CATEGORIES:Weekly Net
END:VEVENT
BEGIN:VEVENT
DTSTART;TZID=America/New_York:20251122T090000
DTEND;TZID=America/New_York:20251122T160000
DTSTAMP:20260421T152930
CREATED:20251001T235318Z
LAST-MODIFIED:20251001T235318Z
UID:4471-1763802000-1763827200@franklincountyohioares.org
SUMMARY:ARES Conference
DESCRIPTION:Here is the information for conference.
URL:https://franklincountyohioares.org/event/ares-conference/
LOCATION:OSU/COTC Newark\, 1219 University Dr. Newark\, Ohio 43055\, 1219 University Dr.\, Newark\, OH\, 43055\, United States
CATEGORIES:Events
END:VEVENT
BEGIN:VEVENT
DTSTART;TZID=America/New_York:20251119T193000
DTEND;TZID=America/New_York:20251119T210000
DTSTAMP:20260421T152930
CREATED:20241220T012804Z
LAST-MODIFIED:20241220T013609Z
UID:2825-1763580600-1763586000@franklincountyohioares.org
SUMMARY:In Person Meeting
DESCRIPTION:If you’re interested in Amateur Radio and want to find out what it is we do\, come to our meeting to find out more. John – N8PVCEmergency Coordinator\, Franklin County Ohio ARES
URL:https://franklincountyohioares.org/event/in-person-meeting-112/
LOCATION:Franklin County EMA\, 5300 Strawberry Farms Blvd\, Columbus\, OH\, 43230-1049\, United States
CATEGORIES:In Person,In Person Meeting
END:VEVENT
BEGIN:VEVENT
DTSTART;TZID=America/New_York:20251112T200000
DTEND;TZID=America/New_York:20251112T210000
DTSTAMP:20260421T152930
CREATED:20241220T012804Z
LAST-MODIFIED:20241220T013609Z
UID:2824-1762977600-1762981200@franklincountyohioares.org
SUMMARY:Wednesday Weekly Net
DESCRIPTION:Join Franklin County Ohio ARES this Wednesday for an on-air meeting where topics related to ARES are discussed.  The meeting will take place on 147.060+ with a PL of 94.8 Hz. or 444.275+ with a PL 94.8 Hz.
URL:https://franklincountyohioares.org/event/wednesday-weekly-net-383/
LOCATION:OH
CATEGORIES:Weekly Net
END:VEVENT
BEGIN:VEVENT
DTSTART;TZID=America/New_York:20251105T200000
DTEND;TZID=America/New_York:20251105T210000
DTSTAMP:20260421T152930
CREATED:20241220T012750Z
LAST-MODIFIED:20241220T013554Z
UID:2823-1762372800-1762376400@franklincountyohioares.org
SUMMARY:Wednesday Weekly Net
DESCRIPTION:Join Franklin County Ohio ARES this Wednesday for an on-air meeting where topics related to ARES are discussed.  The meeting will take place on 147.060+ with a PL of 94.8 Hz. or 444.275+ with a PL 94.8 Hz.
URL:https://franklincountyohioares.org/event/wednesday-weekly-net-382/
LOCATION:OH
CATEGORIES:Weekly Net
END:VEVENT
BEGIN:VEVENT
DTSTART;TZID=America/New_York:20251029T200000
DTEND;TZID=America/New_York:20251029T210000
DTSTAMP:20260421T152930
CREATED:20241220T012750Z
LAST-MODIFIED:20241220T013554Z
UID:2822-1761768000-1761771600@franklincountyohioares.org
SUMMARY:Wednesday Weekly Net
DESCRIPTION:Join Franklin County Ohio ARES this Wednesday for an on-air meeting where topics related to ARES are discussed.  The meeting will take place on 147.060+ with a PL of 94.8 Hz. or 444.275+ with a PL 94.8 Hz.
URL:https://franklincountyohioares.org/event/wednesday-weekly-net-381/
LOCATION:OH
CATEGORIES:Weekly Net
END:VEVENT
BEGIN:VEVENT
DTSTART;TZID=America/New_York:20251022T200000
DTEND;TZID=America/New_York:20251022T210000
DTSTAMP:20260421T152930
CREATED:20241220T012749Z
LAST-MODIFIED:20241220T013554Z
UID:2821-1761163200-1761166800@franklincountyohioares.org
SUMMARY:Wednesday Weekly Net
DESCRIPTION:Join Franklin County Ohio ARES this Wednesday for an on-air meeting where topics related to ARES are discussed.  The meeting will take place on 147.060+ with a PL of 94.8 Hz. or 444.275+ with a PL 94.8 Hz.
URL:https://franklincountyohioares.org/event/wednesday-weekly-net-380/
LOCATION:OH
CATEGORIES:Weekly Net
END:VEVENT
END:VCALENDAR