BEGIN:VCALENDAR
VERSION:2.0
PRODID:-//Franklin County Ohio Amateur Radio Emergency Service - ECPv6.15.20//NONSGML v1.0//EN
CALSCALE:GREGORIAN
METHOD:PUBLISH
X-WR-CALNAME:Franklin County Ohio Amateur Radio Emergency Service
X-ORIGINAL-URL:https://franklincountyohioares.org
X-WR-CALDESC:Events for Franklin County Ohio Amateur Radio Emergency Service
REFRESH-INTERVAL;VALUE=DURATION:PT1H
X-Robots-Tag:noindex
X-PUBLISHED-TTL:PT1H
BEGIN:VTIMEZONE
TZID:America/New_York
BEGIN:DAYLIGHT
TZOFFSETFROM:-0500
TZOFFSETTO:-0400
TZNAME:EDT
DTSTART:20160313T070000
END:DAYLIGHT
BEGIN:STANDARD
TZOFFSETFROM:-0400
TZOFFSETTO:-0500
TZNAME:EST
DTSTART:20161106T060000
END:STANDARD
BEGIN:DAYLIGHT
TZOFFSETFROM:-0500
TZOFFSETTO:-0400
TZNAME:EDT
DTSTART:20170312T070000
END:DAYLIGHT
BEGIN:STANDARD
TZOFFSETFROM:-0400
TZOFFSETTO:-0500
TZNAME:EST
DTSTART:20171105T060000
END:STANDARD
BEGIN:DAYLIGHT
TZOFFSETFROM:-0500
TZOFFSETTO:-0400
TZNAME:EDT
DTSTART:20180311T070000
END:DAYLIGHT
BEGIN:STANDARD
TZOFFSETFROM:-0400
TZOFFSETTO:-0500
TZNAME:EST
DTSTART:20181104T060000
END:STANDARD
BEGIN:DAYLIGHT
TZOFFSETFROM:-0500
TZOFFSETTO:-0400
TZNAME:EDT
DTSTART:20190310T070000
END:DAYLIGHT
BEGIN:STANDARD
TZOFFSETFROM:-0400
TZOFFSETTO:-0500
TZNAME:EST
DTSTART:20191103T060000
END:STANDARD
END:VTIMEZONE
BEGIN:VEVENT
DTSTART;TZID=America/New_York:20180514T193000
DTEND;TZID=America/New_York:20180514T210000
DTSTAMP:20260423T104235
CREATED:20180430T232325Z
LAST-MODIFIED:20180501T200955Z
UID:592-1526326200-1526331600@franklincountyohioares.org
SUMMARY:AEC Advisory Team Meeting
DESCRIPTION:AECs\, refer to email for details.
URL:https://franklincountyohioares.org/event/aec-advisory-team-meeting/
CATEGORIES:Meetings
END:VEVENT
BEGIN:VEVENT
DTSTART;TZID=America/New_York:20170625T000000
DTEND;TZID=America/New_York:20170625T160000
DTSTAMP:20260423T104235
CREATED:20170610T231533Z
LAST-MODIFIED:20170610T231533Z
UID:135-1498348800-1498406400@franklincountyohioares.org
SUMMARY:ARRL 2017 FCOH ARES Field Day
DESCRIPTION:
URL:https://franklincountyohioares.org/event/arrl-2017-fcoh-ares-field-day-2/
LOCATION:FCEM&HS\, 5300 Strawberry Farms Blvd\, Columbus\, OH\, 43230-1049\, United States
CATEGORIES:Events,In Person,Meetings,Misc
END:VEVENT
BEGIN:VEVENT
DTSTART;TZID=America/New_York:20170624T120000
DTEND;TZID=America/New_York:20170624T235900
DTSTAMP:20260423T104235
CREATED:20170610T231225Z
LAST-MODIFIED:20170610T234342Z
UID:132-1498305600-1498348740@franklincountyohioares.org
SUMMARY:ARRL 2017 FCOH ARES Field Day
DESCRIPTION:
URL:https://franklincountyohioares.org/event/arrl-2017-fcoh-ares-field-day/
LOCATION:FCEM&HS\, 5300 Strawberry Farms Blvd\, Columbus\, OH\, 43230-1049\, United States
CATEGORIES:Events,In Person,Meetings,Misc
END:VEVENT
END:VCALENDAR